Workbook

Sheet Anlagen
Q1: Nein | AL1: O:Ott B:Bosch | BK1: Sick Scannerbrücke
A2: Prüfen! | B2: Verschrottet | C2: SN geändert | F2: SN nicht vergeben | AL2: Zahnrad Motor-Riemen-Zahnrad Welle | AS2: 230V/100V | AV2: Siemens | AX2: Siemens Sondertyp | BC2: auf 1-Zylinder umgebaut? | BH2: Symbol | BK2: LS...... | BQ2: LPD5 | CA2: alt: Avenier | CB2: alt: Throl 50mm | CC2: alt groß: Teli (2 Schalter und 2 Stecker) | CG2: Grün=INA | CH2: Nein | CK2: Faebi 150: | CL2: 1280, 1080, 1300
A3: In Bearbeitung | B3: Update raus | Q3: U:\Dokumentationen\Doku Intern\Dokumentation PC\PC-Archivierung.xls | Y3: Bosch + 2x Driveroll Band 3 | AD3: VRDM3913 Motorplatte mit Gewinde. Siehe Bilder 12_2024 | AL3: Auswahltabelle | AN3: S7-1515F-2 PN | AW3: vom Kunde | AX3: 300W Rittal | AZ3: Lüfter | BH3: Datalogic PD9630 | BK3: Kabel vorbereitet | CA3: neu: Pentax | CB3: ab SN261: CPN-S | CC3: alt klein: Teli (Mäuseklavier und 1 Stecker) | CG3: Schw=Rexroth | CK3: Faebi 200: | CL3: 1680 | CO3: ??
A4: Auswahlhilfstabellen unter Tabelle | D4: Zum Erstellen: Daten-->Gültigkeit-->Liste | N4: Software | U4: Mechanik | AP4: Elektrik | AS4: 1769-L35E V19 + 750-881 | BE4: Vakuumsystem | BL4: Meßtechnik | BT4: Overview Videocable | CC4: neu: Jai (3 Stecker) | CG4: Grün? Kunde (Bild) | CK4: Faebi 430: | CL4: OTR
P5: Spezial OTR | CB5: 2-teilig: Throl | CK5: BiAir 2-ED/HE | CL5: ca. 2008-2017
CB6: 1-teilig: CPN-S (Schneider) | CK6: BiAir 1,5-ED/HE | CL6: bis ca. 2008 und ab ca. 2017
F7: Kunde | J7: Auslieferungsdatum | U7: Motoren | AC7: Rotate | AE7: Lift | AG7: Shift | AI7: Tilt | AK7: Mechanik | AP7: Spannung | AT7: Leistungsstufen, Ansteuerung | AX7: Frequenzumrichter | AY7: Frequenzumrichter | BL7: Lasersteuergerät | BR7: Kabel | BT7: Videokabel | BV7: Meßkopf
AK8: Länge Kette | BQ8: Verteiler | BV8: Seriennummer | CG8: Hersteller | CJ8: Isolatoren | CK8: Isolatoren | CL8: Luftdruck | CM8: Luftdruck | CN8: Luftdruck | CO8: Letzter Austausch | CS8: Zählerstände
A9: Seriennr. | B9: Typ | C9: Ausführung | D9: Größe | E9: TOF | F9: Name | G9: Stadt | H9: Land | I9: Konzern | J9: KW | K9: Jahr | L9: Anzahl Meßköpfe | M9: Anzahl Achsen | N9: ITTMes/View | O9: PLC Softw.Gen. | P9: PLC Softw. Version | Q9: CU-Nummer | R9: Dongle Nr. | S9: Konturmessung | T9: Sonstige | U9: Internes Band | V9: TOF | W9: Echternach | X9: Belader | Y9: Förderbänder | Z9: 90° Module | AC9: Typ | AD9: Nr | AE9: Typ | AF9: Nr | AG9: Typ | AH9: Nr | AI9: Typ | AJ9: Nr | AK9: TOF spannen | AL9: Riemen 90° Modul | AN9: Sonstiges | AP9: Versorgung | AQ9: Intern | AR9: Steuerung | AS9: Controller | AT9: Rotate | AU9: Lift | AV9: Shift | AW9: Tilt | AX9: Förderbänder | AY9: TOF | AZ9: Trittmatte | BB9: Klimatisierung | BC9: USV | BE9: Pumpenhersteller | BF9: Typ | BG9: Leistung | BH9: Schnellbelüftungsventil | BI9: Ventileinheit | BK9: Barcodescanner | BL9: Typ | BM9: Seriennummer | BN9: SN 1. PD1 | BO9: SN 1. PD2 | BP9: SN 1. PD3 | BQ9: Box | BR9: Diodenkabel | BS9: Länge | BT9: Typen | BU9: Länge | BV9: MK #1 | BW9: MK #2 | BX9: MK #3 | BY9: Diodenkennung | BZ9: Dioden pro Kopf | CA9: Objektiv | CB9: Interne Optik | CC9: Kamera | CD9: Shearwinkel | CE9: Piezo | CF9: Kalibrierblock | CG9: Führungen | CH9: Drehlager | CI9: Portal Innenleben | CJ9: Hersteller | CK9: Typ | CL9: Systemdruck | CM9: TOF Klemmung | CN9: Isolatoren | CO9: Messkopf/Dioden | CP9: bei Betriebsstunden | CQ9: am | CR9: Stand | CS9: Zyklen | CT9: Betriebsstunden | CU9: Besonderheiten, Sonstiges
A13: ITT#001 | B13: ITT2 | D13: 1300 | E13: Nein | F13: Kalt Pneu | H13: Tschechien | J13: 12 | K13: 2011 | L13: 1 | M13: 4 | N13: 18.05 G1 | O13: G1 | P13: 4A-Count/Ilunten/Stand 7.0 | Q13: 1718 | R13: 656 | U13: Ott 24V | X13: Engel | AC13: Schneider Electric | AD13: VRDM3910 | AE13: Schneider Electric | AF13: VRDM397 | AG13: Schneider Electric | AH13: VRDM397 | AI13: Schneider Electric | AJ13: VRDM368 | AP13: 380-500V;3~ | AQ13: 230V | AR13: S5 | AS13: S95U | AT13: SD326R U25 S2 Puls-Richtung | AU13: SD326R U25 S2 Puls-Richtung | AV13: SD326R U25 S2 Puls-Richtung | AW13: SD326R U25 S2 Puls-Richtung | AZ13: Nein | BB13: Lüfter 148mm | BE13: Elmo | BF13: 2BH-XX | BG13: 1,7KW | BH13: Nein | BI13: Wachenh.-Kirchner 230V | BK13: Nein | BL13: LPD5 | BM13: 5035 | BQ13: LPD5 5V | BR13: LPD5 | BS13: 6m, 5m,10m | BT13: 5A,5B,5D | BU13: 5m,10m,2m | BY13: Blau | BZ13: 4 | CA13: Pentax 4.8mm 1:1.8 | CB13: Throl 50mm | CC13: Jai | CD13: 0° | CE13: HV (250V) | CG13: Rexroth | CR13: 24.03.2011 RH | CU13: Alte Anlage von Reiff
A14: ITT#002 | B14: ITT2 | E14: Nein | F14: Devoto | H14: Argentinien | L14: 1 | M14: 4 | O14: G1 | CB14: Throl 50mm | CE14: HV (250V)
A15: ITT#003 | F15: Continental | G15: Mt. Vernon, IL | H15: USA | I15: Continental | K15: 2003 | CB15: Throl 50mm | CE15: HV (250V) | CU15: Verschrottet
A16: ITT#004 | B16: ITT2 | E16: Nein | F16: Michelin US3 | G16: Spartanburg | H16: USA | L16: 1 | M16: 4 | N16: 8.22C9 | O16: G1 | Q16: 1607 + 1608 | R16: 643 + 644 | AP16: 380-500V;3~ | AQ16: 115V | AR16: S5 + S7 | AS16: S95U | BI16: Wachenh.-Kirchner 115V | BY16: Grün | BZ16: 4 | CB16: Throl 50mm | CE16: HV (250V) | CR16: 23.10.2015 RH
A17: ITT#005 | B17: ITT2 | D17: 1500 | F17: Conti Indien | H17: Indien | I17: Continental | J17: 3 | K17: 2000 | L17: 1 | M17: 4 | N17: 15.06 Conti | O17: G1 | P17: 4A-Count/Ilunten/Stand 7.0 | Q17: 1417 | R17: 528 | T17: Conti-Programme | U17: Ott 24V | X17: Engel | AC17: Schneider Electric | AE17: Schneider Electric | AG17: Schneider Electric | AI17: Schneider Electric | AP17: 380-500V;3~ | AQ17: 230V | AR17: S5 | AS17: S95U | AT17: TLD011 | AU17: TLD011 | AV17: TLD011 | AW17: TLD011 | AZ17: Nein | BB17: 300W 1~ alt | BC17: Sonstige / vom Kunde | BE17: Elmo | BF17: 2BH-XX | BG17: 1,7KW | BH17: Nein | BI17: Wachenh.-Kirchner 230V | BK17: vom Kunden | BL17: Profile | BM17: 7502 | BN17: 9250 | BQ17: Keine | BR17: Profile | BS17: 7,5m | BT17: 1 von Kunde verlängert,1A | BU17: Soll:5m,10m,2m | BY17: Grün | BZ17: 4 | CA17: Avenier 4.8 F1.4 | CB17: Throl 50mm | CC17: Teli | CD17: 45° | CE17: HV (250V) | CG17: Rexroth | CJ17: Keine | CR17: 07.11.2013 RH | CS17: 56704 | CT17: 28388 | CU17: Videokabel und Serielle Kabel vom Kunde verlängert. Verschrottet?
A18: ITT#006 | F18: Reiff PKW | CB18: Throl 50mm | CE18: HV (250V) | CU18: Verschrottet
A19: ITT#007 | B19: Runddeckel-DC-Achsen | D19: 1500 | E19: Nein | F19: Westar | G19: Bystřice nad Pernštejnem | H19: Tschechien | K19: 2014 | L19: 1 | M19: 4 | O19: G4 | Q19: 1414 | R19: 522 | U19: Ott 24V | X19: Driverolls EC310 | AC19: Ott | AD19: EM6641400-200 | AE19: Ott Riemenantrieb | AF19: DCK35-405033 OTR Lift | AG19: Ott Riemenantrieb | AH19: DCK31-404854 | AI19: Ott Tilt | AJ19: XDP043012 (Runddeckel) | AP19: 380-500V;3~ | AQ19: 230V | AR19: Wago | AS19: 750-881 | AU19: Phoenix ELR 6A | AV19: Phoenix ELR 2A | AW19: Phoenix ELR 2A | AZ19: Nein | BB19: 300W 1~ neu | BC19: APC BK650EI 230V | BE19: Elmo | BF19: 2BH-XX | BG19: 1,7KW | BH19: Nein | BI19: Wachenh.-Kirchner 230V | BL19: LPD7 | BM19: 7633 | BQ19: LPD5 5V | BR19: LPD5 | BS19: 6m | BT19: 5A,5D | BU19: 6m,2m | BY19: Blau | BZ19: 4 | CA19: Pentax 4.8mm 1:1.8 | CB19: CPN-S | CC19: Jai | CD19: 0° | CE19: HV (250V) | CG19: Rexroth | CJ19: Keine | CR19: 02.06.2014 RH | CU19: War vorher Conti LKW | Aud DCK35 Liftmotor umgestellt in 04/2017 |neues LPD7 10_2022
A20: ITT#008 | B20: ITT2 | D20: 1300 | F20: Michelin Stoke on Trent | G20: Stoke on Trent | H20: UK | I20: Michelin Remix | L20: 1 | M20: 3 | N20: 8.09 | O20: G1 | Q20: 729 | R20: 314 | U20: Engel | X20: Bosch | Z20: Ott 24V/Bosch 67W | AC20: Schneider Electric | AE20: Schneider Electric | AG20: Schneider Electric | AI20: Schneider Electric | AP20: 380-500V;3~ | AQ20: 230V | AR20: S5 + S7 | AS20: S95U | AT20: TLD011 | AU20: TLD011 | AV20: TLD011 | AW20: TLD011 | AZ20: Haake | BE20: Elmo | BF20: 2BH-XX | BG20: 1,7KW | BH20: Nein | BI20: Wachenh.-Kirchner 230V | BK20: Ja | BL20: Profile | BM20: ?? | BN20: ?? | BQ20: Keine | BR20: Profile | BS20: 7,5m | BZ20: 4 | CB20: Throl 50mm | CD20: 0° | CE20: HV (250V) | CU20: Verschrottet
A21: ITT#009 | B21: ITT2 | D21: 1300 | E21: Nein | F21: Pneuhage Karlsruhe | G21: Karlsruhe | H21: Deutschland | I21: Michelin Recamic | J21: 21 | K21: 2000 | L21: 1 | M21: 4 | N21: 8.18C | O21: G1 | P21: 4A-Count-ILUnten-Stand 7.0 vom 1.3.2005 | Q21: 1046 | R21: 10 | U21: Ott 24V | X21: Engel | Y21: Engel | Z21: Bosch/pneumatisch | AC21: Schneider Electric | AE21: Schneider Electric | AG21: Schneider Electric | AI21: Schneider Electric | AP21: 400V 3~ | AQ21: 230V | AR21: S5 + S7 | AS21: S95U | AT21: TLD011 | AU21: TLD011 | AV21: TLD011 | AW21: TLD011 | AZ21: Nein | BB21: Lüfter 204mm | BE21: Elmo | BF21: 2BH-XX | BG21: 1,7KW | BH21: Nein | BI21: Wachenh.-Kirchner 230V | BK21: Nein | BL21: Profile | BM21: 6002 | BQ21: Keine | BR21: Profile | BT21: 1,1A | BY21: Grün | BZ21: 4 | CA21: Avenier 4.8 F1.4 | CB21: Throl 50mm | CC21: Teli | CD21: 0° | CE21: HV (250V) | CJ21: Bilz | CK21: FAEBI 150 | CL21: 5Bar | CR21: 9.3.2011 RH | CS21: 429500 | CT21: 31842 | CU21: Tiefer Topf! , neues Igus Kabelschlepp-wieder ausgebaut und Kabelfeder eingebaut, auf Ott-Motor umgebaut. LPD2B Prototyp tum Testen seit 2022
A22: ITT#010 | B22: ITT2 | E22: Nein | F22: Pneumatici | G22: Roveretto | H22: Italien | O22: G1 | CB22: Throl 50mm | CE22: HV (250V)
A23: ITT#011 | B23: ITT2 | E23: Nein | F23: Standards Testing Labs STL | G23: Massillon, OH | H23: USA | K23: 2000 | O23: G1 | CB23: Throl 50mm | CE23: HV (250V)
A24: ITT#012 | B24: ITT2 | F24: SDS Demo/ Michelin Stoke | CB24: Throl 50mm | CE24: HV (250V) | CU24: Verschrottet
A25: ITT#013 | B25: ITT2 | D25: 1300 | E25: Nein | F25: RET | G25: Hemmingen | H25: Deutschland | J25: ?? | K25: 2000 | L25: 1 | M25: 3 | N25: 8.22C9 | O25: G1 | P25: 3A-Stand 5 | Q25: 1726 | R25: 719 | U25: Engel | X25: Engel | Y25: Bosch | Z25: ??/pneumatisch | AC25: Schneider Electric | AE25: Schneider Electric | AG25: Schneider Electric | AP25: 400V 3~ | AQ25: 230V | AR25: S5 + S7 | AS25: S95U | AT25: TLD011 | AU25: TLD011 | AV25: TLD011 | AZ25: Nein | BB25: Lüfter 204mm | BE25: Elmo | BF25: 2BH-XX | BG25: 1,7KW | BH25: Nein | BI25: Wachenh.-Kirchner 230V | BL25: LPD 2B | BM25: 2506 | BQ25: Keine | BR25: Profile | BY25: Grün | CA25: Avenir 4.8 F1.4 | CB25: Throl 50mm | CC25: Teli | CD25: 0° | CE25: HV (250V) | CR25: 23.09.2024 RH | CU25: Stauförderer | Neuer PC 1726 ausgeliefert 16.10.2018 | 09/2024 neues LPD 2B
A26: ITT#014 | B26: ITT2 | E26: Nein | F26: BF Goodrich / Michelin | G26: Tuscaloosa | H26: USA | O26: G1 | CB26: Throl 50mm | CE26: HV (250V)
A27: ITT#015 | B27: Ex Semperit | C27: Sonderform | E27: Nein | F27: Vulkoplast Antosch | H27: Österreich | O27: G1 | CB27: Throl 50mm | CE27: HV (250V)
A28: ITT#016 | B28: ITT1-SD | D28: 1250 | F28: Vipotest | G28: Puchov | H28: Slowakei | I28: Continental | J28: 40 | K28: 2000 | CU28: Verschrottet
A29: ITT#017 | B29: ITT2 | E29: Nein | F29: Michelin CA3 | G29: Waterville, NS | H29: Kanada | K29: 2000 | L29: 1 | M29: 4 | N29: 19.05A | O29: G1 | Q29: 2010 | R29: 838 | AC29: Schneider Electric | AE29: Schneider Electric | AG29: Schneider Electric | AI29: Schneider Electric | AS29: S95U | BL29: LPD 2B | BT29: 5A,5B,Videobox | BU29: 5m,10m,2m | BY29: Grün | BZ29: 4 | CA29: Pentax 4.8mm 1:1.8 | CB29: Throl 50mm | CC29: Jai | CD29: 0° | CE29: HV (250V) | CR29: 04.11.2020 CG | CU29: Tauschmesskopf erhalten in 07/2011 zum testen der autom.Belichtungssteuerung; Videobox mit Überspannungsschutzstecker| Umgestellt auf LPD2 12/2022
A30: ITT#018 | B30: ITT2 | D30: 1250 | E30: Nein | F30: Pneusmarca | H30: Italien | J30: 37 | K30: 2001 | L30: 1 | M30: 4 | O30: G4 | Q30: 1536 | R30: 639 | S30: Nein | U30: Ott 24V | X30: Bosch | Y30: Bosch | AC30: Schneider Electric | AD30: VRDM3913 | AE30: Schneider Electric | AF30: VRDM3910 | AG30: Schneider Electric | AH30: VRDM397 | AI30: Schneider Electric | AJ30: VRDM368 | AP30: 380-500V;3~ | AQ30: 230V | AR30: Wago | AS30: 758-874/000-112 | AT30: SD328A U25 CAN | AU30: SD328A U25 CAN | AV30: SD328A U25 CAN | AW30: SD328A U25 CAN | AZ30: Nein | BB30: Ohne Klima/Lüfter | BC30: APC BK650EI 230V | BE30: Elektror | BF30: 1SD710 50/2,20 | BG30: 2,2KW | BH30: Ja | BI30: SDS 1 Zylinder 85mm | BK30: LS4208I | BL30: LPD5 | BM30: 5173 | BQ30: LPD5 5V | BR30: LPD5 | BS30: 5m | BT30: 5A,5B,5D | BU30: 5m,10m,2m | BY30: Blau | BZ30: 4 | CA30: Pentax 4.8mm 1:1.8 | CB30: CPN-S | CC30: Jai | CD30: 0° | CE30: HV (250V) | CG30: INA | CJ30: Keine | CR30: 29.03.2016 RH | CU30: War vorher Respa, Passau
A31: ITT#019 | B31: ITT1-SD | D31: 1250 | E31: Nein | F31: Smithers | G31: Ravenna, OH | H31: USA | J31: 48 | K31: 2001 | L31: 1 | M31: 4 | N31: 17.04 | O31: G1 | P31: ITT1/1 Stand 5 | Q31: 1472 | U31: Ott 24V | X31: Bosch | AC31: SEW | AE31: Bosch Riemenantrieb | AG31: Bosch Riemenantrieb | AI31: Bosch Riemenantrieb | AP31: 380-500V;3~ | AQ31: 115V | AR31: S5 | AS31: S95U | AT31: SEW Movitrac 07A | AU31: Schütz | AV31: Schütz | AW31: Schütz | BB31: Lüfter 148mm | BE31: Elmo | BF31: 2BH-XX | BG31: 1,7KW | BH31: Nein | BI31: Wachenh.-Kirchner 115V | BL31: LD3 | BM31: 3011 | BN31: 9102 | BR31: LD3 | BY31: Blau | BZ31: 4 | CB31: Throl 50mm | CE31: HV (250V) | CR31: 30.04.2024 RH | CU31: Aus Daten der Maschinenmappe | Auf Ott-Motor umgebaut 10_2015 | Umbau auf LD3 und blaue Dioden von CMI 30.04.2024
A32: ITT#020 | B32: ITT1-DD | D32: 1250 | E32: Nein | F32: Wondrascheck | H32: Österreich | J32: 29 | K32: 2012 | L32: 1 | M32: 4 | N32: 14.06 G4 | O32: G4 | P32: V_2_14_3_01_020 | Q32: 1204 | U32: Ott 24V | X32: Bosch | AC32: SEW | AE32: Bosch Riemenantrieb | AG32: Bosch Riemenantrieb | AI32: Bosch Riemenantrieb | AP32: 380-500V;3~ | AQ32: 230V | AR32: Wago | AS32: 750-881 | AT32: AB Powerflex 4M 0,37KW | AU32: Phoenix ELR 2A | AV32: Phoenix ELR 2A | AW32: Phoenix ELR 2A | AZ32: Nein | BB32: Lüfter 148mm | BE32: Elmo | BF32: 2BH-XX | BG32: 1,7KW | BH32: Ja | BI32: Wachenh.-Kirchner 230V | BK32: LS4208I | BL32: LD4 | BM32: 4092 | BN32: 9111 | BQ32: Keine | BR32: LD4 | BS32: 7,5m | BY32: Blau | CA32: Pentax 4.8mm 1:1.8 | CB32: Throl 50mm | CC32: Jai | CD32: 0° | CE32: HV (250V) | CG32: Rexroth | CR32: 16.07.12 BB | CU32: Maschine wurde 2012 bei SDS umgebaut und als gebrauchte verkauft
A33: ITT#021 | B33: ITT1-SD | D33: 1250 | E33: Nein | F33: Desser Tire | H33: USA | K33: 2001 | L33: 1 | M33: 4 | N33: 8.15C | O33: G1 | P33: ITT1/1 Stand7.3 | Q33: 922 | U33: Ott 24V | X33: Bosch | AC33: SEW | AE33: Bosch Riemenantrieb | AG33: Bosch Riemenantrieb | AI33: Bosch Riemenantrieb | AP33: 380-500V;3~ | AQ33: 115V | AR33: S5 | AS33: S95U | AT33: SEW Movitrac 07 | AU33: Schütz | AV33: Schütz | AW33: Schütz | BE33: Elmo | BF33: 2BH-XX | BG33: 1,7KW | BI33: Wachenh.-Kirchner 115V | BL33: LD1Ers | BM33: 1517 | BN33: 9455 | CB33: Throl 50mm | CE33: HV (250V) | CR33: 28.10.11 RH | CU33: Erst 1 Tür, dann 2 Türen, jetzt wieder 1 Tür. Auf Ott intern umgebaut.
A34: ITT#022 | B34: ITT2 | D34: 1250 | E34: Nein | F34: Renova | G34: Lima | H34: Peru | J34: 33 | K34: 2001 | L34: 1 | M34: 4 | N34: 25.117 | O34: G4 | P34: V_4_31_3_01_022 | Q34: 2316 | R34: 957 | S34: Nein | U34: Ott 24V | X34: Driverolls EC5000 | AC34: Schneider Electric | AE34: Schneider Electric | AF34: VRDM3910 | AG34: Schneider Electric | AH34: VRDM397 | AI34: Schneider Electric | AJ34: VRDM368 | AP34: 380-500V;3~ | AQ34: 230V | AR34: Wago | AS34: 750-8213 | AT34: SD328A U25 CAN | AU34: SD328A U25 CAN | AV34: SD328A U25 CAN | AW34: SD328A U25 CAN | AZ34: Nein | BB34: 300W 1~ alt | BC34: APC BK650EI 230V | BE34: Elmo | BF34: 2BH-XX | BG34: 1,7KW | BH34: Nein | BI34: Wachenh.-Kirchner 230V | BK34: DS4608 | BL34: LPD7 | BM34: 5675 | BQ34: LPD7 5V | BR34: LPD5/7 | BS34: 5m,12m | BT34: 8A, 8B | BU34: 5m, 10m | BV34: 1191 | BY34: Blau | BZ34: 4 | CE34: HV (250V) | CG34: Rexroth | CJ34: Keine | CO34: Messkopf mit neuen Dioden | CP34: 746078 | CQ34: 4.12.2023 PM | CR34: 07.12.2023 RH | CS34: 64929 | CT34: 746078 | CU34: Umbau auf G4, GigE, stand alone, Schmiernippel nachgerüstet 12.2023
A35: ITT#023 | B35: ITTCompact | E35: Nein | F35: Goodyear | G35: Danville | H35: USA | K35: 2002 | O35: G1 | CB35: Throl 50mm | CE35: HV (250V)
A36: ITT#024 | B36: ITT1-DD | D36: 1250 | E36: Nein | F36: Tipler | H36: Brasilien | J36: 37 | K36: 2001 | L36: 1 | M36: 4 | O36: G1 | P36: ITT1/2 Stand 5.3 | Q36: 923 | AC36: SEW | AE36: Bosch Riemenantrieb | AG36: Bosch Riemenantrieb | AI36: Bosch Riemenantrieb | AP36: 380-500V;3~ | AQ36: 230V | AR36: S5 + S7 | AS36: S95U | AT36: SEW Movitrac 07 | AU36: Schütz | AV36: Schütz | AW36: Schütz | BB36: 300W 1~ alt | BE36: Elmo | BF36: 2BH-XX | BG36: 1,7KW | BI36: Wachenh.-Kirchner 230V | BK36: LS4208I | BL36: LPD2 | BM36: 2002 | CB36: Throl 50mm | CE36: HV (250V)
A37: ITT#025 | B37: ITT1-DD | D37: 1250 | E37: Nein | F37: Drebor Buzetti | G37: Cuiaba | H37: Brasilien | I37: Drebor | J37: 36 | K37: 2001 | L37: 1 | M37: 4 | N37: 9.05 | O37: G1 | Q37: ohne Nummer | R37: 21 | U37: Ott 24V | X37: Bosch | Y37: Bosch | AC37: SEW | AE37: Bosch Riemenantrieb | AG37: Bosch Riemenantrieb | AI37: Bosch Riemenantrieb | AP37: 380-500V;3~ | AQ37: 230V | AR37: S5 + S7 | AS37: S95U | AT37: SEW Movitrac 07 | AU37: Schütz | AV37: Schütz | AW37: Schütz | BC37: Sonstige / vom Kunde | BE37: Elmo | BF37: 2BH-XX | BG37: 1,7KW | BH37: Ja | BI37: Wachenh.-Kirchner 230V | BL37: LPD2 | BM37: 2004 | BQ37: Keine | BR37: LD1 | BY37: Grün | BZ37: 4 | CB37: Throl 50mm | CE37: HV (250V) | CR37: 15.01.2021 RH | CU37: Aus Daten Maschinenmappe. Rechner mit MIL8, LPD2 auf COM5, D-Laufwerk fehlt
A38: ITT#026 | B38: ITT1-DD | E38: Nein | F38: Michelin Brasilien | G38: Itataia | H38: Brasilien | K38: 2001 | L38: 1 | M38: 4 | N38: 23.19 | O38: G4 | P38: V_5_12_2_01_026 | Q38: 2134 | U38: Ott 24V | X38: Bosch | AC38: SEW | AE38: Bosch Riemenantrieb | AG38: Bosch Riemenantrieb | AI38: Bosch Riemenantrieb | AP38: 380-500V;3~ | AQ38: 230V | AR38: Allen Bradley | AS38: 5069-L320ER | AT38: AB Powerflex 4M 0,37KW 1~ | AU38: Phoenix ELR 6A | AV38: Phoenix ELR 6A | AW38: Phoenix ELR 2A | BB38: Lüfter 148mm | BE38: Elmo | BF38: 2BH-XX | BG38: 1,7KW | BI38: Wachenh.-Kirchner 230V | BL38: LPD7 | BM38: 7555 | BQ38: LPD7 5V | BR38: LPD5/7 | BS38: 5 | BT38: 8A, 8B | BU38: 5m, 10m | BY38: Blau | BZ38: 4 | CA38: Pentax 4.8mm 1:1.8 | CB38: CPN-S | CC38: GigE MANTA G-235B | CD38: 0° | CE38: HV (250V) | CI38: nicht Verstärkt, nicht Vergossen | CR38: 03.11.2022 CG | CS38: 174766 | CT38: 7262 | CU38: G4 update, Win 10, Gig-E 09.22
A39: ITT#027 | B39: ITT2 | D39: 1500 | E39: Nein | F39: SDS Demo ex Continental Aachen | H39: Deutschland | J39: 42 | K39: 2001 | CU39: Verschrottet
A40: ITT#028 | B40: ITT1-SD | D40: 1250 | E40: Nein | F40: Yokohama Dev. Center ex Cooper Tire | G40: Cornelius, NC | H40: USA | K40: 2001 | L40: 1 | M40: 4 | N40: 23.15 | O40: G4 | P40: ITT_V_4_21_3_02_028 | U40: Ott 24V | X40: Bosch | AC40: SEW | AE40: Bosch Riemenantrieb | AG40: Bosch Riemenantrieb | AI40: Bosch Riemenantrieb | AR40: Wago | AS40: S95U | AT40: AB Powerflex 4M 0,37KW 1~ | AU40: Phoenix ELR 2A | AV40: Phoenix ELR 2A | AW40: Phoenix ELR 2A | BG40: 1,6KW | BH40: Ja | BI40: SDS 1 Zylinder 120mm | BL40: LD4 | BQ40: Keine | BR40: LD4 | BT40: 8A, 8B | BV40: 1075 | BY40: Blau | CE40: HV (250V) | CJ40: Bilz | CR40: 19.08.2024 RH | CU40: Werte aus Ablage. G4-Umbau von RW in 2012| WIN 10 GigE-Update 08/2021 durch CMI |08_2024: Neuer Kunde. Vorher Cooper Findley
A41: ITT#029 | E41: Nein | F41: BFS Retread Division | G41: Nashville | H41: USA | I41: BFS | J41: 1 | K41: 2002 | O41: G1 | CB41: Throl 50mm | CE41: HV (250V)
A42: ITT#030 | B42: ITT1-DD | D42: 1250 | E42: Nein | F42: Tiresol | H42: Peru | J42: 52 | K42: 2001 | L42: 1 | M42: 4 | N42: 8.18C | O42: G1 | P42: ITT1/2 Stand 5.1 | Q42: 1303 | U42: Engel | X42: Bosch | Y42: Bosch | Z42: Bosch/pneumatische Wippe | AC42: SEW | AE42: Bosch Riemenantrieb | AG42: Bosch Riemenantrieb | AI42: Bosch Riemenantrieb | AP42: 230V Kein Trafo | AQ42: 230V | AR42: S5 + S7 | AS42: S95U | AT42: SEW Movitrac 07 | AU42: Schütz | AV42: Schütz | AW42: Schütz | AZ42: Nein | BB42: Lüfter 148mm | BC42: Nein | BE42: Elmo | BF42: 2BH-XX | BG42: 1,7KW | BH42: Nein | BI42: Wachenh.-Kirchner 230V | BK42: Nein | BL42: LD3 | BQ42: Keine | BR42: LD3 | BT42: 5A? (Bild) | BY42: Blau | BZ42: 4 | CA42: Pentax 4.8mm 1:1.8 | CB42: Throl 50mm | CC42: Teli | CD42: 0° | CE42: HV (250V) | CG42: Rexroth | CJ42: Keine | CR42: 21.4.2015 RH+TH | CU42: Auf blaue Dioden umgebaut
A43: ITT#031 | B43: ITT2 | D43: 1250 | E43: Nein | F43: Bridgestone - Tire Test Lab | G43: Akron, OH | H43: USA | I43: BFS | K43: 2002 | L43: 1 | M43: 4 | N43: 12.09 | O43: G1 | Q43: 1023 | R43: 33 | U43: Ott 24V | AC43: Schneider Electric | AE43: Schneider Electric | AG43: Schneider Electric | AI43: Schneider Electric | AP43: 380-500V;3~ | AQ43: 115V | AR43: S5 + S7 | AS43: S95U | AT43: TLD011 | AU43: TLD011 | AV43: TLD011 | AW43: TLD011 | BE43: Elmo | BF43: 2BH-XX | BG43: 1,7KW | BI43: Wachenh.-Kirchner 115V | BL43: LD3 | BM43: 3041 | BN43: 9177 | BQ43: Keine | BR43: Profile | BY43: Blau | BZ43: 4 | CB43: Throl 50mm | CE43: HV (250V) | CR43: 24.09.2014 RH | CU43: Umbau auf Ott-Motor KW18.2011 durch RW
A44: ITT#032 | B44: ITTCompact | D44: 850 | E44: Nein | F44: Akron Rubber Development | G44: Akron, OH | H44: USA | K44: 2002 | O44: G1 | CB44: Throl 50mm | CE44: HV (250V)
A45: ITT#033 | B45: ITT1-DD | D45: 1250 | E45: Nein | F45: Vipal | H45: Brasilien | J45: 18 | K45: 2002 | L45: 1 | M45: 4 | N45: 8.18C | O45: G1 | P45: ITT1/2 Stand 5.3 | Q45: 934 | R45: 39 | U45: Engel | X45: Bosch | Y45: Bosch | Z45: Bosch/pneumatische Wippe | AC45: SEW | AE45: Bosch Riemenantrieb | AG45: Bosch Riemenantrieb | AI45: Bosch Riemenantrieb | AP45: 380-500V;3~ | AQ45: 230V | AR45: S5 + S7 | AS45: S95U | AT45: SEW Movitrac 07 | AU45: Schütz | AV45: Schütz | AW45: Schütz | AZ45: Nein | BB45: Lüfter 148mm | BE45: Elmo | BF45: 2BH-XX | BG45: 1,7KW | BH45: Nein | BI45: Wachenh.-Kirchner 230V | BK45: Nein | BL45: LPD 3B/4B | BM45: Umbau auf LPD 3B/4B SN 4503 in 2022 | BQ45: Keine | BR45: LD4 | BT45: 1, 1A | BV45: 945 ab 2022 | BZ45: 4 | CB45: Throl 50mm | CE45: HV (250V) | CJ45: Keine | CR45: 42725 | CU45: Aus Daten Maschinenmappe | Hat Anlage einen Trafo? Sind 2 Pläne in Ablage. Umbau auf Blaue Dioden mit LPD 3B/4B in 2022
A46: ITT#034 | B46: ITT2 | E46: Nein | F46: BFS Akron Race #1 | G46: Akron | H46: USA | I46: BFS | K46: 2002 | O46: G1 | CB46: Throl 50mm | CE46: HV (250V)
A47: ITT#035 | B47: ITT compact | E47: Nein | F47: Pirelli | G47: Breuberg / Odenwald | H47: Deutschland | J47: 25 | K47: 2002 | L47: 1 | M47: 4 | N47: 8.18C | O47: G1 | Q47: 1040 (XP) | AC47: Bosch | AE47: Bosch Riemenantrieb | AG47: Bosch Riemenantrieb | AI47: Bosch Riemenantrieb | AP47: 380-500V;3~ | AQ47: 230V | AR47: S5 | AS47: S95U | AT47: Schütz | AU47: Schütz | AV47: Schütz | AW47: Schütz | BE47: Elmo | BF47: 2BH-1400 | BG47: 0,85kW | BI47: Wachenh.-Kirchner 230V | BK47: Nein | BL47: LD3 | BY47: Blau | CA47: Avenier 4.8 F1.4 | CB47: Throl 50mm | CC47: Teli | CD47: 0° | CE47: HV (250V) | CJ47: Fabreeka | CK47: klein, ohne Regler! | CO47: Messkopf mit neuen Dioden | CP47: 25.10.2017 | CR47: 25.10.2017 PS | CT47: 81886h / 60897Zyk. | CU47: Service-Mode Passwort ITT-Mess: drago
A48: ITT#036 | B48: ITT2 | D48: 1250 | F48: Michelin Homburg #1 | G48: Homburg | H48: Deutschland | I48: Michelin Remix | J48: 1 | K48: 2002 | L48: 1 | M48: 4 | N48: 16.11G4 | O48: G4 | P48: V_3_04_2_03_036 | Q48: 1438 | R48: 53 | U48: Ott 24V | V48: Bosch | W48: Bosch | X48: Bosch | AC48: Schneider Electric | AD48: VRDM3910 | AE48: Schneider Electric | AF48: VRDM3910 | AG48: Schneider Electric | AH48: VRDM397 | AI48: Schneider Electric | AJ48: VRDM368 | AP48: 380-500V;3~ | AQ48: 230V | AR48: Allen Bradley | AS48: 1769-L32E | AT48: SD328A U25 CAN | AU48: SD328A U25 CAN | AV48: SD328A U25 CAN | AW48: SD328A U25 CAN | AZ48: Nein | BB48: Lüfter 204mm | BC48: Sonstige / vom Kunde | BE48: Elmo | BF48: 2BH-XX | BG48: 1,7KW | BH48: Nein | BI48: Wachenh.-Kirchner 230V | BK48: Nein | BL48: LD4 | BM48: 4026 | BN48: 9036 | BQ48: Keine | BR48: LD4 | BT48: 5A,5B,5C | BU48: 5,m,10m,2m | BY48: Blau | BZ48: 4 | CA48: Avenier 4.8 F1.4 | CB48: Throl 50mm | CC48: Teli | CD48: 0° | CE48: HV (250V) | CG48: Rexroth | CJ48: Bilz | CK48: FAEBI 150 | CR48: 23.01.2019 PM | CS48: 1164668 | CT48: 1606047 | CU48: Insel 1 mit ITT#078 und ITT#143 2x Vakupu | G4-Umbau/Update Nov 2014 bei h: 82253 Zyklen: 855770
A49: ITT#037 | B49: ITT2 | E49: Nein | F49: Federal Tire | H49: Taiwan | O49: G1 | CB49: Throl 50mm | CE49: HV (250V)
A50: ITT#038 | B50: ITT2 | D50: 1500 | E50: Nein | F50: Continental PKW | G50: Hannover | H50: Deutschland | I50: Continental | CU50: Verschrottet. Ersetzt duch Aachen-Maschine 2022
A51: ITT#039 | B51: ITT1-SD | D51: 1250 | E51: Nein | F51: ReifenMenzel ehem. Lorenz | G51: Feuchtwangen | H51: Deutschland | J51: 8 | K51: 2003 | L51: 1 | M51: 4 | N51: 10.03 | O51: G1 | P51: ITT1/1 Stand7.3 | Q51: 806 | R51: 64 | U51: Engel | X51: Bosch | AC51: SEW | AE51: Bosch Riemenantrieb | AG51: Bosch Riemenantrieb | AI51: Bosch Riemenantrieb | AP51: 380-500V;3~ | AQ51: 230V | AR51: S5 | AS51: S95U | AT51: SEW Movitrac 07 | AU51: Schütz | AV51: Schütz | AW51: Schütz | AZ51: Nein | BB51: Lüfter 204mm | BE51: Elmo | BH51: Ja | BL51: LD4 | BM51: 4055 | BN51: 9458 | BQ51: Keine | BR51: LD4 | BS51: 10m | BY51: Blau | BZ51: 4 | CA51: Pentax 4.8mm 1:1.8 | CB51: Throl 50mm | CC51: Teli | CE51: HV (250V) | CR51: 11.07.2011 BB
A52: ITT#040 | B52: ITT1-SD | D52: 1250 | E52: Nein | F52: Cooper | G52: Krasevac | H52: Serbien | J52: 10 | K52: 2003 | L52: 1 | M52: 4 | N52: 8.22C9 | O52: G1 | P52: ITT1/1 Stand7.3 | Q52: 1614 | R52: 645 | U52: Engel | X52: Bosch | AC52: SEW | AE52: Bosch Riemenantrieb | AG52: Bosch Riemenantrieb | AI52: Bosch Riemenantrieb | AP52: 380-500V;3~ | AQ52: 230V | AR52: S5 | AS52: S95U | AT52: SEW Movitrac 07 | AU52: Schütz | AV52: Schütz | AW52: Schütz | BE52: Elmo | BF52: 2BH-XX | BG52: 1,7KW | BH52: Nein | BI52: Wachenh.-Kirchner 230V | BK52: Nein | BL52: LD3 | BY52: Blau | BZ52: 4 | CB52: Throl 50mm | CE52: HV (250V) | CR52: 21.03.2019 PM | CS52: 44413 | CT52: 38428.9 | CU52: Aus Daten Maschinenmappe.Umzug von UK nach Serbien: 03_2019. PM vor Ort für Wiederaufbau
A53: ITT#041 | B53: ITT2 | D53: 1650 | E53: Nein | F53: Hangzhou | G53: ZHEJIANG | H53: China | J53: 14 | K53: 2003 | L53: 1 | M53: 4 | O53: G4 | P53: V_1_82_3_01_041 | CB53: Throl 50mm | CE53: HV (250V)
A54: ITT#042 | B54: ITT2 | D54: 1250 | F54: Insa Turbo | J54: 18 | K54: 2003 | CU54: Verschrottet 2022
A55: ITT#043 | B55: ITT2 | D55: 1650 | E55: Nein | F55: Michelin Norwood (ex. Kansas) | G55: Norwood | H55: USA | K55: 2003 | L55: 1 | M55: 4 | N55: 26.112B | O55: G4 | P55: V_4_32X_2_08_043 | Q55: 2415 | U55: Ott 24V | V55: Trommel DM0113 370W 1200mm Version ab 2019 | X55: Bosch | AC55: Schneider Electric | AD55: VRDM31117 | AE55: Schneider Electric | AF55: VRDM3910 | AG55: Schneider Electric | AH55: VRDM397 | AI55: Schneider Electric | AJ55: VRDM368 | AP55: 380-500V;3~ | AQ55: 115V | AR55: Allen Bradley | AS55: 1768-L43 V19 | AT55: SD328A U68 CAN | AU55: SD328A U25 CAN | AV55: SD328A U25 CAN | AW55: SD328A U25 CAN | AZ55: Nein | BC55: APC BK500 115V | BE55: Elektror | BF55: 2BH-XX | BG55: 4,6KW | BH55: Ja | BI55: SDS 3 Zylinder 120mm | BL55: LD3 | BQ55: Keine | BR55: LD3 | BT55: 8A, 8B | BU55: 6m, 10m | BY55: Blau | BZ55: 4 | CA55: Pentax 4.8mm 1:1.8 | CB55: CPN-S | CC55: GigE MANTA G-235B | CE55: HV (250V) | CR55: 16.07.2024 CG | CU55: Anlage vorher in Kansas City, von 2 kleinen auf 1 große Vakupu upgedatet | Update auf G4 in Dez. 2015 | Umbau auf L43E Controller in Febr. 2019 | TOF in 12.2023 installiert | GigE-Update 2024 und integration Conveyor
A56: ITT#044 | B56: ITT2 | D56: 1250 | E56: Nein | F56: BFS Akuna | H56: Mexiko | I56: BFS | J56: 18 | K56: 2003 | L56: 1 | M56: 4 | N56: 5.08 | O56: G1 | Q56: 321 | U56: Engel | X56: Bosch | Y56: Bosch | AC56: Schneider Electric | AE56: Schneider Electric | AG56: Schneider Electric | AI56: Schneider Electric | AP56: 3x230V, 3~ | AQ56: 115V | AR56: S5 + S7 | AS56: S95U | AT56: TLD011 | AU56: TLD011 | AV56: TLD011 | AW56: TLD011 | BE56: Elmo | BF56: 2BH-XX | BG56: 1,7KW | BI56: Wachenh.-Kirchner 115V | BL56: LD3 | BM56: 3024 | BN56: 9159 | BY56: Blau | BZ56: 4 | CB56: Throl 50mm | CE56: HV (250V) | CR56: 23.09.2014 RH | CU56: aus Daten der Maschinenmappe
A57: ITT#045 | B57: ITT1-DD | D57: 1250 | E57: Nein | F57: Vergölst (ex Göring) | G57: Cham | H57: Deutschland | J57: 21 | K57: 2003 | L57: 1 | M57: 4 | N57: 18.05 | O57: G1 | P57: ITT1/2 Stand 6.1 | Q57: 1717 | R57: 735 | U57: Ott 24V | X57: Bosch | AC57: SEW | AE57: Bosch Riemenantrieb | AG57: Bosch Riemenantrieb | AI57: Bosch Riemenantrieb | AP57: 380-500V;3~ | AQ57: 230V | AR57: S5 | AS57: S95U | AT57: SEW Movitrac 07 | AU57: Schütz | AV57: Schütz | AW57: Schütz | AZ57: Nein | BB57: Lüfter 148mm | BC57: Nein | BE57: Elmo | BF57: 2BH-XX | BG57: 1,7KW | BH57: Nein | BI57: Wachenh.-Kirchner 230V | BK57: LS...... | BL57: LD3 | BM57: 3028 | BN57: Ohne Nummer | BQ57: Keine | BR57: LD3 | BS57: 10m | BT57: 5A,5B,5D | BU57: 5m,10m,2m | BY57: Blau | BZ57: 4 | CA57: Pentax 4.8mm 1:1.8 | CB57: Throl 50mm | CC57: Jai | CD57: 45° | CE57: HV (250V) | CG57: Rexroth | CJ57: Keine | CO57: Messkopf mit neuen Dioden | CP57: 42277 | CR57: 25.01.2018 RH | CS57: 367642 | CT57: 42277 | CU57: Seit November 2017 bei Vergölst, Cham.
A58: ITT#046 | B58: ITT2 | D58: 1650 | E58: RB Rollen | F58: GY Stockbrige | G58: Stockbridge | H58: USA | I58: GoodYear Aircraft | J58: 35 | K58: 2003 | L58: 2 | M58: 7 | N58: 27.119 | O58: G4 | P58: V4.40R.3.04.046 | Q58: 1933 | R58: 820 | T58: 2x 24V Ott | U58: Ott 24V | V58: Trommel DM0113 370W 1200mm Version ab 2019 | X58: Driverolls EC310 | Y58: Bosch + 1x Driveroll Band 2 | Z58: Ott 24V/Bosch 67W | AC58: Schneider Electric | AD58: VRDM31117 | AE58: Schneider Electric | AF58: VRDM397 | AG58: Schneider Electric | AH58: VRDM368 | AI58: EBM Papst | AJ58: 7020-001-025 | AL58: O:27/T5/36 B:40/T5/18 | AP58: 380-500V;3~ | AQ58: 115V | AR58: Wago | AS58: 750-8213 | AT58: SD328A U68 CAN | AU58: SD328A U25 CAN | AV58: SD328A U25 CAN | AW58: Kaleja M2-MWI-6-30 | AY58: AB Powerflex 4M 0,75KW 1~ | AZ58: vom Kunde | BB58: vom Kunde | BC58: APC BK500 115V | BE58: Elmo | BF58: 2BH-XX | BG58: 1,7KW | BH58: Ja | BI58: Wachenh.-Kirchner 115V | BK58: LS4208I | BL58: LPD5 | BM58: 5093 | BQ58: LPD5 5V | BR58: LPD5 | BS58: 5m, 5m, 12m | BT58: 8A,8B | BU58: 5m,10m | BY58: Blau | BZ58: 4 | CA58: Pentax 4.8mm 1:1.8 | CE58: HV (250V) | CJ58: Bilz | CL58: 8 Bar | CN58: 5 Bar | CR58: 28.11.2025 M B | CS58: 370075 | CT58: 79942 | CU58: Betriebsstunden bis zum Umbau 74917h; Zyklen 514897 | auf GigE und RB umgebaut 2019 von SW | DH und Wiegemodul (Bnad B2) Update 2025 gemacht?
A59: ITT#047 | B59: ITT2 | D59: 1650 | E59: RB Rollen | F59: Goodyear Aircraft Tilburg #1 | G59: Tilburg | H59: Niederlande | I59: GoodYear Aircraft | J59: 30 | K59: 2003 | L59: 2 | M59: 7 | N59: 27.103 | O59: G4 | P59: ITT_4_38RX_2_05_047 | Q59: 2502 | R59: 1033 | T59: driverolls mit Boschmotor | U59: Ott 24V | V59: Bosch | X59: Bosch | Y59: Bosch | Z59: Ott 24V/Bosch 67W | AC59: Schneider Electric | AD59: VRDM31117 | AE59: Schneider Electric | AF59: VRDM3910 | AG59: Schneider Electric | AH59: VRDM397 | AI59: Ott Tilt | AJ59: XDP045012 | AL59: O:27/T5/36 B:40/T5/18 | AP59: 380-500V;3~ | AQ59: 230V | AR59: Allen Bradley | AS59: 1769-L33ER | AT59: SD328A U68 CAN | AU59: SD328A U25 CAN | AV59: SD328A U25 CAN | AW59: Phoenix ELR 2A | AZ59: Nein | BB59: Lüfter 204mm | BC59: APC BK650EI 230V | BE59: Elektror | BF59: 2BH-XX | BG59: 4,6KW | BH59: Nein | BI59: SDS 3 Zylinder 120mm | BK59: LS4004I | BL59: LPD5 | BM59: 5452 | BQ59: LPD5 5V | BR59: LPD5 | BS59: 6m, 6m, 15m | BT59: 8A,8B | BU59: 6m, 6m,15m | BV59: 1367 | BW59: 1368 | BY59: Blau | BZ59: 4 | CC59: GigE MANTA G-235B | CD59: 45° | CE59: HV (250V) | CG59: Rexroth | CJ59: Keine | CL59: 6 Bar | CM59: 6 Bar | CR59: 27.02.2026 CG | CS59: 610118 | CT59: 67893 | CU59: Spezialbremse an 2 Stauförder-Entlader. GigE Update KW10/2025 | Wiegemodul intergriert auf B2 in KW9_2026 von CG
A60: ITT#048 | B60: ITT1-DD | D60: 1650 | E60: Nein | F60: Flying Dragon Aircraft | G60: Wuxi | H60: China | J60: 27 | K60: 2003 | L60: 1 | M60: 4 | N60: 7.11 | O60: G1 | P60: ITT1/2 Stand 5 | Q60: 656 | R60: 81 | U60: Ott 24V | X60: Bosch | Y60: Bosch | AC60: SEW | AE60: Bosch Riemenantrieb | AG60: Bosch Riemenantrieb | AI60: Bosch Riemenantrieb | AP60: 380-500V;3~ | AQ60: 230V | AR60: S5 + S7 | AS60: S95U | AT60: SEW Movitrac 07 | AU60: Schütz | AV60: Schütz | AW60: Schütz | BE60: Elmo | BF60: 2BH-XX | BG60: 1,7KW | BH60: Nein | BI60: Wachenh.-Kirchner 230V | BK60: Nein | BL60: LD3 | BM60: 3033 | BN60: 9165 | BY60: Blau | BZ60: 4 | CA60: Avenier 4.8 F1.4 | CB60: Throl 50mm | CC60: Teli | CD60: 0° | CE60: HV (250V) | CG60: Rexroth | CL60: 7 Bar | CM60: 5 Bar | CN60: 4 Bar | CR60: 28.01.2013 SD | CU60: Belader mit 2x DNC80
A61: ITT#049 | B61: ITT2 | E61: Nein | F61: BFS Akron Race #2 | G61: Akron | H61: USA | I61: BFS | O61: G1 | AP61: 380-500V;3~ | AQ61: 230V | AR61: S5 | AS61: S95U | CB61: Throl 50mm | CE61: HV (250V)
A62: ITT#050 | B62: ITT1-SD | D62: 1650 | E62: Nein | F62: GY Aircraft Thailand | G62: Bangkok | H62: Thailand | I62: GoodYear Aircraft | J62: 33 | K62: 2003 | L62: 1 | M62: 4 | N62: 8.15C | O62: G1 | P62: ITT1/1 Stand7.3 | Q62: 903 | U62: Ott 24V | AC62: SEW | AE62: Bosch Riemenantrieb | AG62: Bosch Riemenantrieb | AI62: Bosch Riemenantrieb | AP62: 380-500V;3~ | AR62: S5 | AS62: S95U | AT62: SEW Movitrac 07 | AU62: Schütz | AV62: Schütz | AW62: Schütz | AZ62: Nein | BC62: Nein | BE62: Elektror | BF62: 2BH-XX | BG62: 4,6KW | BH62: Nein | BI62: SDS 3 Zylinder 120mm | BK62: vom Kunden | BL62: LD4 HP | BM62: 4088 | BN62: 8017 | BQ62: Keine | BR62: LD4 | BS62: 10m | BT62: 5A, 5B, 5D | BU62: 5m,10m,2m | BY62: Blau | BZ62: 4 | CA62: Pentax 4.8mm 1:1.8 | CB62: Throl 50mm | CC62: Jai | CD62: 45° | CE62: HV (250V) | CR62: 23.01.2018 PS / 15.01.2020 | CS62: 599506 | CT62: alt 8711051 / neu 3637 | CU62: aus Daten der Maschinenmappe
A63: ITT#051 | B63: ITT1-SD | D63: 1650 | E63: Nein | F63: Kumho Korea | G63: Gwangju | H63: Korea | J63: 42 | K63: 2003 | L63: 1 | M63: 4 | N63: 19.05A | O63: G4 | P63: V_2_15_3_02_051 | Q63: 2031 | U63: Ott 24V | AC63: SEW | AE63: Bosch Riemenantrieb | AG63: Bosch Riemenantrieb | AI63: Bosch Riemenantrieb | AP63: 230V 3~ | AQ63: 230V | AR63: Wago | AS63: 750-881 | AT63: AB Powerflex 4M 0,37KW | AU63: Phoenix ELR 2A | AV63: Phoenix ELR 2A | AW63: Phoenix ELR 2A | AZ63: Ja, ohne Funktion. LS nachgerüstet | BE63: Elmo | BF63: 2BH-XX | BG63: 1,7KW | BH63: Nein | BI63: Wachenh.-Kirchner 230V | BK63: Nein | BL63: LD3 | BM63: 3008 | BY63: Blau | BZ63: 4 | CA63: Avenier 4.8 F1.4 | CB63: Throl 50mm | CC63: Teli | CE63: HV (250V) | CR63: 17.12.2012 RH | CU63: 2x Ott intern, 2x Vakupu, 230V-kein Trafo. h: 18481,04 Zyk:48969. Neuer PC 2031 seit 2020 eingebaut. Alter Dongle Nr. 97 noch beim Kunde
A64: ITT#052 | B64: ITT1-DD | D64: 1250 | E64: Nein | F64: GY-Alcaide | G64: Juncal | H64: Portugal | I64: GoodYear | J64: 47 | K64: 2003 | L64: 1 | M64: 4 | N64: 8.18C | O64: G1 | P64: ITT1/2 Stand 6.0 | Q64: 1203 | R64: 96 | U64: Ott 24V | X64: Bosch | AC64: SEW | AE64: Bosch Riemenantrieb | AG64: Bosch Riemenantrieb | AI64: Bosch Riemenantrieb | AP64: 380-500V;3~ | AQ64: 230V | AR64: S5 | AS64: S95U | AT64: SEW Movitrac 07 | AU64: Schütz | AV64: Schütz | AW64: Schütz | BE64: Elmo | BF64: 2BH-XX | BG64: 1,7KW | BL64: LD3 230V | BM64: 3017 | BN64: 9186 | BT64: 5A,5B,5D | BU64: 5m,10m,2m | BV64: 958 | BY64: Blau | BZ64: 4 | CE64: HV (250V) | CR64: 23.04.2012 RH | CU64: Ex GY-ITT1#102 | Aus Daten der Maschinenmappe. Videokabel und neuer PC in 06/2012 erhalten
A65: ITT#053 | B65: ITTCompact | E65: Nein | F65: Continental | G65: Charlotte | H65: USA | I65: Continental | J65: 13 | K65: 2004 | L65: 1 | M65: 4 | O65: G1 | Q65: 1348 | AC65: Bosch | AE65: Bosch Riemenantrieb | AG65: Bosch Riemenantrieb | AI65: Bosch Riemenantrieb | AP65: 380-500V;3~ | AQ65: 115V | AR65: S5 | AS65: S95U | AT65: Schütz | AU65: Schütz | AV65: Schütz | AW65: Schütz | BE65: Elmo | BF65: 2BH-XX | BG65: 0,9KW | BH65: Nein | BL65: LD3 | BY65: Blau | BZ65: 4 | CB65: Throl 50mm | CE65: HV (250V) | CR65: 17.08.2011 BB
A66: ITT#054 | B66: ITTCompact | E66: Nein | F66: Sumitomo | G66: Kobe | H66: Japan | J66: 45 | K66: 2003 | L66: 1 | M66: 4 | O66: G1 | AC66: Bosch | AE66: Bosch Riemenantrieb | AG66: Bosch Riemenantrieb | AI66: Bosch Riemenantrieb | AP66: 380-500V;3~ | AQ66: 230V | AR66: S5 | AS66: S95U | AT66: Schütz | AU66: Schütz | AV66: Schütz | AW66: Schütz | BI66: Wachenh.-Kirchner 230V | BL66: LPD 3B/4B | BM66: 4528 | BY66: Blau | BZ66: 4 | CA66: Avenier 4.8 F1.4 | CB66: Throl 50mm | CE66: HV (250V) | CR66: 21.02.2023 CG | CS66: 140142 | CT66: 45986 | CU66: Aus Daten Maschinenmappe PC Nr. 1113 geliefert 8.9.11. PC1113 zurück und verschrottet. PC-Nr. 1227 geliefert 26.11.13| Update auf WIN10 31.01.2023 CG | Neues LPD 3B/4B Januar 2025
A67: ITT#055 | B67: --> ITT#035 | F67: Pirelli | H67: Deutschland
A68: ITT#056 | B68: ITT1-SD | D68: 1250 | E68: Nein | F68: Michelin Almeria | G68: Almeria | H68: Spanien | J68: 7 | K68: 2004 | L68: 1 | M68: 4 | N68: 6.01 | O68: G1 | P68: ITT1/1 Stand7.4 | Q68: 343 | R68: 99 | U68: Ott 24V | X68: Bosch | AC68: SEW | AE68: Bosch Riemenantrieb | AG68: Bosch Riemenantrieb | AI68: Bosch Riemenantrieb | AP68: 380-500V;3~ | AQ68: 230V | AR68: S5 | AS68: S95U | AT68: SEW Movitrac 07 | AU68: Schütz | AV68: Schütz | AW68: Schütz | AZ68: Ja | BB68: Lüfter 204mm | BC68: Nein | BE68: Elmo | BF68: 2BH-XX | BG68: 1,7KW | BH68: Nein | BI68: Wachenh.-Kirchner 230V | BL68: LD3 | BM68: 3059 | BN68: 9189 | BQ68: Keine | BR68: LD3 | BY68: Blau | BZ68: 4 | CA68: Avenier 4.8 F1.4 | CB68: Throl 50mm | CC68: Teli | CD68: 0° | CE68: HV (250V) | CJ68: Bilz | CR68: 25.02.2013 BB | CS68: 12866 | CT68: 18753 | CU68: Türöffnung Höhe 630mm
A69: ITT#057 | B69: ITT2 | D69: 1650 | E69: Nein | F69: Nor Tyre | H69: Malaysia | J69: 14 | K69: 2004 | L69: 2 | M69: 7 | N69: 21.06 | O69: G4 | P69: V_4_14_3_01_057 | Q69: 1939 | R69: 829 | S69: Sick OD1000 | U69: Trommel DM0113 370W 1200mm Version ab 2019 | X69: Driverolls EC310 | AC69: Schneider Electric | AD69: VRDM31117 | AE69: Schneider Electric | AF69: VRDM3910 | AG69: Schneider Electric | AH69: VRDM397 | AI69: Ott Tilt | AJ69: XDP045012 | AP69: 380-500V;3~ | AQ69: 230V | AR69: Wago | AS69: 750-8213 | AT69: SD328A U68 CAN | AU69: SD328A U25 CAN | AV69: SD328A U25 CAN | AW69: Phoenix ELR 2A | AZ69: Nein | BB69: 320W 1~ Fuhrmeister (2015) | BC69: APC BK650EI 230V | BE69: Elektror | BF69: 1SD710 50/2,20 | BG69: 2,2KW | BH69: Ja | BI69: SDS 1 Zylinder 85mm | BK69: LS4208I | BL69: LPD5 | BM69: 5445 | BQ69: LPD5 5V | BR69: LPD5 | BS69: 5m,5m,12m | BT69: 8A,8B | BU69: 5m,5m,10m | BY69: Blau | BZ69: 4 | CA69: Pentax 4.8mm 1:1.8 | CB69: CPN-S | CC69: GigE MANTA G-235B | CD69: 0° | CE69: HV (250V) | CJ69: Bilz | CK69: FAEBI 200 | CR69: 18.10.2019 RH | CU69: Maschine war Michelin Aircraft Thailand. Update auf G4 GigE 2019 bei SDS
A70: ITT#058 | B70: ITT2 | C70: C | D70: 1650 | E70: Nein | F70: verschrottet war BAE Frameries
A71: ITT#059 | B71: ITT2 | C71: C | D71: 1650 | F71: Continental | G71: Modipuram | H71: Indien | I71: Continental | J71: 6 | K71: 2020 | L71: 1 | M71: 4 | N71: 21.09 | O71: G4 | P71: V_4_19_3_01_059 | Q71: 1958 | R71: 725 | S71: Sick OD1000 | U71: Ott 24V | V71: Driverolls EC310 | X71: Driverolls EC310 | Z71: Ott 24V/Bosch 43W | AC71: Schneider Electric | AD71: VRDM31117 | AE71: Schneider Electric | AF71: VRDM3910 | AG71: Schneider Electric | AH71: VRDM397 | AI71: Schneider Electric | AJ71: VRDM368 | AP71: 380-500V;3~ | AQ71: 230V | AR71: Wago | AS71: 750-8213 | AT71: SD328A U68 CAN | AU71: SD328A U25 CAN | AV71: SD328A U25 CAN | AW71: SD328A U25 CAN | AZ71: Haake | BB71: Ohne Klima/Lüfter | BC71: APC BK650EI 230V | BE71: Elmo | BF71: 2BH-XX | BG71: 4,6KW | BH71: Nein | BI71: SDS 3 Zylinder 120mm | BK71: LS4208I | BL71: LPD5 | BM71: 5419 | BQ71: LPD5 5V | BR71: LPD5 | BS71: 6m, 12m | BT71: 8A,8B | BU71: 6m, 10m | BV71: 954 | BY71: Blau | BZ71: 4 | CA71: Avenier 4.8 F1.4 | CB71: CPN-S | CC71: GigE MANTA G-235B | CD71: 45° | CE71: HV (250V) | CG71: Rexroth | CJ71: Bilz | CK71: FAEBI 200 | CR71: 26.08.2021 RH
A72: ITT#060 | B72: ITT1-DD | E72: Nein | F72: Triangle Tyre | H72: China | O72: G1 | CB72: Throl 50mm | CE72: HV (250V)
A73: ITT#061 | B73: ITT2 | D73: 850 | E73: Nein | F73: Triangle Tyre | G73: Weihei, Shandong | H73: China | J73: 27 | K73: 2004 | L73: 1 | M73: 4 | O73: G2 | Q73: 341 + 342 | R73: 115 | AC73: Schneider Electric | AD73: VRDM3913 | AE73: Schneider Electric | AF73: VRDM3910 | AG73: Schneider Electric | AH73: VRDM397 | AI73: Schneider Electric | AJ73: VRDM368 | AR73: S5 | AT73: TLD011 | AU73: TLD011 | AV73: TLD011 | AW73: TLD011 | BF73: 2BH-XX | BG73: 4,6KW | BL73: LD3 | BM73: 3064 | BN73: 9206 | BY73: Blau | BZ73: 4 | CA73: Avenier 4.8 F1.4 | CB73: Throl 50mm | CE73: HV (250V) | CU73: Aus Daten Maschinenmappe
A74: ITT#062 | B74: ITT2 | D74: 1250 | F74: Michelin | G74: Karlsruhe | H74: Deutschland | I74: Michelin PLE | J74: 21 | K74: 2004 | L74: 3 | M74: 9 | N74: 18.08 | O74: G4 | P74: V_4_08_2_02_062 | Q74: M109 | R74: 513 | U74: Trommel 120W 87Hz | V74: Trommel 120W 87Hz | W74: Trommel 120W 87Hz | AC74: Schneider Electric | AD74: VRDM3913 | AE74: Schneider Electric | AF74: VRDM397 | AG74: Schneider Electric | AH74: VRDM368 | AI74: Ott Tilt | AJ74: XDP045012 | AP74: 380-500V;3~ | AQ74: 230V | AR74: Allen Bradley | AS74: 1768-L43 V19 | AT74: SD328A U25 CAN | AU74: SD328A U25 CAN | AV74: SD328A U25 CAN | AW74: Phoenix ELR 2A | AX74: AB Powerflex 4M 0,37KW | AY74: AB Powerflex 4M 0,75KW | AZ74: Nein | BB74: Lüfter 204mm | BC74: APC BK650EI 230V | BE74: Elmo | BF74: 2BH-XX | BG74: 4,6KW | BH74: Nein | BI74: SDS 3 Zylinder 120mm | BL74: LPD5 | BM74: 5140 | BQ74: LPD5 5V | BR74: LPD5 | BT74: 5A, Videobox | BU74: 6m | BY74: Blau | BZ74: 4 | CA74: Pentax 4.8mm 1:1.8 | CB74: Throl 50mm | CC74: Jai | CD74: 0° | CE74: HV (250V) | CG74: INA | CJ74: Bilz | CK74: FAEBI 150 | CO74: Messkopf mit neuen Dioden | CP74: 60976 (Okt. 2017 bei SDS) | CR74: 27.10.2017 BB | CS74: 631314 | CT74: 60991 | CU74: Maschine wurde im Juni 2013 auf 3 Messköpfe umgebaut (ZyklenzählerStand: 353441 Zyklen und 34301 Stunden) | Maschine in Okt. 2017 bei SDS Umgerüstet und nach Karlsruhe ausgeliefert
A75: ITT#063old | B75: ITT1-DD | D75: 1250 | E75: Nein | F75: Drebor Jacar Pneus | H75: Brasilien | J75: 9 | K75: 2004 | L75: 1 | M75: 4 | N75: 8.01 | O75: G1 | Q75: 1418 | U75: Ott 24V | AC75: SEW | AE75: Bosch Riemenantrieb | AG75: Bosch Riemenantrieb | AI75: Bosch Riemenantrieb | AP75: 380-500V;3~ | AQ75: 230V | AR75: S5 | AS75: S95U | AT75: SEW Movitrac 07A | AU75: Schütz | AV75: Schütz | AW75: Schütz | BE75: Elmo | BF75: 2BH-XX | BG75: 1,7KW | BI75: Wachenh.-Kirchner 230V | BQ75: Keine | BR75: LD3 | BY75: Blau | BZ75: 4 | CB75: Throl 50mm | CE75: HV (250V) | CR75: 05.09.2011 RH | CU75: aus Daten der Maschinenmappe | Update auf G4-GigE-WIN 10 in 2026 gemacht?
A76: ITT#063new | B76: ITT1-DD | D76: 1250 | E76: Nein | F76: Conquixta Pneus Ex Drebor Jacar Pneus | H76: Brasilien | J76: 9 | K76: 2004 | L76: 1 | M76: 4 | O76: G4 | U76: Ott 24V | AC76: SEW | AE76: Bosch Riemenantrieb | AG76: Bosch Riemenantrieb | AI76: Bosch Riemenantrieb | AP76: 380-500V;3~ | AQ76: 230V | AR76: Wago | AS76: 750-893 | AT76: AB Powerflex 4M 0,37KW 1~ | AU76: Kaleja M2-MWI-6-30 | AV76: Kaleja M2-MWI-6-30 | AW76: Kaleja M2-MWI-6-30 | BC76: APC BK650EI 230V | BE76: Elmo | BF76: 2BH-XX | BG76: 1,7KW | BI76: Wachenh.-Kirchner 230V | BL76: LPD 3B/4B | BQ76: Keine | BR76: LD3 | BS76: 7,5m | BT76: 8A,8B | BU76: 5m, 10m | BY76: Blau | BZ76: 4 | CE76: HV (250V) | CR76: 12.03.2026 RH | CU76: aus Daten der Maschinenmappe | Update auf G4-GigE-WIN 10 in 2026 gemacht?
A77: ITT#064 | B77: ITT1-DD | D77: 1650 | F77: Michelin | G77: Ladoux | H77: Frankreich | J77: 25 | K77: 2004 | L77: 1 | M77: 4 | N77: 18.03 | O77: G4 | P77: V_4_05_3_02_064 | Q77: M105 | R77: 111 | U77: Ott 24V | V77: Bosch | X77: Bosch | AC77: SEW | AE77: Bosch Riemenantrieb | AG77: Bosch Riemenantrieb | AI77: Bosch Riemenantrieb | AP77: 380-500V;3~ | AQ77: 230V | AR77: Wago | AS77: 750-881 | AT77: AB Powerflex 4M 0,37KW | AU77: Phoenix ELR 6A | AV77: Phoenix ELR 2A | AW77: Phoenix ELR 2A | AZ77: Ja, Allen Bradley | BB77: Lüfter 148mm | BC77: Nein | BE77: Elmo/Gardner Denver | BF77: 2BH-XX | BG77: 4,6KW | BH77: Nein | BI77: SDS 3 Zylinder 120mm | BK77: Nein | BL77: LD3 | BM77: 3012 | BN77: 9164 | BQ77: Keine | BR77: LD3 | BS77: 15m | BT77: 1,1A | BU77: 15m | BY77: Blau | BZ77: 4 | CA77: Avenir 4.8 F1.4 | CB77: Throl 50mm | CC77: Teli | CD77: 0° | CE77: HV (250V) | CG77: Rexroth | CJ77: Bilz | CK77: FAEBI 200 | CN77: 4 Bar | CO77: Messkopf mit neuen Dioden | CP77: 2017 CG | CR77: 21.06.2018 RH | CS77: 122690 | CT77: 64473 | CU77: Isolatoren getauscht 21.06.2018 RH
A78: ITT#065 | B78: ITT2 | D78: 1250 | F78: Reiff | G78: Reutlingen | H78: Deutschland | J78: 23 | K78: 2004 | L78: 1 | M78: 4 | N78: 16.11G4 | O78: G4 | P78: V_3_02_3_02_065 | Q78: 1466 | R78: 40 | U78: Ott 24V | V78: Bosch | X78: Bosch | Y78: Driverolls EC200 36:1e | Z78: Ott 24V/Bosch 43W | AC78: Schneider Electric | AD78: VRDM3913 | AE78: Schneider Electric | AF78: VRDM3910 | AG78: Schneider Electric | AH78: VRDM397 | AI78: Schneider Electric | AJ78: VRDM368 | AL78: O:36/AT5/27 B:27/AT5/20 | AP78: 380-500V;3~ | AQ78: 230V | AR78: Wago | AS78: 758-874/000-112 | AT78: SD328A U25 CAN | AU78: SD328A U25 CAN | AV78: SD328A U25 CAN | AW78: SD328A U25 CAN | AZ78: Nein | BB78: Lüfter 204mm | BC78: Nein | BE78: Elmo | BF78: 2BH-XX | BG78: 4,6KW | BH78: Nein | BI78: SDS 3 Zylinder 120mm | BK78: LS4004I | BL78: LD4 | BM78: 4051 | BN78: 9434 | BQ78: Keine | BR78: LD3 | BT78: 1 | BY78: Blau | BZ78: 4 | CA78: Avenier 4.8 F1.4 | CB78: Throl 50mm | CC78: Teli | CD78: 0° | CE78: HV (250V) | CG78: Rexroth | CJ78: Keine | CR78: 02.09.2014 BB | CS78: 326000 | CT78: 84100 | CU78: Wurde auf G4 umgebaut im August 2014 bei 326000 Zyklen und 84100 Betriebsstunden
A79: ITT#066 | B79: ITT1-SD | D79: 1250 | E79: Nein | F79: Yokohama Rubber | H79: Japan | J79: 28 | K79: 2004 | L79: 1 | M79: 4 | N79: 20.03 | O79: G4 | P79: V_4_08_3_01_066 | Q79: 1817 | R79: 114 | U79: Ott 24V | X79: Bosch | AC79: SEW | AE79: Bosch Riemenantrieb | AG79: Bosch Riemenantrieb | AI79: Bosch Riemenantrieb | AP79: 380-500V;3~ | AQ79: 230V | AR79: Wago | AS79: 750-881 | AT79: AB Powerflex 4M 0,37KW | AU79: Phoenix ELR 6A | AV79: Phoenix ELR 6A | AW79: Phoenix ELR 2A | AZ79: Eigene Schutzgitter auf Beladeventil | BB79: Lüfter 148mm | BE79: Elmo | BF79: 2BH-XX | BG79: 1,7KW | BH79: Nein | BI79: Wachenh.-Kirchner 230V | BK79: Nein | BL79: LD3 | BM79: 3080 | BN79: 9211 | BT79: 8A, 8B | BU79: 5m, 10m | BY79: Blau | BZ79: 4 | CA79: Pentax 4.8mm 1:1.8 | CB79: CPN-S | CC79: GigE MANTA G-235B | CD79: 0° | CE79: HV (250V) | CG79: Rexroth | CJ79: Bilz | CK79: FAEBI 150 | CR79: 08.06.2018 RH
A80: ITT#067 | B80: ITT2 | D80: 1650 | F80: BAU #1 | G80: Mayodan (NC) | H80: USA | I80: BFS Aircraft | J80: V | K80: 2004 | L80: 3 | M80: 10 | N80: 27.113G4 | O80: G4 | P80: V_4_40_3_03_067 | Q80: CU2523 | R80: 1060 | U80: Trommel DM0113 370W 1200mm Version ab 2019 | V80: Trommel 113i 370W 1200mm | W80: Trommel 113i 370W 1200mm | X80: Bosch | Y80: Bosch | AC80: Schneider Electric | AD80: VRDM31117 | AE80: Schneider Electric | AF80: VRDM397 | AG80: Schneider Electric | AH80: VRDM368 | AI80: EBM Papst | AJ80: 7020-001-025 | AP80: 380-500V;3~ | AQ80: 115V | AR80: Wago | AS80: 750-8213 | AT80: SD328A U68 CAN | AU80: SD328A U25 CAN | AV80: SD328A U25 CAN | AW80: Kaleja M2-MWI-6-30 | AX80: AB Powerflex 4M 0,37KW | AY80: AB Powerflex 4M 0,75KW | AZ80: Nein | BB80: 1000W 3~ | BC80: APC BK500 115V | BE80: Elmo | BF80: 2BH-XX | BG80: 4,6KW | BH80: Nein | BI80: SDS 3 Zylinder 120mm | BL80: LPD7 | BQ80: LPD7 5V | BR80: LPD5/7 | BS80: 5m, 5m, 6m, 12m | BT80: 8A,8B | BU80: 5m, 5m, 6m, 15m | BV80: 1392 | BW80: 1393 | BX80: 1394 | BY80: Blau | BZ80: 4 | CE80: HV (250V) | CG80: HIWIN | CI80: nicht Verstärkt, Vergossen | CR80: 11.07.2025 BB | CU80: Update auf TH und Triple Tilt und GigE (ohne ext. Shift) 05/2025 gemacht von SW 09/2025, Liste nicht aktualisiert. Mit neuem Portal und neuem Trommelmotor intern, jetzt ohne ext. Shift.
A81: ITT#068 | B81: ITT2 | D81: 1250 | F81: Michelin | G81: Valladolid | H81: Spanien | I81: Michelin Remix | J81: 38 | K81: 2004 | L81: 3 | M81: 9 | N81: 26.103 | O81: G4 | P81: V_5_22X_2_05_068 | Q81: 2402 | R81: 649 | U81: Ott 24V | V81: Bosch | W81: Driverolls EC200 16:1 | X81: Bosch | Y81: Driverolls EC200 16:1 | AC81: Schneider Electric | AD81: VRDM3913 | AE81: Schneider Electric | AF81: VRDM3910 | AG81: Schneider Electric | AH81: VRDM397 | AI81: Schneider Electric | AJ81: VRDM368 | AP81: 380-500V;3~ | AQ81: 230V | AR81: Allen Bradley | AS81: 5069-L320ER | AT81: SD328A U25 CAN | AU81: SD328A U25 CAN | AV81: SD328A U25 CAN | AW81: Phoenix ELR 2A | AX81: AB Powerflex 4M 0,37KW | AY81: AB Powerflex 4M 0,75KW | AZ81: Nein | BB81: Lüfter 204mm | BC81: Nein | BE81: Elmo | BF81: 2BH-XX | BG81: 4,6KW | BH81: Nein | BI81: SDS 3 Zylinder 120mm | BK81: vom Kunden | BL81: LPD7 | BM81: 7512 | BQ81: LPD5 5V | BR81: LPD5 | BS81: 5m, 6m, 12m | BT81: 8A,8B | BU81: 5m, 6m, 12m | BY81: Blau | BZ81: 4 | CA81: Pentax 4.8mm 1:1.8 | CB81: CPN-S | CC81: GigE MANTA G-235B | CD81: 0° | CE81: HV (250V) | CJ81: Bilz | CK81: FAEBI 150 | CL81: 6.5 | CM81: 6 | CO81: Messkopf mit neuen Dioden | CP81: 04/2024 CG | CR81: 22.04.2024 CG | CS81: 1871245 | CT81: 63669 | CU81: Im Verbund mit ITT#166 und Conveyor CVS#005. Umbau auf 3-Kopf 2016. Umbau auf neue PLC und GigE 2024 | 2025: CVS Steuerungsseitig complett von Michelin übernommen
A82: ITT#069 | B82: ITT2 | D82: 1650 | F82: Goodyear | G82: Danville | H82: USA | I82: GoodYear M.R.T. | J82: 4 | K82: 2004 | L82: 1 | M82: 4 | O82: G2 | Q82: 1136 | U82: Ott 48V | V82: Bosch | X82: Bosch | AC82: Schneider Electric | AD82: VRDM31117 | AE82: Schneider Electric | AF82: VRDM3910 | AG82: Schneider Electric | AH82: VRDM397 | AI82: Schneider Electric | AJ82: VRDM368 | AP82: 380-500V;3~ | AR82: Wago | AS82: 750-842 | AT82: TLC512 | AU82: TLC511 | AV82: TLC511 | AW82: TLC511 | BB82: Lüfter 204mm | BE82: Elektror | BF82: 2BH-XX | BG82: 4,6KW | BH82: Nein | BI82: SDS 3 Zylinder 120mm | BK82: LS4004I | BL82: LD3 | BQ82: Keine | BR82: LD3 | BY82: Blau | BZ82: 4 | CA82: Avenier 4.8 F1.4 | CB82: Throl 50mm | CE82: HV (250V)
A83: ITT#070 | B83: ITT2 | D83: 1650 | F83: Goodyear (jetzt Sumitomo Rub.) | G83: Tonawanda | H83: USA | J83: 42 | K83: 2004 | L83: 1 | M83: 4 | O83: G4 | U83: Ott 48V | V83: Bosch | X83: Bosch | AC83: Schneider Electric | AD83: VRDM31117 | AE83: Schneider Electric | AF83: VRDM3910 | AG83: Schneider Electric | AH83: VRDM397 | AI83: Schneider Electric | AJ83: VRDM368 | AP83: 380-500V;3~ | AR83: Wago | AS83: 750-8213 | AT83: SD328A U68 CAN | AU83: SD328A U25 CAN | AV83: SD328A U25 CAN | AW83: SD328A U25 CAN | BB83: Lüfter 204mm | BE83: Elektror | BF83: 2BH-XX | BG83: 4,6KW | BH83: Nein | BI83: SDS 3 Zylinder 120mm | BK83: LS4004I | BL83: LD3 | BQ83: Keine | BR83: LD3 | BY83: Blau | BZ83: 4 | CA83: Avenier 4.8 F1.4 | CB83: Throl 50mm | CE83: HV (250V) | CU83: G4 update by CMI 2021
A84: ITT#071 | B84: ITT2 | D84: 1650 | F84: Goodyear | G84: Izmit | H84: Türkei | I84: GoodYear M.R.T. | L84: 1 | M84: 4 | N84: 19.05A | O84: G4 | P84: V_4_14_3_01_071 | Q84: 1949 | R84: 684 | U84: Ott 48V | V84: Bosch | X84: Bosch | AC84: Schneider Electric | AD84: VRDM31117 | AE84: Schneider Electric | AF84: VRDM3910 | AG84: Schneider Electric | AH84: VRDM397 | AI84: Schneider Electric | AJ84: VRDM368 | AP84: 380-500V;3~ | AQ84: 115V | AR84: Wago | AS84: 750-8213 | AT84: SD328A U68 CAN | AU84: SD328A U25 CAN | AV84: SD328A U25 CAN | AW84: SD328A U25 CAN | BB84: Lüfter 204mm | BE84: Elektror | BF84: 2BH-XX | BG84: 4,6KW | BH84: Nein | BI84: SDS 3 Zylinder 120mm | BK84: LS4004I | BL84: LD3 | BQ84: Keine | BR84: LD3 | BT84: 5A,5B,5D | BU84: 6m,10m,2m | BY84: Blau | BZ84: 4 | CA84: Avenier 4.8 F1.4 | CB84: Throl 50mm | CC84: Teli | CD84: 0° | CE84: HV (250V) | CK84: FAEBI 200 | CL84: 6 bar | CO84: Messkopf mit neuen Dioden | CQ84: 43814 | CR84: 18.12.2019 CG | CU84: G4 update im Dezember
A85: ITT#072 | B85: ITT2 | D85: 1650 | F85: Goodyear | G85: Sava | H85: Slovenien | I85: GoodYear M.R.T. | J85: 44 | K85: 2004 | L85: 1 | M85: 4 | N85: 19.13 | O85: G4 | P85: V_4_30_3_01_072 | Q85: 2117 | R85: 488 | U85: Ott 48V | V85: Bosch | X85: Bosch | AC85: Schneider Electric | AD85: VRDM31117 | AE85: Schneider Electric | AF85: VRDM3910 | AG85: Schneider Electric | AH85: VRDM397 | AI85: Schneider Electric | AJ85: VRDM368 | AN85: Bilz Isolatoren mit 3 Reglern | AP85: 380-500V;3~ | AQ85: 230V | AR85: Wago | AS85: 750-8213 | AT85: SD328A U68 CAN | AU85: SD328A U25 CAN | AV85: SD328A U25 CAN | AW85: SD328A U25 CAN | AZ85: Haake | BB85: Lüfter 204mm | BE85: Elektror | BF85: 2BH-XX | BG85: 4,6KW | BH85: Nein | BI85: SDS 3 Zylinder 120mm | BK85: Kundeneigener Funkscanner | BL85: LPD 3B/4B | BM85: 4511 | BQ85: Keine | BR85: LD3 | BS85: 15m | BT85: 5A,5B,5C | BU85: 5m,10m,2m | BY85: Blau | BZ85: 4 | CA85: Avenier 4.8 F1.4 | CB85: Throl 50mm | CC85: Teli | CD85: 0° | CE85: HV (250V) | CG85: Rexroth | CJ85: Bilz | CO85: Dioden | CQ85: 43762 | CR85: 20.05.2022 RH | CS85: 1182295 | CT85: 43108.27 | CU85: Dioden von Ust am 24.10.2019 beim Service getauscht. Stundenzähler mind. 1x überdreht: 2012: 64051 h - 2019 21542 h | Videokabel getauscht auf 3-teilig 2.11.21 | Umbau auf G4 05/2022 | Isolatoren verbaut, Typ?
A86: ITT#073 | B86: ITT2 | D86: 1650 | F86: Goodyear Luxemburg | G86: Colmar Berg | H86: Luxemburg | I86: GoodYear M.R.T. | J86: 45 | K86: 2004 | L86: 1 | M86: 4 | N86: 14.05G4 | O86: G4 | P86: V_3_02_3_02_073 | Q86: 1467 | R86: 151 | U86: Ott 48V | V86: Bosch | X86: Bosch | AC86: Schneider Electric | AD86: VRDM31117 | AE86: Schneider Electric | AF86: VRDM3910 | AG86: Schneider Electric | AH86: VRDM397 | AI86: Schneider Electric | AJ86: VRDM368 | AP86: 380-500V;3~ | AQ86: 230V | AR86: Wago | AS86: 758-870/000-012 | AT86: SD328A U68 CAN | AU86: SD328A U25 CAN | AV86: SD328A U25 CAN | AW86: SD328A U25 CAN | BB86: Lüfter 204mm | BE86: Elektror | BF86: 2BH-XX | BG86: 4,6KW | BH86: Nein | BI86: SDS 3 Zylinder 120mm | BK86: LS4004I | BL86: LD3 | BM86: 3086 | BN86: 9122 | BQ86: Keine | BR86: LD3 | BY86: Blau | BZ86: 4 | CA86: Pentax 4.8mm 1:1.8 | CB86: Throl 50mm | CC86: Teli | CD86: 0° | CE86: HV (250V) | CG86: Rexroth | CJ86: Bilz | CK86: FAEBI 200 | CL86: 7 bar | CM86: 5 bar | CN86: 5 bar | CP86: 9110,76 | CQ86: 44182 | CR86: 23.10.2024 SW | CS86: 441580 | CT86: 42360
A87: ITT#074 | B87: ITT2 | D87: 1650 | F87: Goodyear Wittlich | G87: Wittlich | H87: Deutschland | I87: GoodYear M.R.T. | J87: 49 | K87: 2004 | L87: 1 | M87: 4 | N87: 19.05 | O87: G4 | P87: V_1_82_3_01_074 | Q87: 1604 | R87: 883 | S87: Nein | U87: Ott 48V | V87: Bosch | X87: Bosch | AC87: Schneider Electric | AD87: VRDM31117 | AE87: Schneider Electric | AF87: VRDM3910 | AG87: Schneider Electric | AH87: VRDM397 | AI87: Schneider Electric | AJ87: VRDM368 | AP87: 380-500V;3~ | AQ87: 230V | AR87: Wago | AS87: 750-8213 | AT87: SD328A U68 CAN | AU87: SD328A U25 CAN | AV87: SD328A U25 CAN | AW87: SD328A U25 CAN | AZ87: Ja | BB87: Lüfter 204mm | BC87: Nein | BE87: Elektror | BF87: 2BH-XX | BG87: 4,6KW | BH87: Nein | BI87: SDS 3 Zylinder 120mm | BK87: LS4208I | BL87: LD3 | BM87: 3089 | BN87: 9219 | BQ87: Keine | BR87: LD3 | BT87: 5A,5B,5D | BU87: 5m,10m,2m | BV87: Keine | BY87: Blau | BZ87: 4 | CA87: Avenier 4.8 F1.4 | CB87: Throl 50mm | CC87: Teli | CD87: 0° | CE87: HV (250V) | CF87: 80 | CG87: INA | CJ87: Bilz | CK87: FAEBI 200 | CL87: 7 bar | CM87: 4Bar | CR87: 15.11.2024 SW+MB+NH | CS87: 318216 | CT87: 593091
A88: ITT#075old | B88: ITT2 | D88: 1650 | F88: Goodyear | G88: Debica | H88: Polen | I88: GoodYear M.R.T. | J88: 51 | K88: 2004 | L88: 1 | M88: 4 | N88: 7.06 | O88: G2 | P88: GY79V1.1 | Q88: 437 | R88: 157 | U88: Ott 48V | V88: Bosch | X88: Bosch | AC88: Schneider Electric | AD88: VRDM31117 | AE88: Schneider Electric | AF88: VRDM3910 | AG88: Schneider Electric | AH88: VRDM397 | AI88: Schneider Electric | AJ88: VRDM368 | AN88: Bilz Isolatoren mit 3 Reglern | AP88: 380-500V;3~ | AQ88: 230V | AR88: Wago | AS88: 750-842 | AT88: TLC512 | AU88: TLC511 | AV88: TLC511 | AW88: TLC511 | AZ88: Haake | BB88: Lüfter 204mm | BE88: Elektror | BF88: 2BH-XX | BG88: 4,6KW | BH88: Nein | BI88: SDS 3 Zylinder 120mm | BK88: Ausgelieferter 4004I entfernt vom Kunde | BL88: LD3 | BM88: 3103 | BN88: 9208 | BQ88: Keine | BR88: LD3 | BT88: 5A,5B,5C | BU88: 5m,5m,2m | BY88: Blau | BZ88: 4 | CA88: Avenier 4.8 F1.4 | CB88: Throl 50mm | CD88: 0° | CE88: HV (250V) | CG88: Rexroth | CJ88: Bilz | CK88: FAEBI 200 | CL88: 7 bar | CM88: 5 Bbar | CN88: 6 Bar | CO88: Dioden | CP88: 170031 | CQ88: 43601 | CR88: 43601 | CS88: 170031 | CT88: 16710 | CU88: Schaltschrank mit Klimagerät für PC. ( Kundeneigenbau Rittal) | Umbau auf G4, GigE , WIN10 in 2026 gemacht?
A89: ITT#075new | B89: ITT2 | D89: 1650 | F89: Goodyear | G89: Debica | H89: Polen | I89: GoodYear M.R.T. | J89: 51 | K89: 2004 | L89: 1 | M89: 4 | O89: G4 | S89: Nein | U89: Ott 48V | V89: Bosch | X89: Bosch | AC89: Schneider Electric | AD89: VRDM31117 | AE89: Schneider Electric | AF89: VRDM3910 | AG89: Schneider Electric | AH89: VRDM397 | AI89: Schneider Electric | AJ89: VRDM368 | AN89: Bilz Isolatoren mit 3 Reglern | AP89: 380-500V;3~ | AQ89: 230V | AR89: Wago | AS89: 750-8213 | AT89: SD328A U68 CAN | AU89: SD328A U25 CAN | AV89: SD328A U25 CAN | AW89: SD328A U25 CAN | AZ89: Haake | BB89: Lüfter 204mm | BE89: Elektror | BF89: 2BH-XX | BG89: 4,6KW | BH89: Nein | BI89: SDS 3 Zylinder 120mm | BK89: Ausgelieferter 4004I entfernt vom Kunde | BL89: LD3 | BM89: 3103 | BN89: 9208 | BQ89: Keine | BR89: LD3 | BS89: 15m | BT89: 8A, 8B | BU89: 5m,10m | BY89: Blau | BZ89: 4 | CE89: HV (250V) | CG89: Rexroth | CJ89: Bilz | CK89: FAEBI 200 | CL89: 7 bar | CM89: 5 Bbar | CN89: 6 Bar | CO89: Dioden | CP89: 170031 | CR89: 13.02.2026 RH | CU89: Schaltschrank mit Klimagerät für PC. ( Kundeneigenbau Rittal) | Umbau auf G4, GigE , WIN10 in 2026 gemacht?
A90: ITT#076 | B90: ITT2 | D90: 1650 | F90: Goodyear | G90: Topeka | H90: USA | I90: GoodYear M.R.T. | J90: 3 | K90: 2005 | L90: 1 | M90: 4 | O90: G4 | R90: 149 | U90: Ott 48V | V90: Bosch | X90: Bosch | AC90: Schneider Electric | AD90: VRDM31117 | AE90: Schneider Electric | AF90: VRDM3910 | AG90: Schneider Electric | AH90: VRDM397 | AI90: Schneider Electric | AJ90: VRDM368 | AP90: 380-500V;3~ | AQ90: 115V | AR90: Wago | AS90: 750-8213 | AT90: SD328A U68 CAN | AU90: SD328A U25 CAN | AV90: SD328A U25 CAN | AW90: SD328A U25 CAN | AZ90: Haake | BB90: Lüfter 204mm | BC90: Nein | BE90: Elektror | BF90: 2BH-XX | BG90: 4,6KW | BH90: Nein | BI90: SDS 3 Zylinder 120mm | BK90: vom Kunden | BL90: LD3 | BM90: 3098 | BN90: 9232 | BQ90: Keine | BR90: LD3 | BY90: Blau | BZ90: 4 | CA90: Pentax 4.8mm 1:1.8 | CB90: Throl 50mm | CD90: 0° | CE90: HV (250V) | CJ90: Bilz | CK90: BiAir 2-ED/HE | CO90: Dioden | CP90: 28815 | CR90: 15.12.2025 SW | CS90: 53070 | CT90: 60884 | CU90: Umbau auf G4 in ??/2022 durch CMI
A91: ITT#077 | B91: ITT2 | D91: 1250 | F91: Michelin | G91: Avalon Pneu Laurent | H91: Frankreich | I91: Michelin Remix | J91: 46 | K91: 2004 | L91: 3 | M91: 9 | O91: G4 | P91: V_4_40_2_05_077 | Q91: 2536 | R91: 1075 | U91: Trommel 120W 87Hz | V91: Trommel 120W 87Hz | W91: Trommel 120W | AC91: Schneider Electric | AD91: VRDM3913 | AE91: Schneider Electric | AF91: VRDM397 | AG91: Schneider Electric | AH91: VRDM368 | AI91: Ott Tilt | AJ91: XDP045012 | AP91: 380-500V;3~ | AQ91: 230V | AR91: Allen Bradley | AS91: 1768-L43 V19 | AT91: SD328A U25 CAN | AU91: SD328A U25 CAN | AV91: SD328A U25 CAN | AW91: Phoenix ELR 2A | AX91: AB Powerflex 4M 0,37KW | AY91: AB Powerflex 4M 0,75KW | AZ91: Nein | BB91: Lüfter 204mm | BC91: APC BK650EI 230V | BE91: Elmo | BF91: 2BH-XX | BG91: 4,6KW | BH91: Nein | BI91: SDS 3 Zylinder 120mm | BL91: LPD7 | BM91: 7665 | BQ91: LPD5 5V | BR91: LPD5 | BS91: 5m,6m,12m | BT91: 8A, 8B | BU91: 5m,6m,10m | BV91: 1422 | BW91: 1423 | BX91: 1424 | BY91: Blau | BZ91: 4 | CC91: GigE MANTA G-235B | CD91: 0° | CE91: HV (250V) | CG91: INA | CJ91: Bilz | CK91: FAEBI 150 | CL91: 7 | CM91: 4 | CN91: 4 | CO91: Messkopf mit neuen Dioden | CP91: 130749,6 | CQ91: 46006 | CS91: 1173372 | CT91: 130749.6 | CU91: Maschine wurde im Sept. 2013 auf 3 Messköpfe umgebaut (ZyklenzählerStand: 285230 Zyklen und 33693 Stunden) | Umzug nach Avallon 31.08.2017 | Update auf GigE 12/2025
A92: ITT#078 | B92: ITT2 | D92: 1250 | F92: Michelin Homburg #2 | G92: Homburg | H92: Deutschland | I92: Michelin Remix | J92: 50 | K92: 2004 | L92: 3 | M92: 9 | N92: 24.06 | O92: G4 | P92: V_4_30x_2_05_078 | Q92: 2220 | R92: 931 | U92: Trommel 140W 400V | V92: Trommel 140W 400V | W92: Trommel 140W 400V | X92: Bosch | AC92: Schneider Electric | AD92: VRDM3913 | AE92: Schneider Electric | AF92: VRDM3910 | AG92: Schneider Electric | AH92: VRDM397 | AI92: Ott Tilt | AJ92: XDP045012 | AP92: 380-500V;3~ | AQ92: 230V | AR92: Allen Bradley | AS92: 1769-L32E | AT92: SD328A U25 CAN | AU92: SD328A U25 CAN | AV92: SD328A U25 CAN | AW92: Phoenix ELR 2A | AX92: AB Powerflex 4M 0,75KW 3~ | AY92: AB Powerflex 4M 0,75KW 3~ | AZ92: Nein | BB92: Lüfter 204mm | BC92: Sonstige / vom Kunde | BE92: Elektror | BF92: 2BH-XX | BG92: 4,6KW | BH92: Nein | BI92: SDS 3 Zylinder 120mm | BK92: Nein | BL92: LPD5 | BM92: 7662 | BQ92: LPD7 5V | BR92: LPD5/7 | BS92: 5m,6m,12m | BT92: 8A, 8B | BU92: 5m,6m,10m | BV92: 1157 | BW92: 1159 | BX92: 1158 | BY92: Blau | BZ92: 4 | CE92: HV (250V) | CG92: HIWIN | CJ92: Bilz | CK92: FAEBI 150 | CL92: 5 Bar | CM92: 4Bar | CO92: Messkopf mit neuen Dioden | CQ92: 44784 | CR92: 11.08.2022 SW | CS92: 1460761 | CT92: 135028.5 | CU92: Insel 1 mit ITT#036 und ITT#143 | G4-Umbau/Update Nov 2014 bei h: 75169 Zyklen: 857409 | 3-Kopf und GigE update 08/2022 bei 1460761 Zyklen
A93: ITT#079 | B93: ITT2 | D93: 1250 | F93: Michelin | G93: Alessandria | H93: Italien | I93: Michelin Remix | J93: 49 | K93: 2004 | L93: 1 | M93: 4 | N93: 26.117G4 | O93: G4 | P93: V_4_36X_2_02_079 | Q93: CU2442 | R93: 1022 | U93: Ott 24V | V93: Bosch | W93: Bosch | X93: Bosch | AC93: Schneider Electric | AD93: VRDM3913 Motorplatte mit Gewinde. Siehe Bilder 12_2024 | AE93: Schneider Electric | AF93: VRDM3910 | AG93: Schneider Electric | AH93: VRDM397 | AI93: Schneider Electric | AJ93: VRDM368 | AP93: 380-500V;3~ | AQ93: 230V | AR93: Allen Bradley | AS93: 1769-L32E V19 | AT93: SD328A U25 CAN | AU93: SD328A U25 CAN | AV93: SD328A U25 CAN | AW93: SD328A U25 CAN | AZ93: Kunde | BB93: Lüfter 204mm | BC93: APC BK650EI 230V | BE93: Elmo | BF93: 2BH-XX | BG93: 4,6KW | BH93: Nein | BI93: SDS 3 Zylinder 120mm | BL93: LD4 | BM93: 4020 | BN93: 9469 | BQ93: Keine | BR93: LD4 | BS93: 10m | BT93: 8A, 8B | BU93: 5m,6m,10m | BV93: 1316 | BY93: Blau | BZ93: 4 | CE93: HV (250V) | CG93: Rexroth | CJ93: Bilz | CK93: FAEBI 150 | CL93: 7 bar | CM93: 6 bar | CO93: Messkopf mit neuen Dioden | CP93: 59967,74 | CR93: 14.12.2024 SW+NH | CS93: 439102 | CT93: 59967,74 | CU93: Im Verbund mit ITT#106 und Conveyor CVS#001 | 09_2024 GigE-Update installiert SW+NH KW51/24
A94: ITT#080 | B94: ITT1-DD | D94: 1250 | E94: Nein | F94: Cooper tire | G94: Tupelo | H94: USA | J94: 6 | K94: 2005 | L94: 1 | M94: 4 | N94: 14.05G4 | O94: G4 | P94: V_2_12_3_02_080 | Q94: 915 | U94: Ott 24V | AC94: SEW | AE94: Bosch Riemenantrieb | AG94: Bosch Riemenantrieb | AI94: Bosch Riemenantrieb | AP94: 380-500V;3~ | AQ94: 115V | AR94: Wago | AS94: 750-881 | AT94: SEW Movitrac 07 | AU94: Schütz | AV94: Schütz | AW94: Schütz | BL94: LD3 | BM94: 3091 | BN94: 9226 | BY94: Blau | BZ94: 4 | CB94: Throl 50mm | CE94: HV (250V) | CR94: 22.07.2015 CMI | CU94: Von RW auf G4 umgebaut 05/2011
A95: ITT#081 | B95: ITT1-SD | D95: 1250 | E95: Nein | F95: Zwillich | H95: Deutschland | J95: 14 | K95: 2005 | L95: 1 | M95: 4 | N95: 6.14 | O95: G2 | P95: Trans18V75.pro | Q95: 505 | R95: 167 | U95: Ott 24V | X95: Bosch | AC95: SEW | AE95: Bosch Riemenantrieb | AG95: Bosch Riemenantrieb | AI95: Bosch Riemenantrieb | AP95: 380-500V;3~ | AQ95: 230V | AR95: Wago | AS95: 750-842 | AT95: SEW Movitrac 07 | AU95: Schütz | AV95: Schütz | AW95: Schütz | BE95: Elmo | BF95: 2BH-XX | BG95: 1,7KW | BH95: Nein | BI95: Wachenh.-Kirchner 230V | BL95: LD3 | BM95: 3113 | BN95: 9246 | BQ95: Keine | BR95: LD3 | BT95: 5A,5B,5C | BU95: 5m,10m,2m | BY95: Blau | BZ95: 4 | CB95: Throl 50mm | CE95: HV (250V) | CR95: 03.09.2012 RH | CU95: Einträge aus Maschinenmappe, Videokabel 3-teilig in 09/2012 eingebaut
A96: ITT#082 | F96: SN nicht vergeben | CB96: Throl 50mm | CE96: HV (250V)
A97: ITT#083 | B97: ITT2 | D97: 1650 | E97: Nein | F97: Lahsa | H97: Mexiko | J97: 47 | K97: 2004 | L97: 1 | M97: 4 | N97: 18.09G1 | O97: G1 | P97: 4A-Count/Iloben/Zahnrad/Stand 6.1 | Q97: 2214 | R97: 926 | U97: Ott 24V | X97: Bosch | AP97: 380-500V;3~ | AQ97: 115V | AR97: S5 + S7 | AS97: S95U | AU97: TLD011 | AV97: TLD011 | AW97: TLD011 | BF97: 2BH-XX | BG97: 4,6KW | BI97: SDS 3 Zylinder 120mm | BL97: LPD 3B/4B | BM97: 4508 | BY97: Blau | BZ97: 4 | CB97: Throl 50mm | CE97: HV (250V) | CR97: 25.09.2023 RH | CU97: Einträge aus Maschinenmappe | Neuer Rechner, Dongle und LPD 3B/4B 2022
A98: ITT#084 | B98: ITT1-SD | D98: 1650 | E98: Nein | F98: Elgi Tread | H98: Indien | J98: 7 | K98: 2005 | L98: 1 | M98: 4 | N98: 6.14 | O98: G2 | Q98: 506 | U98: Ott 24V | X98: Bosch | AC98: SEW | AE98: Bosch Riemenantrieb | AG98: Bosch Riemenantrieb | AI98: Bosch Riemenantrieb | AP98: 380-500V;3~ | AQ98: 230V | AR98: Wago | AS98: 750-842 | AT98: SEW Movitrac 07 | AU98: Schütz | AV98: Schütz | AW98: Schütz | BE98: Elektror | BF98: 2BH-XX | BG98: 4,6KW | BI98: SDS 3 Zylinder 120mm | BL98: LD3 | BM98: 3095 | BN98: 9216 | BY98: Blau | BZ98: 4 | CA98: Avenier 4.8 F1.4 | CB98: Throl 50mm | CE98: HV (250V) | CR98: 08.09.11 RH | CU98: Einträge aus Maschinenmappe
A99: ITT#085 | F99: SN nicht vergeben | CB99: Throl 50mm | CE99: HV (250V)
A100: ITT#086 | B100: CIA3/1Tür | E100: Nein | F100: Juffali Tyres | G100: Jeddah | H100: Saudi Arabien | J100: 9 | K100: 2005 | L100: 1 | M100: 4 | O100: G2 | Q100: 504 | U100: Ott 24V | Y100: Bosch | AC100: SEW | AE100: Bosch Riemenantrieb | AG100: Bosch Riemenantrieb | AI100: Bosch Riemenantrieb | AP100: 380-500V;3~ | AQ100: 230V | AR100: Wago | AS100: 750-842 | AT100: SEW Movitrac 07 | AU100: Schütz | AV100: Schütz | AW100: Schütz | BI100: Wachenh.-Kirchner 230V | BL100: LD3 | BM100: 3091 | BN100: 9236 | BQ100: Keine | BR100: LD3 | BY100: Blau | BZ100: 4 | CB100: Throl 50mm | CE100: HV (250V)
A101: ITT#087 | B101: CIA3/1Tür | D101: 1250 | E101: Nein | F101: Michelin China | G101: Shanghai | H101: China | J101: 14 | K101: 2005 | L101: 1 | M101: 4 | O101: G2 | Q101: 509 | U101: Ott 24V | X101: Bosch | AC101: SEW | AE101: Bosch Riemenantrieb | AG101: Bosch Riemenantrieb | AI101: Bosch Riemenantrieb | AP101: 380-500V;3~ | AQ101: 230V | AR101: Wago | AS101: 750-842 | AT101: SEW Movitrac 07 | AU101: Schütz | AV101: Schütz | AW101: Schütz | BB101: Lüfter 204mm | BE101: Elmo | BF101: 2BH-XX | BG101: 1,7KW | BH101: Nein | BI101: Wachenh.-Kirchner 230V | BK101: Nein | BL101: LD3 | BM101: 3121 | BN101: 9226 | BQ101: Keine | BR101: LD3 | BY101: Blau | BZ101: 4 | CA101: Avenier 4.8 F1.4 | CB101: Throl 50mm | CC101: Teli | CD101: 0° | CE101: HV (250V) | CR101: 13.01.2012 RH | CU101: Einträge aus Maschinenmappe
A102: ITT#088 | B102: ITT2 | D102: 1650 | F102: Goodyear Americana | G102: Americana | H102: Brasilien | I102: GoodYear M.R.T. | J102: 26 | K102: 2005 | L102: 1 | M102: 4 | O102: G2 | Q102: 527 | U102: Ott 48V | V102: Bosch | X102: Bosch | AC102: Schneider Electric | AD102: VRDM31117 | AE102: Schneider Electric | AF102: VRDM3910 | AG102: Schneider Electric | AH102: VRDM397 | AI102: Schneider Electric | AJ102: VRDM368 | AP102: 380-500V;3~ | AR102: Wago | AS102: 750-842 | AT102: TLC512 | AU102: TLC511 | AV102: TLC511 | AW102: TLC511 | BB102: Lüfter 204mm | BE102: Elektror | BF102: 2BH-XX | BG102: 4,6KW | BH102: Nein | BI102: SDS 3 Zylinder 120mm | BK102: LS4004I | BL102: LD3 | BM102: 3108 | BN102: 9243 | BQ102: Keine | BR102: LD3 | BY102: Blau | BZ102: 4 | CA102: Avenier 4.8 F1.4 | CB102: Throl 50mm | CE102: HV (250V) | CR102: 01.03.2013 FB | CS102: 315224 | CT102: 58897
A103: ITT#089 | B103: ITT1-SD | D103: 1250 | E103: Nein | F103: Dunlop Sumitomo | G103: Shirakawa | H103: Japan | I103: Sumitomo | J103: 22 | K103: 2005 | L103: 1 | M103: 4 | O103: G4 | U103: Ott 24V | X103: Bosch | AC103: SEW | AE103: Bosch Riemenantrieb | AG103: Bosch Riemenantrieb | AI103: Bosch Riemenantrieb | AP103: 380-500V;3~ | AQ103: 230V | AR103: Wago | AS103: 750-881 | AT103: AB Powerflex 4M 0,37KW | AU103: Phoenix ELR 6A | AV103: Phoenix ELR 6A | AW103: Phoenix ELR 2A | BE103: Elmo | BF103: 2BH-XX | BG103: 1,7KW | BH103: Nein | BI103: Wachenh.-Kirchner 230V | BL103: LD3 | BM103: 3152 | BN103: 9253 | BQ103: Keine | BR103: LD3 | BS103: 7,5m | BU103: 10m | BY103: Blau | BZ103: 4 | CE103: HV (250V) | CR103: 28.02.2017 RH | CS103: 32939 | CT103: 14639 | CU103: G4-Update März 2017 | Update auf GigE und WIN10 02.02.2023 CG
...

Sheet Liste
A2: Eingabe SN: | B2: ITT#429 | C2: Anlagendaten aktuell
C5: Seriennummer | D5: A | E5: =VLOOKUP($B$2,Anlagen!$A$13:$CU$823,COLUMN(Anlagen!A:A),0) -> ITT#429
C6: Typ | D6: B | E6: =VLOOKUP($B$2,Anlagen!$A$13:$CU$823,COLUMN(Anlagen!B:B),0) -> ITT1-DD
C7: Ausführung | D7: C | E7: =VLOOKUP($B$2,Anlagen!$A$13:$CU$823,COLUMN(Anlagen!C:C),0) -> 0
C8: Größe | D8: D | E8: =VLOOKUP($B$2,Anlagen!$A$13:$CU$823,COLUMN(Anlagen!D:D),0) -> 1680
C9: TOF | E9: =VLOOKUP($B$2,Anlagen!$A$13:$CU$823,COLUMN(Anlagen!E:E),0) -> IL Band
B10: Kunde | C10: Name | D10: E | E10: =VLOOKUP($B$2,Anlagen!$A$13:$CU$823,COLUMN(Anlagen!F:F),0) -> Huangpu Tire
C11: Stadt | D11: F | E11: =VLOOKUP($B$2,Anlagen!$A$13:$CU$823,COLUMN(Anlagen!G:G),0) -> Hohhot, Innere Mongolei
C12: Land | D12: G | E12: =VLOOKUP($B$2,Anlagen!$A$13:$CU$823,COLUMN(Anlagen!H:H),0) -> China
C13: Konzern | D13: H | E13: =VLOOKUP($B$2,Anlagen!$A$13:$CU$823,COLUMN(Anlagen!I:I),0) -> 0
B14: Auslieferungsdatum | C14: KW | D14: I | E14: =VLOOKUP($B$2,Anlagen!$A$13:$CU$823,COLUMN(Anlagen!J:J),0) -> 0
C15: Jahr | D15: J | E15: =VLOOKUP($B$2,Anlagen!$A$13:$CU$823,COLUMN(Anlagen!K:K),0) -> 0
C16: Anzahl Meßköpfe | D16: K | E16: =VLOOKUP($B$2,Anlagen!$A$13:$CU$823,COLUMN(Anlagen!L:L),0) -> 2
C17: Anzahl Achsen | D17: L | E17: =VLOOKUP($B$2,Anlagen!$A$13:$CU$823,COLUMN(Anlagen!M:M),0) -> 0
A18: Software | C18: ITTMes/View | D18: M | E18: =VLOOKUP($B$2,Anlagen!$A$13:$CU$823,COLUMN(Anlagen!N:N),0) -> 0
C19: PLC Softw.Generation | D19: N | E19: =VLOOKUP($B$2,Anlagen!$A$13:$CU$823,COLUMN(Anlagen!O:O),0) -> 0
C20: PLC Softw. Version | D20: O | E20: =VLOOKUP($B$2,Anlagen!$A$13:$CU$823,COLUMN(Anlagen!P:P),0) -> 0
C21: CU-Nummer | D21: P | E21: =VLOOKUP($B$2,Anlagen!$A$13:$CU$823,COLUMN(Anlagen!Q:Q),0) -> 0
C22: Dongle Nr. | D22: Q | E22: =VLOOKUP($B$2,Anlagen!$A$13:$CU$823,COLUMN(Anlagen!R:R),0) -> 0
C23: Konturmessung | E23: =VLOOKUP($B$2,Anlagen!$A$13:$CU$823,COLUMN(Anlagen!S:S),0) -> 0
C24: Sonstige | D24: R | E24: =VLOOKUP($B$2,Anlagen!$A$13:$CU$823,COLUMN(Anlagen!T:T),0) -> 0
A25: Mechanik | B25: Motoren | C25: Internes Band | D25: S | E25: =VLOOKUP($B$2,Anlagen!$A$13:$CU$823,COLUMN(Anlagen!U:U),0) -> 0
C26: TOF | D26: T | E26: =VLOOKUP($B$2,Anlagen!$A$13:$CU$823,COLUMN(Anlagen!V:V),0) -> 0
C27: Echternach | D27: U | E27: =VLOOKUP($B$2,Anlagen!$A$13:$CU$823,COLUMN(Anlagen!W:W),0) -> 0
C28: Belader | D28: V | E28: =VLOOKUP($B$2,Anlagen!$A$13:$CU$823,COLUMN(Anlagen!X:X),0) -> 0
C29: Förderbänder | D29: W | E29: =VLOOKUP($B$2,Anlagen!$A$13:$CU$823,COLUMN(Anlagen!Y:Y),0) -> 0
C30: 90° Module | D30: X | E30: =VLOOKUP($B$2,Anlagen!$A$13:$CU$823,COLUMN(Anlagen!Z:Z),0) -> 0
B31: Rotate | C31: Typ | D31: AA | E31: =VLOOKUP($B$2,Anlagen!$A$13:$CU$823,COLUMN(Anlagen!AC:AC),0) -> 0
C32: Nr | D32: AB | E32: =VLOOKUP($B$2,Anlagen!$A$13:$CU$823,COLUMN(Anlagen!AD:AD),0) -> 0
B33: Lift | C33: Typ | D33: AC | E33: =VLOOKUP($B$2,Anlagen!$A$13:$CU$823,COLUMN(Anlagen!AE:AE),0) -> 0
C34: Nr | D34: AD | E34: =VLOOKUP($B$2,Anlagen!$A$13:$CU$823,COLUMN(Anlagen!AF:AF),0) -> 0
B35: Shift | C35: Typ | D35: AE | E35: =VLOOKUP($B$2,Anlagen!$A$13:$CU$823,COLUMN(Anlagen!AG:AG),0) -> 0
C36: Nr | D36: AF | E36: =VLOOKUP($B$2,Anlagen!$A$13:$CU$823,COLUMN(Anlagen!AH:AH),0) -> 0
B37: Tilt | C37: Typ | D37: AG | E37: =VLOOKUP($B$2,Anlagen!$A$13:$CU$823,COLUMN(Anlagen!AI:AI),0) -> 0
C38: Nr | D38: AH | E38: =VLOOKUP($B$2,Anlagen!$A$13:$CU$823,COLUMN(Anlagen!AJ:AJ),0) -> 0
A39: Mechanik | B39: Länge Kette | C39: TOF spannen | E39: =VLOOKUP($B$2,Anlagen!$A$13:$CU$823,COLUMN(Anlagen!AK:AK),0) -> 0
C40: Riemen 90° Modul | D40: AI | E40: =VLOOKUP($B$2,Anlagen!$A$13:$CU$823,COLUMN(Anlagen!AL:AL),0) -> 0
E41: =VLOOKUP($B$2,Anlagen!$A$13:$CU$823,COLUMN(Anlagen!AM:AM),0) -> 0
C42: Sonstiges | E42: =VLOOKUP($B$2,Anlagen!$A$13:$CU$823,COLUMN(Anlagen!AN:AN),0) -> 0
D43: AJ | E43: =VLOOKUP($B$2,Anlagen!$A$13:$CU$823,COLUMN(Anlagen!AO:AO),0) -> 0
A44: Elektrik | B44: Spannung | C44: Versorgung | D44: AK | E44: =VLOOKUP($B$2,Anlagen!$A$13:$CU$823,COLUMN(Anlagen!AP:AP),0) -> 0
C45: Intern | D45: AL | E45: =VLOOKUP($B$2,Anlagen!$A$13:$CU$823,COLUMN(Anlagen!AQ:AQ),0) -> 0
C46: Steuerung | D46: AM | E46: =VLOOKUP($B$2,Anlagen!$A$13:$CU$823,COLUMN(Anlagen!AR:AR),0) -> Wago
C47: Controller | D47: AN | E47: =VLOOKUP($B$2,Anlagen!$A$13:$CU$823,COLUMN(Anlagen!AS:AS),0) -> 0
B48: Leistungsstufen, Ansteuerung | C48: Rotate | D48: AO | E48: =VLOOKUP($B$2,Anlagen!$A$13:$CU$823,COLUMN(Anlagen!AT:AT),0) -> 0
C49: Lift | D49: AP | E49: =VLOOKUP($B$2,Anlagen!$A$13:$CU$823,COLUMN(Anlagen!AU:AU),0) -> 0
C50: Shift | D50: AQ | E50: =VLOOKUP($B$2,Anlagen!$A$13:$CU$823,COLUMN(Anlagen!AV:AV),0) -> 0
C51: Tilt | D51: AR | E51: =VLOOKUP($B$2,Anlagen!$A$13:$CU$823,COLUMN(Anlagen!AW:AW),0) -> 0
B52: Frequenzumrichter | C52: Förderbänder | D52: Y | E52: =VLOOKUP($B$2,Anlagen!$A$13:$CU$823,COLUMN(Anlagen!AX:AX),0) -> 0
B53: Frequenzumrichter | C53: TOF | D53: Z | E53: =VLOOKUP($B$2,Anlagen!$A$13:$CU$823,COLUMN(Anlagen!AY:AY),0) -> 0
C54: Trittmatte | D54: AS | E54: =VLOOKUP($B$2,Anlagen!$A$13:$CU$823,COLUMN(Anlagen!AZ:AZ),0) -> 0
D55: AT | E55: =VLOOKUP($B$2,Anlagen!$A$13:$CU$823,COLUMN(Anlagen!BA:BA),0) -> 0
C56: Klimatisierung | D56: AU | E56: =VLOOKUP($B$2,Anlagen!$A$13:$CU$823,COLUMN(Anlagen!BB:BB),0) -> 0
C57: USV | D57: AV | E57: =VLOOKUP($B$2,Anlagen!$A$13:$CU$823,COLUMN(Anlagen!BC:BC),0) -> 0
D58: AW | E58: =VLOOKUP($B$2,Anlagen!$A$13:$CU$823,COLUMN(Anlagen!BD:BD),0) -> 0
A59: Vakuumsystem | C59: Pumpenhersteller | D59: AX | E59: =VLOOKUP($B$2,Anlagen!$A$13:$CU$823,COLUMN(Anlagen!BE:BE),0) -> 0
C60: Typ | D60: AY | E60: =VLOOKUP($B$2,Anlagen!$A$13:$CU$823,COLUMN(Anlagen!BF:BF),0) -> 0
C61: Leistung | D61: AZ | E61: =VLOOKUP($B$2,Anlagen!$A$13:$CU$823,COLUMN(Anlagen!BG:BG),0) -> 0
C62: Schnellbelüftungsventil | D62: BA | E62: =VLOOKUP($B$2,Anlagen!$A$13:$CU$823,COLUMN(Anlagen!BH:BH),0) -> 0
C63: Ventileinheit | D63: BB | E63: =VLOOKUP($B$2,Anlagen!$A$13:$CU$823,COLUMN(Anlagen!BI:BI),0) -> 0
D64: BC | E64: =VLOOKUP($B$2,Anlagen!$A$13:$CU$823,COLUMN(Anlagen!BJ:BJ),0) -> 0
C65: Barcodescanner | D65: BD | E65: =VLOOKUP($B$2,Anlagen!$A$13:$CU$823,COLUMN(Anlagen!BK:BK),0) -> 0
A66: Meßtechnik | B66: Lasersteuergerät | C66: Typ | D66: BE | E66: =VLOOKUP($B$2,Anlagen!$A$13:$CU$823,COLUMN(Anlagen!BL:BL),0) -> 0
C67: Seriennummer | D67: BF | E67: =VLOOKUP($B$2,Anlagen!$A$13:$CU$823,COLUMN(Anlagen!BM:BM),0) -> 0
C68: SN 1. PD1 | D68: BG | E68: =VLOOKUP($B$2,Anlagen!$A$13:$CU$823,COLUMN(Anlagen!BN:BN),0) -> 0
C69: SN 1. PD2 | D69: BH | E69: =VLOOKUP($B$2,Anlagen!$A$13:$CU$823,COLUMN(Anlagen!BO:BO),0) -> 0
C70: SN 1. PD3 | D70: BI | E70: =VLOOKUP($B$2,Anlagen!$A$13:$CU$823,COLUMN(Anlagen!BP:BP),0) -> 0
C71: Verteilerbox | E71: =VLOOKUP($B$2,Anlagen!$A$13:$CU$823,COLUMN(Anlagen!BQ:BQ),0) -> 0
B72: Kabel | C72: Diodenkabel | D72: BJ | E72: =VLOOKUP($B$2,Anlagen!$A$13:$CU$823,COLUMN(Anlagen!BR:BR),0) -> 0
C73: Länge | D73: BK | E73: =VLOOKUP($B$2,Anlagen!$A$13:$CU$823,COLUMN(Anlagen!BS:BS),0) -> 0
B74: Videokabel | C74: Typen | D74: BL | E74: =VLOOKUP($B$2,Anlagen!$A$13:$CU$823,COLUMN(Anlagen!BT:BT),0) -> 0
C75: Länge | D75: BM | E75: =VLOOKUP($B$2,Anlagen!$A$13:$CU$823,COLUMN(Anlagen!BU:BU),0) -> 0
B76: Meßkopf | C76: Seriennummer MK#1 | E76: =VLOOKUP($B$2,Anlagen!$A$13:$CU$823,COLUMN(Anlagen!BV:BV),0) -> 0
C77: Seriennummer MK#2 | E77: =VLOOKUP($B$2,Anlagen!$A$13:$CU$823,COLUMN(Anlagen!BW:BW),0) -> 0
C78: Seriennummer MK#3 | E78: =VLOOKUP($B$2,Anlagen!$A$13:$CU$823,COLUMN(Anlagen!BX:BX),0) -> 0
C79: Diodenkennung | D79: BN | E79: =VLOOKUP($B$2,Anlagen!$A$13:$CU$823,COLUMN(Anlagen!BY:BY),0) -> 0
C80: Dioden pro Kopf | D80: BO | E80: =VLOOKUP($B$2,Anlagen!$A$13:$CU$823,COLUMN(Anlagen!BZ:BZ),0) -> 0
C81: Objektiv | D81: BP | E81: =VLOOKUP($B$2,Anlagen!$A$13:$CU$823,COLUMN(Anlagen!CA:CA),0) -> 0
C82: Interne Optik | E82: =VLOOKUP($B$2,Anlagen!$A$13:$CU$823,COLUMN(Anlagen!CB:CB),0) -> 0
C83: Kamera | D83: BQ | E83: =VLOOKUP($B$2,Anlagen!$A$13:$CU$823,COLUMN(Anlagen!CC:CC),0) -> 0
C84: Shearwinkel | D84: BR | E84: =VLOOKUP($B$2,Anlagen!$A$13:$CU$823,COLUMN(Anlagen!CD:CD),0) -> 0
C85: Piezo | D85: BS | E85: =VLOOKUP($B$2,Anlagen!$A$13:$CU$823,COLUMN(Anlagen!CE:CE),0) -> 0
C86: Kalibrierkörper | E86: =VLOOKUP($B$2,Anlagen!$A$13:$CU$823,COLUMN(Anlagen!CF:CF),0) -> 0
B87: Hersteller | C87: Führungen | D87: BT | E87: =VLOOKUP($B$2,Anlagen!$A$13:$CU$823,COLUMN(Anlagen!CG:CG),0) -> 0
C88: Drehlager | E88: =VLOOKUP($B$2,Anlagen!$A$13:$CU$823,COLUMN(Anlagen!CH:CH),0) -> 0
C89: Portal Innenleben | E89: =VLOOKUP($B$2,Anlagen!$A$13:$CU$823,COLUMN(Anlagen!CI:CI),0) -> 0
B90: Isolatoren | C90: Hersteller | E90: =VLOOKUP($B$2,Anlagen!$A$13:$CU$823,COLUMN(Anlagen!CJ:CJ),0) -> 0
B91: Isolatoren | C91: Typ | E91: =VLOOKUP($B$2,Anlagen!$A$13:$CU$823,COLUMN(Anlagen!CK:CK),0) -> 0
B92: Luftdruck | C92: Systemdruck | E92: =VLOOKUP($B$2,Anlagen!$A$13:$CU$823,COLUMN(Anlagen!CL:CL),0) -> 0
B93: Luftdruck | C93: TOF Klemmung | E93: =VLOOKUP($B$2,Anlagen!$A$13:$CU$823,COLUMN(Anlagen!CM:CM),0) -> 0
B94: Luftdruck | C94: Isolatoren | E94: =VLOOKUP($B$2,Anlagen!$A$13:$CU$823,COLUMN(Anlagen!CN:CN),0) -> 0
B95: Letzter Austausch | C95: Messkopf/Dioden | E95: =VLOOKUP($B$2,Anlagen!$A$13:$CU$823,COLUMN(Anlagen!CO:CO),0) -> 0
C96: bei Betriebsstunden | E96: =VLOOKUP($B$2,Anlagen!$A$13:$CU$823,COLUMN(Anlagen!CP:CP),0) -> 0
C97: am | E97: =VLOOKUP($B$2,Anlagen!$A$13:$CU$823,COLUMN(Anlagen!CQ:CQ),0) -> 0
C98: Stand | D98: BU | E98: =VLOOKUP($B$2,Anlagen!$A$13:$CU$823,COLUMN(Anlagen!CR:CR),0) -> 0
B99: Zählerstände | C99: Zyklenzähler | E99: =VLOOKUP($B$2,Anlagen!$A$13:$CU$823,COLUMN(Anlagen!CS:CS),0) -> 0
C100: Betriebsstunden | E100: =VLOOKUP($B$2,Anlagen!$A$13:$CU$823,COLUMN(Anlagen!CT:CT),0) -> 0
C101: Besonderheiten, Sonstiges | D101: BV | E101: =VLOOKUP($B$2,Anlagen!$A$13:$CU$823,COLUMN(Anlagen!CU:CU),0) -> 0

Sheet Liste Englisch
A2: Eingabe SN: | B2: ITT#331 | C2: Actual machine data
A5: Machine data | C5: Serial No. | D5: A | E5: =VLOOKUP($B$2,Anlagen!$A$13:$CU$823,COLUMN(Anlagen!A:A),0) -> ITT#331
C6: Type | D6: B | E6: =VLOOKUP($B$2,Anlagen!$A$13:$CU$823,COLUMN(Anlagen!B:B),0) -> ITT2
C7: Version | D7: C | E7: =VLOOKUP($B$2,Anlagen!$A$13:$CU$823,COLUMN(Anlagen!C:C),0) -> 0
C8: Size | D8: D | E8: =VLOOKUP($B$2,Anlagen!$A$13:$CU$823,COLUMN(Anlagen!D:D),0) -> 1680
A9: Customer data | C9: Name | D9: E | E9: =VLOOKUP($B$2,Anlagen!$A$13:$CU$823,COLUMN(Anlagen!F:F),0) -> Michelin NKE
C10: City | D10: F | E10: =VLOOKUP($B$2,Anlagen!$A$13:$CU$823,COLUMN(Anlagen!G:G),0) -> 0
C11: Country | D11: G | E11: =VLOOKUP($B$2,Anlagen!$A$13:$CU$823,COLUMN(Anlagen!H:H),0) -> Thailand
C12: Group | D12: H | E12: =VLOOKUP($B$2,Anlagen!$A$13:$CU$823,COLUMN(Anlagen!I:I),0) -> Michelin Aircraft
B13: Delivery date | C13: Week | D13: I | E13: =VLOOKUP($B$2,Anlagen!$A$13:$CU$823,COLUMN(Anlagen!J:J),0) -> 24
C14: Year | D14: J | E14: =VLOOKUP($B$2,Anlagen!$A$13:$CU$823,COLUMN(Anlagen!K:K),0) -> 2019
A15: Measuring head | C15: Number of measuring heads | D15: K | E15: =VLOOKUP($B$2,Anlagen!$A$13:$CU$823,COLUMN(Anlagen!L:L),0) -> 3
C16: Number of axis | D16: L | E16: =VLOOKUP($B$2,Anlagen!$A$13:$CU$823,COLUMN(Anlagen!M:M),0) -> 10
A17: Software | C17: ITTMess/View version | D17: M | E17: =VLOOKUP($B$2,Anlagen!$A$13:$CU$823,COLUMN(Anlagen!N:N),0) -> 0
C18: PLC softw.generation | D18: N | E18: =VLOOKUP($B$2,Anlagen!$A$13:$CU$823,COLUMN(Anlagen!O:O),0) -> G4
C19: PLC softw. version | D19: O | E19: =VLOOKUP($B$2,Anlagen!$A$13:$CU$823,COLUMN(Anlagen!P:P),0) -> V_4_14_2_01_331 - TCD: V_1_03_3_01_331
C20: CU number | D20: P | E20: =VLOOKUP($B$2,Anlagen!$A$13:$CU$823,COLUMN(Anlagen!Q:Q),0) -> 2515
C21: Dongle Number | D21: Q | E21: =VLOOKUP($B$2,Anlagen!$A$13:$CU$823,COLUMN(Anlagen!R:R),0) -> 1053
A22: contour measurement | C22: contour measurement | D22: R | E22: =VLOOKUP($B$2,Anlagen!$A$13:$CU$823,COLUMN(Anlagen!S:S),0) -> Sick OD1000
C23: Others | D23: S | E23: =VLOOKUP($B$2,Anlagen!$A$13:$CU$823,COLUMN(Anlagen!T:T),0) -> 0
A24: Mechanic | B24: motors | C24: internal belt | D24: T | E24: =VLOOKUP($B$2,Anlagen!$A$13:$CU$823,COLUMN(Anlagen!U:U),0) -> Trommel DM0113 370W 1200mm Version ab 2019
C25: TOF | D25: U | E25: =VLOOKUP($B$2,Anlagen!$A$13:$CU$823,COLUMN(Anlagen!V:V),0) -> Trommel DM0113 370W 1200mm Version ab 2019
C26: Echternach | D26: V | E26: =VLOOKUP($B$2,Anlagen!$A$13:$CU$823,COLUMN(Anlagen!W:W),0) -> Trommel DM0113 370W 1200mm Version ab 2019
C27: loader | D27: W | E27: =VLOOKUP($B$2,Anlagen!$A$13:$CU$823,COLUMN(Anlagen!X:X),0) -> Driverolls EC310
C28: conveyor belts | D28: X | E28: =VLOOKUP($B$2,Anlagen!$A$13:$CU$823,COLUMN(Anlagen!Y:Y),0) -> 0
C29: 90° Modules | D29: Y | E29: =VLOOKUP($B$2,Anlagen!$A$13:$CU$823,COLUMN(Anlagen!Z:Z),0) -> 0
D30: Z | E30: =VLOOKUP($B$2,Anlagen!$A$13:$CU$823,COLUMN(Anlagen!AA:AA),0) -> 0
D31: AA | E31: =VLOOKUP($B$2,Anlagen!$A$13:$CU$823,COLUMN(Anlagen!AB:AB),0) -> 0
B32: Rotate | C32: Type | D32: AB | E32: =VLOOKUP($B$2,Anlagen!$A$13:$CU$823,COLUMN(Anlagen!AC:AC),0) -> Schneider Electric
C33: Number | D33: AC | E33: =VLOOKUP($B$2,Anlagen!$A$13:$CU$823,COLUMN(Anlagen!AD:AD),0) -> VRDM31117
B34: Lift | C34: Type | D34: AD | E34: =VLOOKUP($B$2,Anlagen!$A$13:$CU$823,COLUMN(Anlagen!AE:AE),0) -> Schneider Electric
C35: Number | D35: AE | E35: =VLOOKUP($B$2,Anlagen!$A$13:$CU$823,COLUMN(Anlagen!AF:AF),0) -> VRDM397
B36: Shift | C36: Type | D36: AF | E36: =VLOOKUP($B$2,Anlagen!$A$13:$CU$823,COLUMN(Anlagen!AG:AG),0) -> Schneider Electric
C37: Number | D37: AG | E37: =VLOOKUP($B$2,Anlagen!$A$13:$CU$823,COLUMN(Anlagen!AH:AH),0) -> VRDM368
B38: Tilt | C38: Type | D38: AH | E38: =VLOOKUP($B$2,Anlagen!$A$13:$CU$823,COLUMN(Anlagen!AI:AI),0) -> Ott Tilt
C39: Number | D39: AI | E39: =VLOOKUP($B$2,Anlagen!$A$13:$CU$823,COLUMN(Anlagen!AJ:AJ),0) -> XDP045012
A40: Mechanic | B40: Chain length | C40: TOF Clamping | D40: AJ | E40: =VLOOKUP($B$2,Anlagen!$A$13:$CU$823,COLUMN(Anlagen!AK:AK),0) -> 0
C41: Belts 90° Module | D41: AK | E41: =VLOOKUP($B$2,Anlagen!$A$13:$CU$823,COLUMN(Anlagen!AL:AL),0) -> 0
D42: AL | E42: =VLOOKUP($B$2,Anlagen!$A$13:$CU$823,COLUMN(Anlagen!AM:AM),0) -> 0
C43: Others | D43: AM | E43: =VLOOKUP($B$2,Anlagen!$A$13:$CU$823,COLUMN(Anlagen!AN:AN),0) -> 0
D44: AN | E44: =VLOOKUP($B$2,Anlagen!$A$13:$CU$823,COLUMN(Anlagen!AO:AO),0) -> 0
A45: Electric | B45: Voltage | C45: Input | D45: AO | E45: =VLOOKUP($B$2,Anlagen!$A$13:$CU$823,COLUMN(Anlagen!AP:AP),0) -> 380-500V;3~
C46: internal | D46: AP | E46: =VLOOKUP($B$2,Anlagen!$A$13:$CU$823,COLUMN(Anlagen!AQ:AQ),0) -> 230V
C47: Controller | D47: AQ | E47: =VLOOKUP($B$2,Anlagen!$A$13:$CU$823,COLUMN(Anlagen!AR:AR),0) -> Allen Bradley
C48: Type | D48: AR | E48: =VLOOKUP($B$2,Anlagen!$A$13:$CU$823,COLUMN(Anlagen!AS:AS),0) -> 1769-L43 V19 + 750-881
B49: Drives | C49: Rotate | D49: AS | E49: =VLOOKUP($B$2,Anlagen!$A$13:$CU$823,COLUMN(Anlagen!AT:AT),0) -> SD328A U68 CAN
C50: Lift | D50: AT | E50: =VLOOKUP($B$2,Anlagen!$A$13:$CU$823,COLUMN(Anlagen!AU:AU),0) -> SD328A U25 CAN
C51: Shift | D51: AU | E51: =VLOOKUP($B$2,Anlagen!$A$13:$CU$823,COLUMN(Anlagen!AV:AV),0) -> SD328A U25 CAN
C52: Tilt | D52: AV | E52: =VLOOKUP($B$2,Anlagen!$A$13:$CU$823,COLUMN(Anlagen!AW:AW),0) -> Phoenix ELR 2A
B53: Frequency converter | C53: Conveyor | D53: AW | E53: =VLOOKUP($B$2,Anlagen!$A$13:$CU$823,COLUMN(Anlagen!AX:AX),0) -> AB Powerflex 4M 0,37KW 1~
B54: Frequency converter | C54: TOF | D54: AX | E54: =VLOOKUP($B$2,Anlagen!$A$13:$CU$823,COLUMN(Anlagen!AY:AY),0) -> AB Powerflex 4M 0,75KW
C55: Safety carpet | D55: AY | E55: =VLOOKUP($B$2,Anlagen!$A$13:$CU$823,COLUMN(Anlagen!AZ:AZ),0) -> Haake, neuer Typ mit rechter und linker Seite
D56: AZ | E56: =VLOOKUP($B$2,Anlagen!$A$13:$CU$823,COLUMN(Anlagen!BA:BA),0) -> 0
C57: Climatisation | D57: BA | E57: =VLOOKUP($B$2,Anlagen!$A$13:$CU$823,COLUMN(Anlagen!BB:BB),0) -> 1000W 3~
C58: UPS | D58: BB | E58: =VLOOKUP($B$2,Anlagen!$A$13:$CU$823,COLUMN(Anlagen!BC:BC),0) -> APC BK650EI 230V
D59: BC | E59: =VLOOKUP($B$2,Anlagen!$A$13:$CU$823,COLUMN(Anlagen!BD:BD),0) -> 0
A60: Vacuum system | C60: pump manufacturer | D60: BD | E60: =VLOOKUP($B$2,Anlagen!$A$13:$CU$823,COLUMN(Anlagen!BE:BE),0) -> Elektror
C61: Type | D61: BE | E61: =VLOOKUP($B$2,Anlagen!$A$13:$CU$823,COLUMN(Anlagen!BF:BF),0) -> 2SD740-50/4,00
C62: Power | D62: BF | E62: =VLOOKUP($B$2,Anlagen!$A$13:$CU$823,COLUMN(Anlagen!BG:BG),0) -> 4,6KW
C63: quick exhaust valve | D63: BG | E63: =VLOOKUP($B$2,Anlagen!$A$13:$CU$823,COLUMN(Anlagen!BH:BH),0) -> Ja
C64: vacuum valve type | D64: BH | E64: =VLOOKUP($B$2,Anlagen!$A$13:$CU$823,COLUMN(Anlagen!BI:BI),0) -> SDS 1 Zylinder 120mm
D65: BI | E65: =VLOOKUP($B$2,Anlagen!$A$13:$CU$823,COLUMN(Anlagen!BJ:BJ),0) -> 0
C66: Barcode reader | D66: BJ | E66: =VLOOKUP($B$2,Anlagen!$A$13:$CU$823,COLUMN(Anlagen!BK:BK),0) -> LS4208I
A67: Measuring system | B67: Laser diode driver | C67: Type | D67: BK | E67: =VLOOKUP($B$2,Anlagen!$A$13:$CU$823,COLUMN(Anlagen!BL:BL),0) -> LPD5
C68: Serial Number | D68: BL | E68: =VLOOKUP($B$2,Anlagen!$A$13:$CU$823,COLUMN(Anlagen!BM:BM),0) -> 5127
C69: Serial Number of 1. PD1 | D69: BM | E69: =VLOOKUP($B$2,Anlagen!$A$13:$CU$823,COLUMN(Anlagen!BN:BN),0) -> 0
C70: Serial Number of 2. PD1 | D70: BN | E70: =VLOOKUP($B$2,Anlagen!$A$13:$CU$823,COLUMN(Anlagen!BO:BO),0) -> 0
C71: Serial Number of 3. PD1 | D71: BO | E71: =VLOOKUP($B$2,Anlagen!$A$13:$CU$823,COLUMN(Anlagen!BP:BP),0) -> 0
B72: Cables | C72: Diode cable | D72: BP | E72: =VLOOKUP($B$2,Anlagen!$A$13:$CU$823,COLUMN(Anlagen!BR:BR),0) -> LPD5
C73: Length | D73: BQ | E73: =VLOOKUP($B$2,Anlagen!$A$13:$CU$823,COLUMN(Anlagen!BS:BS),0) -> 6m,7,5m,15m
B74: Video cable | C74: Types | D74: BR | E74: =VLOOKUP($B$2,Anlagen!$A$13:$CU$823,COLUMN(Anlagen!BT:BT),0) -> 8A, 8B
C75: Länge | D75: BS | E75: =VLOOKUP($B$2,Anlagen!$A$13:$CU$823,COLUMN(Anlagen!BU:BU),0) -> 6m,10m,15m
B76: Measuring head | C76: Diode color label | D76: BT | E76: =VLOOKUP($B$2,Anlagen!$A$13:$CU$823,COLUMN(Anlagen!BY:BY),0) -> Blau
C77: Amount of diodes in head | D77: BU | E77: =VLOOKUP($B$2,Anlagen!$A$13:$CU$823,COLUMN(Anlagen!BZ:BZ),0) -> 4
C78: Objective | D78: BV | E78: =VLOOKUP($B$2,Anlagen!$A$13:$CU$823,COLUMN(Anlagen!CA:CA),0) -> Pentax 4.8mm 1:1.8
C79: Internal optics | D79: BW | E79: =VLOOKUP($B$2,Anlagen!$A$13:$CU$823,COLUMN(Anlagen!CB:CB),0) -> CPN-S
C80: Camera | D80: BX | E80: =VLOOKUP($B$2,Anlagen!$A$13:$CU$823,COLUMN(Anlagen!CC:CC),0) -> GigE MANTA G-235B
C81: Shear angle | D81: BY | E81: =VLOOKUP($B$2,Anlagen!$A$13:$CU$823,COLUMN(Anlagen!CD:CD),0) -> 0°
D82: BZ | E82: =VLOOKUP($B$2,Anlagen!$A$13:$CU$823,COLUMN(Anlagen!CE:CE),0) -> HV (250V)
B83: Manufacturer | C83: Precision rollers, guide lines | D83: CA | E83: =VLOOKUP($B$2,Anlagen!$A$13:$CU$823,COLUMN(Anlagen!CG:CG),0) -> HIWIN
C84: Rotation bearing | D84: CB | E84: =VLOOKUP($B$2,Anlagen!$A$13:$CU$823,COLUMN(Anlagen!CH:CH),0) -> IMO mit Vorspannung
C85: Gantry portal | D85: CC | E85: =VLOOKUP($B$2,Anlagen!$A$13:$CU$823,COLUMN(Anlagen!CI:CI),0) -> Verstärkt und Vergossen
B86: Isolators | C86: Manufacturer | D86: CD | E86: =VLOOKUP($B$2,Anlagen!$A$13:$CU$823,COLUMN(Anlagen!CJ:CJ),0) -> Bilz
B87: Isolators | C87: Typ | D87: CE | E87: =VLOOKUP($B$2,Anlagen!$A$13:$CU$823,COLUMN(Anlagen!CK:CK),0) -> BiAir 1,5-ED/HE
B88: Air pressure | C88: Main pressure | D88: CF | E88: =VLOOKUP($B$2,Anlagen!$A$13:$CU$823,COLUMN(Anlagen!CL:CL),0) -> 0
B89: Air pressure | C89: TOF Clamping | D89: CG | E89: =VLOOKUP($B$2,Anlagen!$A$13:$CU$823,COLUMN(Anlagen!CM:CM),0) -> 0
B90: Air pressure | C90: Isolators | D90: CH | E90: =VLOOKUP($B$2,Anlagen!$A$13:$CU$823,COLUMN(Anlagen!CN:CN),0) -> 0
B91: Last exchange | C91: Head/Diodes | D91: CI | E91: =VLOOKUP($B$2,Anlagen!$A$13:$CU$823,COLUMN(Anlagen!CO:CO),0) -> 0
C92: Date | D92: CJ | E92: =VLOOKUP($B$2,Anlagen!$A$13:$CU$823,COLUMN(Anlagen!CP:CP),0) -> 0
D93: CK | E93: =VLOOKUP($B$2,Anlagen!$A$13:$CU$823,COLUMN(Anlagen!CQ:CQ),0) -> 0
C94: Date | D94: CL | E94: =VLOOKUP($B$2,Anlagen!$A$13:$CU$823,COLUMN(Anlagen!CR:CR),0) -> 20.03.2025 RH
B95: Counters | C95: Cycles | D95: CM | E95: =VLOOKUP($B$2,Anlagen!$A$13:$CU$823,COLUMN(Anlagen!CS:CS),0) -> 0
C96: Hours | D96: CN | E96: =VLOOKUP($B$2,Anlagen!$A$13:$CU$823,COLUMN(Anlagen!CT:CT),0) -> 0
C97: Specials, others | D97: CO | E97: =VLOOKUP($B$2,Anlagen!$A$13:$CU$823,COLUMN(Anlagen!CU:CU),0) -> Erste Maschine mit neuen Trommelmotoren, neuem TCD Sensor, neuen 2-teiligen Trittmatten | WIN10 update 2025 gemacht von CG 08/2025, keine Liste aktualisiert

Sheet Auswahltabellen
A1: Auswahltabellen für Anlagen
A3: Anlagen!B8
A5: Maschinentypen | B5: Beschreibung | C5: Ausführung | D5: Beschreibung | E5: Größen
A7: ITT1/1Tür | B7: Bosch-Motoren | C7: A | D7: Runddeckel | E7: 1300
A8: ITT1/2Türen | B8: Bosch-Motoren | C8: B | D8: Pneum. Deckel | E8: 1500
C9: C
A10: ITT1-SD
A11: ITT1-DD
A12: ITT1-DD ITOF
A14: ITT2 | B14: Schrittmotoren, Seperater Schaltschrank | E14: 850
A15: ITT3 | B15: Schrittmotoren, Schaltschrank in Maschine eingebaut
A17: ITTCompact
E18: 1250
A19: OTR | B19: Marangoni Typ | E19: 1280
B20: Marangoni Typ
A21: S1000 | B21: MRT-Typ Steibi | E21: 1650
A22: S2000 | B22: MRT-Typ SDS Schrittmotoren | E22: 1680
B23: MRT-Typ SDS Bosch-Motoren
A24: CIA1 | E24: 2100
A25: CIA2 | E25: 2400
A26: CIA3
A27: CIA4
E28: 4500
A29: Fördertechnik

Sheet Motor-Riemen-Auswahl 90° Module
B2: Motor-Riemen-Übersicht 90°-Module | L2: RH 11.10.2017
E8: Motor Rollenantrieb | F8: Zahnrad Motor | G8: Riemen | H8: Zahnrad Welle | J8: Motor Bandantrieb | K8: Zahnrad Motor | L8: Riemen | M8: Zahnrad Welle
B10: 90°-Module bis 11/2011 | E10: Bosch 67W | F10: 36T5/40-2 | G10: T5/390 | H10: 36T5/18-2 | J10: Ott 24V | K10: 36T5/27-2 | L10: T5/390 | M10: 36T536-2
B11: Conti ITT#220 | E11: Bosch 67W | F11: 36T5/40-2 | G11: T5/390 | H11: 36T5/18-2 | J11: Ott 24V | K11: 36AT5/36-2 | L11: AT5/390 | M11: 36AT5/27-2
B12: 90°-Module ab 11/2011 | E12: Bosch 43W | F12: 36AT5/27-2 | G12: AT5/390 | H12: 36AT5/20-2 | J12: Ott 24V | K12: 36AT5/36-2 | L12: AT5/390 | M12: 36AT5/27-2
B14: 90°-Module bis 11/2011 aber AT Riemenantrieb | E14: Bosch 67W oder Ott 38W | F14: 36T5/40-2 | G14: T5/390 | H14: 36T5/18-2 | J14: Ott 24V | K14: 36AT5/27-2 | L14: AT5/390 | M14: 36AT5/36-2

Sheet NA-machines
A1: Machine data | E1: Customer data | K1: Measuring head | M1: Software | R1: contour measurement | T1: Mechanic | AH1: Mechanic | AN1: Electric | BC1: Vacuum system | BJ1: Measuring system
I2: Delivery date | T2: motors | Z2: Rotate | AB2: Lift | AD2: Shift | AF2: Tilt | AH2: Chain lenght | AN2: Voltage | AR2: Drives | AV2: Frequency converter | AW2: Frequency converter | BJ2: Laser diode driver | BO2: Cables | BQ2: Video cable | BS2: Measuring head | BZ2: Manufacturer | CA2: Isolators | CB2: Isolators | CC2: Air pressure | CD2: Air pressure | CE2: Air pressure | CF2: Last exchange | CK2: Counters
A3: Serial No. | B3: Type | C3: Version | D3: Size | E3: Name | F3: City | G3: Country | H3: Group | I3: Week | J3: Year | K3: Number of measuring heads | L3: Number of axis | M3: ITTMess/View version | N3: PLC softw.generation | O3: PLC softw. version | P3: Computer number | Q3: Dongle Number | R3: contour measurement | S3: Others | T3: internal belt | U3: TOF | V3: Echternach | W3: loader | X3: conveyor belts | Y3: 90° Modules | Z3: Type | AA3: Number | AB3: Type | AC3: Number | AD3: Type | AE3: Number | AF3: Type | AG3: Number | AH3: TOF Clamping | AI3: Belts 90° Module | AK3: Others | AN3: Input | AO3: internal | AP3: Controller | AQ3: Type | AR3: Rotate | AS3: Lift | AT3: Shift | AU3: Tilt | AV3: Conveyor | AW3: TOF | AX3: Safety carpet | AZ3: Climatisation | BA3: UPS | BC3: pump manufacturer | BD3: Type | BE3: Power | BF3: quick exhaust valve | BG3: vacuum valve type | BI3: Barcode reader | BJ3: Type | BK3: Serial Number | BL3: Serial Number of 1. PD1 | BM3: Serial Number of 2. PD1 | BN3: Serial Number of 3. PD1 | BO3: Diode cable | BP3: Length | BQ3: Types | BR3: Länge | BS3: Diode color label | BT3: Amount of diodes in head | BU3: Objective | BV3: Internal optics | BW3: Camera | BX3: Shear angle | BZ3: Precision rollers, guide lines | CA3: Manufacturer | CB3: Typ | CC3: Main pressure | CD3: TOF Clamping | CE3: Isolators | CF3: Head/Diodes | CG3: Date | CJ3: Date | CK3: Cycles | CL3: Hours | CM3: Specials, others
A5: ITT#003 | B5: =VLOOKUP($A5,Anlagen!$A$13:$CU$823,COLUMN(Anlagen!B:B),0) -> 0 | C5: =VLOOKUP($A5,Anlagen!$A$13:$CU$823,COLUMN(Anlagen!C:C),0) -> 0 | D5: =VLOOKUP($A5,Anlagen!$A$13:$CU$823,COLUMN(Anlagen!D:D),0) -> 0 | E5: =VLOOKUP($A5,Anlagen!$A$13:$CU$823,COLUMN(Anlagen!F:F),0) -> Continental | F5: =VLOOKUP($A5,Anlagen!$A$13:$CU$823,COLUMN(Anlagen!G:G),0) -> Mt. Vernon, IL | G5: =VLOOKUP($A5,Anlagen!$A$13:$CU$823,COLUMN(Anlagen!H:H),0) -> USA | H5: =VLOOKUP($A5,Anlagen!$A$13:$CU$823,COLUMN(Anlagen!I:I),0) -> Continental | I5: =VLOOKUP($A5,Anlagen!$A$13:$CU$823,COLUMN(Anlagen!J:J),0) -> 0 | J5: =VLOOKUP($A5,Anlagen!$A$13:$CU$823,COLUMN(Anlagen!K:K),0) -> 2003 | K5: =VLOOKUP($A5,Anlagen!$A$13:$CU$823,COLUMN(Anlagen!L:L),0) -> 0 | L5: =VLOOKUP($A5,Anlagen!$A$13:$CU$823,COLUMN(Anlagen!M:M),0) -> 0 | M5: =VLOOKUP($A5,Anlagen!$A$13:$CU$823,COLUMN(Anlagen!N:N),0) -> 0 | N5: =VLOOKUP($A5,Anlagen!$A$13:$CU$823,COLUMN(Anlagen!O:O),0) -> 0 | O5: =VLOOKUP($A5,Anlagen!$A$13:$CU$823,COLUMN(Anlagen!P:P),0) -> 0 | P5: =VLOOKUP($A5,Anlagen!$A$13:$CU$823,COLUMN(Anlagen!Q:Q),0) -> 0 | Q5: =VLOOKUP($A5,Anlagen!$A$13:$CU$823,COLUMN(Anlagen!R:R),0) -> 0 | R5: =VLOOKUP($A5,Anlagen!$A$13:$CU$823,COLUMN(Anlagen!S:S),0) -> 0 | S5: =VLOOKUP($A5,Anlagen!$A$13:$CU$823,COLUMN(Anlagen!T:T),0) -> 0 | T5: =VLOOKUP($A5,Anlagen!$A$13:$CU$823,COLUMN(Anlagen!U:U),0) -> 0 | U5: =VLOOKUP($A5,Anlagen!$A$13:$CU$823,COLUMN(Anlagen!V:V),0) -> 0 | V5: =VLOOKUP($A5,Anlagen!$A$13:$CU$823,COLUMN(Anlagen!W:W),0) -> 0 | W5: =VLOOKUP($A5,Anlagen!$A$13:$CU$823,COLUMN(Anlagen!X:X),0) -> 0 | X5: =VLOOKUP($A5,Anlagen!$A$13:$CU$823,COLUMN(Anlagen!Y:Y),0) -> 0 | Y5: =VLOOKUP($A5,Anlagen!$A$13:$CU$823,COLUMN(Anlagen!Z:Z),0) -> 0 | Z5: =VLOOKUP($A5,Anlagen!$A$13:$CU$823,COLUMN(Anlagen!AC:AC),0) -> 0 | AA5: =VLOOKUP($A5,Anlagen!$A$13:$CU$823,COLUMN(Anlagen!AD:AD),0) -> 0 | AB5: =VLOOKUP($A5,Anlagen!$A$13:$CU$823,COLUMN(Anlagen!AE:AE),0) -> 0 | AC5: =VLOOKUP($A5,Anlagen!$A$13:$CU$823,COLUMN(Anlagen!AF:AF),0) -> 0 | AD5: =VLOOKUP($A5,Anlagen!$A$13:$CU$823,COLUMN(Anlagen!AG:AG),0) -> 0 | AE5: =VLOOKUP($A5,Anlagen!$A$13:$CU$823,COLUMN(Anlagen!AH:AH),0) -> 0 | AF5: =VLOOKUP($A5,Anlagen!$A$13:$CU$823,COLUMN(Anlagen!AI:AI),0) -> 0 | AG5: =VLOOKUP($A5,Anlagen!$A$13:$CU$823,COLUMN(Anlagen!AJ:AJ),0) -> 0 | AH5: =VLOOKUP($A5,Anlagen!$A$13:$CU$823,COLUMN(Anlagen!AK:AK),0) -> 0 | AI5: =VLOOKUP($A5,Anlagen!$A$13:$CU$823,COLUMN(Anlagen!AL:AL),0) -> 0 | AJ5: =VLOOKUP($A5,Anlagen!$A$13:$CU$823,COLUMN(Anlagen!AM:AM),0) -> 0 | AK5: =VLOOKUP($A5,Anlagen!$A$13:$CU$823,COLUMN(Anlagen!AN:AN),0) -> 0 | AM5: =VLOOKUP($A5,Anlagen!$A$13:$CU$823,COLUMN(Anlagen!AO:AO),0) -> 0 | AN5: =VLOOKUP($A5,Anlagen!$A$13:$CU$823,COLUMN(Anlagen!AP:AP),0) -> 0 | AO5: =VLOOKUP($A5,Anlagen!$A$13:$CU$823,COLUMN(Anlagen!AQ:AQ),0) -> 0 | AP5: =VLOOKUP($A5,Anlagen!$A$13:$CU$823,COLUMN(Anlagen!AR:AR),0) -> 0 | AQ5: =VLOOKUP($A5,Anlagen!$A$13:$CU$823,COLUMN(Anlagen!AS:AS),0) -> 0 | AR5: =VLOOKUP($A5,Anlagen!$A$13:$CU$823,COLUMN(Anlagen!AT:AT),0) -> 0 | AS5: =VLOOKUP($A5,Anlagen!$A$13:$CU$823,COLUMN(Anlagen!AU:AU),0) -> 0 | AT5: =VLOOKUP($A5,Anlagen!$A$13:$CU$823,COLUMN(Anlagen!AV:AV),0) -> 0 | AU5: =VLOOKUP($A5,Anlagen!$A$13:$CU$823,COLUMN(Anlagen!AW:AW),0) -> 0 | AV5: =VLOOKUP($A5,Anlagen!$A$13:$CU$823,COLUMN(Anlagen!AX:AX),0) -> 0 | AW5: =VLOOKUP($A5,Anlagen!$A$13:$CU$823,COLUMN(Anlagen!AY:AY),0) -> 0 | AX5: =VLOOKUP($A5,Anlagen!$A$13:$CU$823,COLUMN(Anlagen!AZ:AZ),0) -> 0 | AY5: =VLOOKUP($A5,Anlagen!$A$13:$CU$823,COLUMN(Anlagen!BA:BA),0) -> 0 | AZ5: =VLOOKUP($A5,Anlagen!$A$13:$CU$823,COLUMN(Anlagen!BB:BB),0) -> 0 | BA5: =VLOOKUP($A5,Anlagen!$A$13:$CU$823,COLUMN(Anlagen!BC:BC),0) -> 0 | BB5: =VLOOKUP($A5,Anlagen!$A$13:$CU$823,COLUMN(Anlagen!BD:BD),0) -> 0 | BC5: =VLOOKUP($A5,Anlagen!$A$13:$CU$823,COLUMN(Anlagen!BE:BE),0) -> 0 | BD5: =VLOOKUP($A5,Anlagen!$A$13:$CU$823,COLUMN(Anlagen!BF:BF),0) -> 0 | BE5: =VLOOKUP($A5,Anlagen!$A$13:$CU$823,COLUMN(Anlagen!BG:BG),0) -> 0 | BF5: =VLOOKUP($A5,Anlagen!$A$13:$CU$823,COLUMN(Anlagen!BH:BH),0) -> 0 | BG5: =VLOOKUP($A5,Anlagen!$A$13:$CU$823,COLUMN(Anlagen!BI:BI),0) -> 0 | BH5: =VLOOKUP($A5,Anlagen!$A$13:$CU$823,COLUMN(Anlagen!BJ:BJ),0) -> 0 | BI5: =VLOOKUP($A5,Anlagen!$A$13:$CU$823,COLUMN(Anlagen!BK:BK),0) -> 0 | BJ5: =VLOOKUP($A5,Anlagen!$A$13:$CU$823,COLUMN(Anlagen!BL:BL),0) -> 0 | BK5: =VLOOKUP($A5,Anlagen!$A$13:$CU$823,COLUMN(Anlagen!BM:BM),0) -> 0 | BL5: =VLOOKUP($A5,Anlagen!$A$13:$CU$823,COLUMN(Anlagen!BN:BN),0) -> 0 | BM5: =VLOOKUP($A5,Anlagen!$A$13:$CU$823,COLUMN(Anlagen!BO:BO),0) -> 0 | BN5: =VLOOKUP($A5,Anlagen!$A$13:$CU$823,COLUMN(Anlagen!BP:BP),0) -> 0 | BO5: =VLOOKUP($A5,Anlagen!$A$13:$CU$823,COLUMN(Anlagen!BR:BR),0) -> 0 | BP5: =VLOOKUP($A5,Anlagen!$A$13:$CU$823,COLUMN(Anlagen!BS:BS),0) -> 0 | BQ5: =VLOOKUP($A5,Anlagen!$A$13:$CU$823,COLUMN(Anlagen!BT:BT),0) -> 0 | BR5: =VLOOKUP($A5,Anlagen!$A$13:$CU$823,COLUMN(Anlagen!BU:BU),0) -> 0 | BS5: =VLOOKUP($A5,Anlagen!$A$13:$CU$823,COLUMN(Anlagen!BY:BY),0) -> 0 | BT5: =VLOOKUP($A5,Anlagen!$A$13:$CU$823,COLUMN(Anlagen!BZ:BZ),0) -> 0 | BU5: =VLOOKUP($A5,Anlagen!$A$13:$CU$823,COLUMN(Anlagen!CA:CA),0) -> 0 | BV5: =VLOOKUP($A5,Anlagen!$A$13:$CU$823,COLUMN(Anlagen!CB:CB),0) -> Throl 50mm | BW5: =VLOOKUP($A5,Anlagen!$A$13:$CU$823,COLUMN(Anlagen!CC:CC),0) -> 0 | BX5: =VLOOKUP($A5,Anlagen!$A$13:$CU$823,COLUMN(Anlagen!CD:CD),0) -> 0 | BY5: =VLOOKUP($A5,Anlagen!$A$13:$CU$823,COLUMN(Anlagen!CE:CE),0) -> HV (250V) | BZ5: =VLOOKUP($A5,Anlagen!$A$13:$CU$823,COLUMN(Anlagen!CG:CG),0) -> 0 | CA5: =VLOOKUP($A5,Anlagen!$A$13:$CU$823,COLUMN(Anlagen!CH:CH),0) -> 0 | CB5: =VLOOKUP($A5,Anlagen!$A$13:$CU$823,COLUMN(Anlagen!CJ:CJ),0) -> 0 | CC5: =VLOOKUP($A5,Anlagen!$A$13:$CU$823,COLUMN(Anlagen!CK:CK),0) -> 0 | CD5: =VLOOKUP($A5,Anlagen!$A$13:$CU$823,COLUMN(Anlagen!CL:CL),0) -> 0 | CE5: =VLOOKUP($A5,Anlagen!$A$13:$CU$823,COLUMN(Anlagen!CM:CM),0) -> 0 | CF5: =VLOOKUP($A5,Anlagen!$A$13:$CU$823,COLUMN(Anlagen!CN:CN),0) -> 0 | CG5: =VLOOKUP($A5,Anlagen!$A$13:$CU$823,COLUMN(Anlagen!CO:CO),0) -> 0 | CH5: =VLOOKUP($A5,Anlagen!$A$13:$CU$823,COLUMN(Anlagen!CP:CP),0) -> 0 | CI5: =VLOOKUP($A5,Anlagen!$A$13:$CU$823,COLUMN(Anlagen!CQ:CQ),0) -> 0 | CJ5: =VLOOKUP($A5,Anlagen!$A$13:$CU$823,COLUMN(Anlagen!CR:CR),0) -> 0 | CK5: =VLOOKUP($A5,Anlagen!$A$13:$CU$823,COLUMN(Anlagen!CS:CS),0) -> 0 | CL5: =VLOOKUP($A5,Anlagen!$A$13:$CU$823,COLUMN(Anlagen!CT:CT),0) -> 0
A6: ITT#004 | B6: =VLOOKUP($A6,Anlagen!$A$13:$CU$823,COLUMN(Anlagen!B:B),0) -> ITT2 | C6: =VLOOKUP($A6,Anlagen!$A$13:$CU$823,COLUMN(Anlagen!C:C),0) -> 0 | D6: =VLOOKUP($A6,Anlagen!$A$13:$CU$823,COLUMN(Anlagen!D:D),0) -> 0 | E6: =VLOOKUP($A6,Anlagen!$A$13:$CU$823,COLUMN(Anlagen!F:F),0) -> Michelin US3 | F6: =VLOOKUP($A6,Anlagen!$A$13:$CU$823,COLUMN(Anlagen!G:G),0) -> Spartanburg | G6: =VLOOKUP($A6,Anlagen!$A$13:$CU$823,COLUMN(Anlagen!H:H),0) -> USA | H6: =VLOOKUP($A6,Anlagen!$A$13:$CU$823,COLUMN(Anlagen!I:I),0) -> 0 | I6: =VLOOKUP($A6,Anlagen!$A$13:$CU$823,COLUMN(Anlagen!J:J),0) -> 0 | J6: =VLOOKUP($A6,Anlagen!$A$13:$CU$823,COLUMN(Anlagen!K:K),0) -> 0 | K6: =VLOOKUP($A6,Anlagen!$A$13:$CU$823,COLUMN(Anlagen!L:L),0) -> 1 | L6: =VLOOKUP($A6,Anlagen!$A$13:$CU$823,COLUMN(Anlagen!M:M),0) -> 4 | M6: =VLOOKUP($A6,Anlagen!$A$13:$CU$823,COLUMN(Anlagen!N:N),0) -> 8.22C9 | N6: =VLOOKUP($A6,Anlagen!$A$13:$CU$823,COLUMN(Anlagen!O:O),0) -> G1 | O6: =VLOOKUP($A6,Anlagen!$A$13:$CU$823,COLUMN(Anlagen!P:P),0) -> 0 | P6: =VLOOKUP($A6,Anlagen!$A$13:$CU$823,COLUMN(Anlagen!Q:Q),0) -> 1607 + 1608 | Q6: =VLOOKUP($A6,Anlagen!$A$13:$CU$823,COLUMN(Anlagen!R:R),0) -> 643 + 644 | R6: =VLOOKUP($A6,Anlagen!$A$13:$CU$823,COLUMN(Anlagen!S:S),0) -> 0 | S6: =VLOOKUP($A6,Anlagen!$A$13:$CU$823,COLUMN(Anlagen!T:T),0) -> 0 | T6: =VLOOKUP($A6,Anlagen!$A$13:$CU$823,COLUMN(Anlagen!U:U),0) -> 0 | U6: =VLOOKUP($A6,Anlagen!$A$13:$CU$823,COLUMN(Anlagen!V:V),0) -> 0 | V6: =VLOOKUP($A6,Anlagen!$A$13:$CU$823,COLUMN(Anlagen!W:W),0) -> 0 | W6: =VLOOKUP($A6,Anlagen!$A$13:$CU$823,COLUMN(Anlagen!X:X),0) -> 0 | X6: =VLOOKUP($A6,Anlagen!$A$13:$CU$823,COLUMN(Anlagen!Y:Y),0) -> 0 | Y6: =VLOOKUP($A6,Anlagen!$A$13:$CU$823,COLUMN(Anlagen!Z:Z),0) -> 0 | Z6: =VLOOKUP($A6,Anlagen!$A$13:$CU$823,COLUMN(Anlagen!AC:AC),0) -> 0 | AA6: =VLOOKUP($A6,Anlagen!$A$13:$CU$823,COLUMN(Anlagen!AD:AD),0) -> 0 | AB6: =VLOOKUP($A6,Anlagen!$A$13:$CU$823,COLUMN(Anlagen!AE:AE),0) -> 0 | AC6: =VLOOKUP($A6,Anlagen!$A$13:$CU$823,COLUMN(Anlagen!AF:AF),0) -> 0 | AD6: =VLOOKUP($A6,Anlagen!$A$13:$CU$823,COLUMN(Anlagen!AG:AG),0) -> 0 | AE6: =VLOOKUP($A6,Anlagen!$A$13:$CU$823,COLUMN(Anlagen!AH:AH),0) -> 0 | AF6: =VLOOKUP($A6,Anlagen!$A$13:$CU$823,COLUMN(Anlagen!AI:AI),0) -> 0 | AG6: =VLOOKUP($A6,Anlagen!$A$13:$CU$823,COLUMN(Anlagen!AJ:AJ),0) -> 0 | AH6: =VLOOKUP($A6,Anlagen!$A$13:$CU$823,COLUMN(Anlagen!AK:AK),0) -> 0 | AI6: =VLOOKUP($A6,Anlagen!$A$13:$CU$823,COLUMN(Anlagen!AL:AL),0) -> 0 | AJ6: =VLOOKUP($A6,Anlagen!$A$13:$CU$823,COLUMN(Anlagen!AM:AM),0) -> 0 | AK6: =VLOOKUP($A6,Anlagen!$A$13:$CU$823,COLUMN(Anlagen!AN:AN),0) -> 0 | AM6: =VLOOKUP($A6,Anlagen!$A$13:$CU$823,COLUMN(Anlagen!AO:AO),0) -> 0 | AN6: =VLOOKUP($A6,Anlagen!$A$13:$CU$823,COLUMN(Anlagen!AP:AP),0) -> 380-500V;3~ | AO6: =VLOOKUP($A6,Anlagen!$A$13:$CU$823,COLUMN(Anlagen!AQ:AQ),0) -> 115V | AP6: =VLOOKUP($A6,Anlagen!$A$13:$CU$823,COLUMN(Anlagen!AR:AR),0) -> S5 + S7 | AQ6: =VLOOKUP($A6,Anlagen!$A$13:$CU$823,COLUMN(Anlagen!AS:AS),0) -> S95U | AR6: =VLOOKUP($A6,Anlagen!$A$13:$CU$823,COLUMN(Anlagen!AT:AT),0) -> 0 | AS6: =VLOOKUP($A6,Anlagen!$A$13:$CU$823,COLUMN(Anlagen!AU:AU),0) -> 0 | AT6: =VLOOKUP($A6,Anlagen!$A$13:$CU$823,COLUMN(Anlagen!AV:AV),0) -> 0 | AU6: =VLOOKUP($A6,Anlagen!$A$13:$CU$823,COLUMN(Anlagen!AW:AW),0) -> 0 | AV6: =VLOOKUP($A6,Anlagen!$A$13:$CU$823,COLUMN(Anlagen!AX:AX),0) -> 0 | AW6: =VLOOKUP($A6,Anlagen!$A$13:$CU$823,COLUMN(Anlagen!AY:AY),0) -> 0 | AX6: =VLOOKUP($A6,Anlagen!$A$13:$CU$823,COLUMN(Anlagen!AZ:AZ),0) -> 0 | AY6: =VLOOKUP($A6,Anlagen!$A$13:$CU$823,COLUMN(Anlagen!BA:BA),0) -> 0 | AZ6: =VLOOKUP($A6,Anlagen!$A$13:$CU$823,COLUMN(Anlagen!BB:BB),0) -> 0 | BA6: =VLOOKUP($A6,Anlagen!$A$13:$CU$823,COLUMN(Anlagen!BC:BC),0) -> 0 | BB6: =VLOOKUP($A6,Anlagen!$A$13:$CU$823,COLUMN(Anlagen!BD:BD),0) -> 0 | BC6: =VLOOKUP($A6,Anlagen!$A$13:$CU$823,COLUMN(Anlagen!BE:BE),0) -> 0 | BD6: =VLOOKUP($A6,Anlagen!$A$13:$CU$823,COLUMN(Anlagen!BF:BF),0) -> 0 | BE6: =VLOOKUP($A6,Anlagen!$A$13:$CU$823,COLUMN(Anlagen!BG:BG),0) -> 0 | BF6: =VLOOKUP($A6,Anlagen!$A$13:$CU$823,COLUMN(Anlagen!BH:BH),0) -> 0 | BG6: =VLOOKUP($A6,Anlagen!$A$13:$CU$823,COLUMN(Anlagen!BI:BI),0) -> Wachenh.-Kirchner 115V | BH6: =VLOOKUP($A6,Anlagen!$A$13:$CU$823,COLUMN(Anlagen!BJ:BJ),0) -> 0 | BI6: =VLOOKUP($A6,Anlagen!$A$13:$CU$823,COLUMN(Anlagen!BK:BK),0) -> 0 | BJ6: =VLOOKUP($A6,Anlagen!$A$13:$CU$823,COLUMN(Anlagen!BL:BL),0) -> 0 | BK6: =VLOOKUP($A6,Anlagen!$A$13:$CU$823,COLUMN(Anlagen!BM:BM),0) -> 0 | BL6: =VLOOKUP($A6,Anlagen!$A$13:$CU$823,COLUMN(Anlagen!BN:BN),0) -> 0 | BM6: =VLOOKUP($A6,Anlagen!$A$13:$CU$823,COLUMN(Anlagen!BO:BO),0) -> 0 | BN6: =VLOOKUP($A6,Anlagen!$A$13:$CU$823,COLUMN(Anlagen!BP:BP),0) -> 0 | BO6: =VLOOKUP($A6,Anlagen!$A$13:$CU$823,COLUMN(Anlagen!BR:BR),0) -> 0 | BP6: =VLOOKUP($A6,Anlagen!$A$13:$CU$823,COLUMN(Anlagen!BS:BS),0) -> 0 | BQ6: =VLOOKUP($A6,Anlagen!$A$13:$CU$823,COLUMN(Anlagen!BT:BT),0) -> 0 | BR6: =VLOOKUP($A6,Anlagen!$A$13:$CU$823,COLUMN(Anlagen!BU:BU),0) -> 0 | BS6: =VLOOKUP($A6,Anlagen!$A$13:$CU$823,COLUMN(Anlagen!BY:BY),0) -> Grün | BT6: =VLOOKUP($A6,Anlagen!$A$13:$CU$823,COLUMN(Anlagen!BZ:BZ),0) -> 4 | BU6: =VLOOKUP($A6,Anlagen!$A$13:$CU$823,COLUMN(Anlagen!CA:CA),0) -> 0 | BV6: =VLOOKUP($A6,Anlagen!$A$13:$CU$823,COLUMN(Anlagen!CB:CB),0) -> Throl 50mm | BW6: =VLOOKUP($A6,Anlagen!$A$13:$CU$823,COLUMN(Anlagen!CC:CC),0) -> 0 | BX6: =VLOOKUP($A6,Anlagen!$A$13:$CU$823,COLUMN(Anlagen!CD:CD),0) -> 0 | BY6: =VLOOKUP($A6,Anlagen!$A$13:$CU$823,COLUMN(Anlagen!CE:CE),0) -> HV (250V) | BZ6: =VLOOKUP($A6,Anlagen!$A$13:$CU$823,COLUMN(Anlagen!CG:CG),0) -> 0 | CA6: =VLOOKUP($A6,Anlagen!$A$13:$CU$823,COLUMN(Anlagen!CH:CH),0) -> 0 | CB6: =VLOOKUP($A6,Anlagen!$A$13:$CU$823,COLUMN(Anlagen!CJ:CJ),0) -> 0 | CC6: =VLOOKUP($A6,Anlagen!$A$13:$CU$823,COLUMN(Anlagen!CK:CK),0) -> 0 | CD6: =VLOOKUP($A6,Anlagen!$A$13:$CU$823,COLUMN(Anlagen!CL:CL),0) -> 0 | CE6: =VLOOKUP($A6,Anlagen!$A$13:$CU$823,COLUMN(Anlagen!CM:CM),0) -> 0 | CF6: =VLOOKUP($A6,Anlagen!$A$13:$CU$823,COLUMN(Anlagen!CN:CN),0) -> 0 | CG6: =VLOOKUP($A6,Anlagen!$A$13:$CU$823,COLUMN(Anlagen!CO:CO),0) -> 0 | CH6: =VLOOKUP($A6,Anlagen!$A$13:$CU$823,COLUMN(Anlagen!CP:CP),0) -> 0 | CI6: =VLOOKUP($A6,Anlagen!$A$13:$CU$823,COLUMN(Anlagen!CQ:CQ),0) -> 0 | CJ6: =VLOOKUP($A6,Anlagen!$A$13:$CU$823,COLUMN(Anlagen!CR:CR),0) -> 23.10.2015 RH | CK6: =VLOOKUP($A6,Anlagen!$A$13:$CU$823,COLUMN(Anlagen!CS:CS),0) -> 0 | CL6: =VLOOKUP($A6,Anlagen!$A$13:$CU$823,COLUMN(Anlagen!CT:CT),0) -> 0 | CM6: =VLOOKUP($A6,Anlagen!$A$13:$CU$823,COLUMN(Anlagen!CU:CU),0) -> 0
A7: ITT#011 | B7: =VLOOKUP($A7,Anlagen!$A$13:$CU$823,COLUMN(Anlagen!B:B),0) -> ITT2 | C7: =VLOOKUP($A7,Anlagen!$A$13:$CU$823,COLUMN(Anlagen!C:C),0) -> 0 | D7: =VLOOKUP($A7,Anlagen!$A$13:$CU$823,COLUMN(Anlagen!D:D),0) -> 0 | E7: =VLOOKUP($A7,Anlagen!$A$13:$CU$823,COLUMN(Anlagen!F:F),0) -> Standards Testing Labs STL | F7: =VLOOKUP($A7,Anlagen!$A$13:$CU$823,COLUMN(Anlagen!G:G),0) -> Massillon, OH | G7: =VLOOKUP($A7,Anlagen!$A$13:$CU$823,COLUMN(Anlagen!H:H),0) -> USA | H7: =VLOOKUP($A7,Anlagen!$A$13:$CU$823,COLUMN(Anlagen!I:I),0) -> 0 | I7: =VLOOKUP($A7,Anlagen!$A$13:$CU$823,COLUMN(Anlagen!J:J),0) -> 0 | J7: =VLOOKUP($A7,Anlagen!$A$13:$CU$823,COLUMN(Anlagen!K:K),0) -> 2000 | K7: =VLOOKUP($A7,Anlagen!$A$13:$CU$823,COLUMN(Anlagen!L:L),0) -> 0 | L7: =VLOOKUP($A7,Anlagen!$A$13:$CU$823,COLUMN(Anlagen!M:M),0) -> 0 | M7: =VLOOKUP($A7,Anlagen!$A$13:$CU$823,COLUMN(Anlagen!N:N),0) -> 0 | N7: =VLOOKUP($A7,Anlagen!$A$13:$CU$823,COLUMN(Anlagen!O:O),0) -> G1 | O7: =VLOOKUP($A7,Anlagen!$A$13:$CU$823,COLUMN(Anlagen!P:P),0) -> 0 | P7: =VLOOKUP($A7,Anlagen!$A$13:$CU$823,COLUMN(Anlagen!Q:Q),0) -> 0 | Q7: =VLOOKUP($A7,Anlagen!$A$13:$CU$823,COLUMN(Anlagen!R:R),0) -> 0 | R7: =VLOOKUP($A7,Anlagen!$A$13:$CU$823,COLUMN(Anlagen!S:S),0) -> 0 | S7: =VLOOKUP($A7,Anlagen!$A$13:$CU$823,COLUMN(Anlagen!T:T),0) -> 0 | T7: =VLOOKUP($A7,Anlagen!$A$13:$CU$823,COLUMN(Anlagen!U:U),0) -> 0 | U7: =VLOOKUP($A7,Anlagen!$A$13:$CU$823,COLUMN(Anlagen!V:V),0) -> 0 | V7: =VLOOKUP($A7,Anlagen!$A$13:$CU$823,COLUMN(Anlagen!W:W),0) -> 0 | W7: =VLOOKUP($A7,Anlagen!$A$13:$CU$823,COLUMN(Anlagen!X:X),0) -> 0 | X7: =VLOOKUP($A7,Anlagen!$A$13:$CU$823,COLUMN(Anlagen!Y:Y),0) -> 0 | Y7: =VLOOKUP($A7,Anlagen!$A$13:$CU$823,COLUMN(Anlagen!Z:Z),0) -> 0 | Z7: =VLOOKUP($A7,Anlagen!$A$13:$CU$823,COLUMN(Anlagen!AC:AC),0) -> 0 | AA7: =VLOOKUP($A7,Anlagen!$A$13:$CU$823,COLUMN(Anlagen!AD:AD),0) -> 0 | AB7: =VLOOKUP($A7,Anlagen!$A$13:$CU$823,COLUMN(Anlagen!AE:AE),0) -> 0 | AC7: =VLOOKUP($A7,Anlagen!$A$13:$CU$823,COLUMN(Anlagen!AF:AF),0) -> 0 | AD7: =VLOOKUP($A7,Anlagen!$A$13:$CU$823,COLUMN(Anlagen!AG:AG),0) -> 0 | AE7: =VLOOKUP($A7,Anlagen!$A$13:$CU$823,COLUMN(Anlagen!AH:AH),0) -> 0 | AF7: =VLOOKUP($A7,Anlagen!$A$13:$CU$823,COLUMN(Anlagen!AI:AI),0) -> 0 | AG7: =VLOOKUP($A7,Anlagen!$A$13:$CU$823,COLUMN(Anlagen!AJ:AJ),0) -> 0 | AH7: =VLOOKUP($A7,Anlagen!$A$13:$CU$823,COLUMN(Anlagen!AK:AK),0) -> 0 | AI7: =VLOOKUP($A7,Anlagen!$A$13:$CU$823,COLUMN(Anlagen!AL:AL),0) -> 0 | AJ7: =VLOOKUP($A7,Anlagen!$A$13:$CU$823,COLUMN(Anlagen!AM:AM),0) -> 0 | AK7: =VLOOKUP($A7,Anlagen!$A$13:$CU$823,COLUMN(Anlagen!AN:AN),0) -> 0 | AM7: =VLOOKUP($A7,Anlagen!$A$13:$CU$823,COLUMN(Anlagen!AO:AO),0) -> 0 | AN7: =VLOOKUP($A7,Anlagen!$A$13:$CU$823,COLUMN(Anlagen!AP:AP),0) -> 0 | AO7: =VLOOKUP($A7,Anlagen!$A$13:$CU$823,COLUMN(Anlagen!AQ:AQ),0) -> 0 | AP7: =VLOOKUP($A7,Anlagen!$A$13:$CU$823,COLUMN(Anlagen!AR:AR),0) -> 0 | AQ7: =VLOOKUP($A7,Anlagen!$A$13:$CU$823,COLUMN(Anlagen!AS:AS),0) -> 0 | AR7: =VLOOKUP($A7,Anlagen!$A$13:$CU$823,COLUMN(Anlagen!AT:AT),0) -> 0 | AS7: =VLOOKUP($A7,Anlagen!$A$13:$CU$823,COLUMN(Anlagen!AU:AU),0) -> 0 | AT7: =VLOOKUP($A7,Anlagen!$A$13:$CU$823,COLUMN(Anlagen!AV:AV),0) -> 0 | AU7: =VLOOKUP($A7,Anlagen!$A$13:$CU$823,COLUMN(Anlagen!AW:AW),0) -> 0 | AV7: =VLOOKUP($A7,Anlagen!$A$13:$CU$823,COLUMN(Anlagen!AX:AX),0) -> 0 | AW7: =VLOOKUP($A7,Anlagen!$A$13:$CU$823,COLUMN(Anlagen!AY:AY),0) -> 0 | AX7: =VLOOKUP($A7,Anlagen!$A$13:$CU$823,COLUMN(Anlagen!AZ:AZ),0) -> 0 | AY7: =VLOOKUP($A7,Anlagen!$A$13:$CU$823,COLUMN(Anlagen!BA:BA),0) -> 0 | AZ7: =VLOOKUP($A7,Anlagen!$A$13:$CU$823,COLUMN(Anlagen!BB:BB),0) -> 0 | BA7: =VLOOKUP($A7,Anlagen!$A$13:$CU$823,COLUMN(Anlagen!BC:BC),0) -> 0 | BB7: =VLOOKUP($A7,Anlagen!$A$13:$CU$823,COLUMN(Anlagen!BD:BD),0) -> 0 | BC7: =VLOOKUP($A7,Anlagen!$A$13:$CU$823,COLUMN(Anlagen!BE:BE),0) -> 0 | BD7: =VLOOKUP($A7,Anlagen!$A$13:$CU$823,COLUMN(Anlagen!BF:BF),0) -> 0 | BE7: =VLOOKUP($A7,Anlagen!$A$13:$CU$823,COLUMN(Anlagen!BG:BG),0) -> 0 | BF7: =VLOOKUP($A7,Anlagen!$A$13:$CU$823,COLUMN(Anlagen!BH:BH),0) -> 0 | BG7: =VLOOKUP($A7,Anlagen!$A$13:$CU$823,COLUMN(Anlagen!BI:BI),0) -> 0 | BH7: =VLOOKUP($A7,Anlagen!$A$13:$CU$823,COLUMN(Anlagen!BJ:BJ),0) -> 0 | BI7: =VLOOKUP($A7,Anlagen!$A$13:$CU$823,COLUMN(Anlagen!BK:BK),0) -> 0 | BJ7: =VLOOKUP($A7,Anlagen!$A$13:$CU$823,COLUMN(Anlagen!BL:BL),0) -> 0 | BK7: =VLOOKUP($A7,Anlagen!$A$13:$CU$823,COLUMN(Anlagen!BM:BM),0) -> 0 | BL7: =VLOOKUP($A7,Anlagen!$A$13:$CU$823,COLUMN(Anlagen!BN:BN),0) -> 0 | BM7: =VLOOKUP($A7,Anlagen!$A$13:$CU$823,COLUMN(Anlagen!BO:BO),0) -> 0 | BN7: =VLOOKUP($A7,Anlagen!$A$13:$CU$823,COLUMN(Anlagen!BP:BP),0) -> 0 | BO7: =VLOOKUP($A7,Anlagen!$A$13:$CU$823,COLUMN(Anlagen!BR:BR),0) -> 0 | BP7: =VLOOKUP($A7,Anlagen!$A$13:$CU$823,COLUMN(Anlagen!BS:BS),0) -> 0 | BQ7: =VLOOKUP($A7,Anlagen!$A$13:$CU$823,COLUMN(Anlagen!BT:BT),0) -> 0 | BR7: =VLOOKUP($A7,Anlagen!$A$13:$CU$823,COLUMN(Anlagen!BU:BU),0) -> 0 | BS7: =VLOOKUP($A7,Anlagen!$A$13:$CU$823,COLUMN(Anlagen!BY:BY),0) -> 0 | BT7: =VLOOKUP($A7,Anlagen!$A$13:$CU$823,COLUMN(Anlagen!BZ:BZ),0) -> 0 | BU7: =VLOOKUP($A7,Anlagen!$A$13:$CU$823,COLUMN(Anlagen!CA:CA),0) -> 0 | BV7: =VLOOKUP($A7,Anlagen!$A$13:$CU$823,COLUMN(Anlagen!CB:CB),0) -> Throl 50mm | BW7: =VLOOKUP($A7,Anlagen!$A$13:$CU$823,COLUMN(Anlagen!CC:CC),0) -> 0 | BX7: =VLOOKUP($A7,Anlagen!$A$13:$CU$823,COLUMN(Anlagen!CD:CD),0) -> 0 | BY7: =VLOOKUP($A7,Anlagen!$A$13:$CU$823,COLUMN(Anlagen!CE:CE),0) -> HV (250V) | BZ7: =VLOOKUP($A7,Anlagen!$A$13:$CU$823,COLUMN(Anlagen!CG:CG),0) -> 0 | CA7: =VLOOKUP($A7,Anlagen!$A$13:$CU$823,COLUMN(Anlagen!CH:CH),0) -> 0 | CB7: =VLOOKUP($A7,Anlagen!$A$13:$CU$823,COLUMN(Anlagen!CJ:CJ),0) -> 0 | CC7: =VLOOKUP($A7,Anlagen!$A$13:$CU$823,COLUMN(Anlagen!CK:CK),0) -> 0 | CD7: =VLOOKUP($A7,Anlagen!$A$13:$CU$823,COLUMN(Anlagen!CL:CL),0) -> 0 | CE7: =VLOOKUP($A7,Anlagen!$A$13:$CU$823,COLUMN(Anlagen!CM:CM),0) -> 0 | CF7: =VLOOKUP($A7,Anlagen!$A$13:$CU$823,COLUMN(Anlagen!CN:CN),0) -> 0 | CG7: =VLOOKUP($A7,Anlagen!$A$13:$CU$823,COLUMN(Anlagen!CO:CO),0) -> 0 | CH7: =VLOOKUP($A7,Anlagen!$A$13:$CU$823,COLUMN(Anlagen!CP:CP),0) -> 0 | CI7: =VLOOKUP($A7,Anlagen!$A$13:$CU$823,COLUMN(Anlagen!CQ:CQ),0) -> 0 | CJ7: =VLOOKUP($A7,Anlagen!$A$13:$CU$823,COLUMN(Anlagen!CR:CR),0) -> 0 | CK7: =VLOOKUP($A7,Anlagen!$A$13:$CU$823,COLUMN(Anlagen!CS:CS),0) -> 0 | CL7: =VLOOKUP($A7,Anlagen!$A$13:$CU$823,COLUMN(Anlagen!CT:CT),0) -> 0 | CM7: =VLOOKUP($A7,Anlagen!$A$13:$CU$823,COLUMN(Anlagen!CU:CU),0) -> 0
A8: ITT#014 | B8: =VLOOKUP($A8,Anlagen!$A$13:$CU$823,COLUMN(Anlagen!B:B),0) -> ITT2 | C8: =VLOOKUP($A8,Anlagen!$A$13:$CU$823,COLUMN(Anlagen!C:C),0) -> 0 | D8: =VLOOKUP($A8,Anlagen!$A$13:$CU$823,COLUMN(Anlagen!D:D),0) -> 0 | E8: =VLOOKUP($A8,Anlagen!$A$13:$CU$823,COLUMN(Anlagen!F:F),0) -> BF Goodrich / Michelin | F8: =VLOOKUP($A8,Anlagen!$A$13:$CU$823,COLUMN(Anlagen!G:G),0) -> Tuscaloosa | G8: =VLOOKUP($A8,Anlagen!$A$13:$CU$823,COLUMN(Anlagen!H:H),0) -> USA | H8: =VLOOKUP($A8,Anlagen!$A$13:$CU$823,COLUMN(Anlagen!I:I),0) -> 0 | I8: =VLOOKUP($A8,Anlagen!$A$13:$CU$823,COLUMN(Anlagen!J:J),0) -> 0 | J8: =VLOOKUP($A8,Anlagen!$A$13:$CU$823,COLUMN(Anlagen!K:K),0) -> 0 | K8: =VLOOKUP($A8,Anlagen!$A$13:$CU$823,COLUMN(Anlagen!L:L),0) -> 0 | L8: =VLOOKUP($A8,Anlagen!$A$13:$CU$823,COLUMN(Anlagen!M:M),0) -> 0 | M8: =VLOOKUP($A8,Anlagen!$A$13:$CU$823,COLUMN(Anlagen!N:N),0) -> 0 | N8: =VLOOKUP($A8,Anlagen!$A$13:$CU$823,COLUMN(Anlagen!O:O),0) -> G1 | O8: =VLOOKUP($A8,Anlagen!$A$13:$CU$823,COLUMN(Anlagen!P:P),0) -> 0 | P8: =VLOOKUP($A8,Anlagen!$A$13:$CU$823,COLUMN(Anlagen!Q:Q),0) -> 0 | Q8: =VLOOKUP($A8,Anlagen!$A$13:$CU$823,COLUMN(Anlagen!R:R),0) -> 0 | R8: =VLOOKUP($A8,Anlagen!$A$13:$CU$823,COLUMN(Anlagen!S:S),0) -> 0 | S8: =VLOOKUP($A8,Anlagen!$A$13:$CU$823,COLUMN(Anlagen!T:T),0) -> 0 | T8: =VLOOKUP($A8,Anlagen!$A$13:$CU$823,COLUMN(Anlagen!U:U),0) -> 0 | U8: =VLOOKUP($A8,Anlagen!$A$13:$CU$823,COLUMN(Anlagen!V:V),0) -> 0 | V8: =VLOOKUP($A8,Anlagen!$A$13:$CU$823,COLUMN(Anlagen!W:W),0) -> 0 | W8: =VLOOKUP($A8,Anlagen!$A$13:$CU$823,COLUMN(Anlagen!X:X),0) -> 0 | X8: =VLOOKUP($A8,Anlagen!$A$13:$CU$823,COLUMN(Anlagen!Y:Y),0) -> 0 | Y8: =VLOOKUP($A8,Anlagen!$A$13:$CU$823,COLUMN(Anlagen!Z:Z),0) -> 0 | Z8: =VLOOKUP($A8,Anlagen!$A$13:$CU$823,COLUMN(Anlagen!AC:AC),0) -> 0 | AA8: =VLOOKUP($A8,Anlagen!$A$13:$CU$823,COLUMN(Anlagen!AD:AD),0) -> 0 | AB8: =VLOOKUP($A8,Anlagen!$A$13:$CU$823,COLUMN(Anlagen!AE:AE),0) -> 0 | AC8: =VLOOKUP($A8,Anlagen!$A$13:$CU$823,COLUMN(Anlagen!AF:AF),0) -> 0 | AD8: =VLOOKUP($A8,Anlagen!$A$13:$CU$823,COLUMN(Anlagen!AG:AG),0) -> 0 | AE8: =VLOOKUP($A8,Anlagen!$A$13:$CU$823,COLUMN(Anlagen!AH:AH),0) -> 0 | AF8: =VLOOKUP($A8,Anlagen!$A$13:$CU$823,COLUMN(Anlagen!AI:AI),0) -> 0 | AG8: =VLOOKUP($A8,Anlagen!$A$13:$CU$823,COLUMN(Anlagen!AJ:AJ),0) -> 0 | AH8: =VLOOKUP($A8,Anlagen!$A$13:$CU$823,COLUMN(Anlagen!AK:AK),0) -> 0 | AI8: =VLOOKUP($A8,Anlagen!$A$13:$CU$823,COLUMN(Anlagen!AL:AL),0) -> 0 | AJ8: =VLOOKUP($A8,Anlagen!$A$13:$CU$823,COLUMN(Anlagen!AM:AM),0) -> 0 | AK8: =VLOOKUP($A8,Anlagen!$A$13:$CU$823,COLUMN(Anlagen!AN:AN),0) -> 0 | AM8: =VLOOKUP($A8,Anlagen!$A$13:$CU$823,COLUMN(Anlagen!AO:AO),0) -> 0 | AN8: =VLOOKUP($A8,Anlagen!$A$13:$CU$823,COLUMN(Anlagen!AP:AP),0) -> 0 | AO8: =VLOOKUP($A8,Anlagen!$A$13:$CU$823,COLUMN(Anlagen!AQ:AQ),0) -> 0 | AP8: =VLOOKUP($A8,Anlagen!$A$13:$CU$823,COLUMN(Anlagen!AR:AR),0) -> 0 | AQ8: =VLOOKUP($A8,Anlagen!$A$13:$CU$823,COLUMN(Anlagen!AS:AS),0) -> 0 | AR8: =VLOOKUP($A8,Anlagen!$A$13:$CU$823,COLUMN(Anlagen!AT:AT),0) -> 0 | AS8: =VLOOKUP($A8,Anlagen!$A$13:$CU$823,COLUMN(Anlagen!AU:AU),0) -> 0 | AT8: =VLOOKUP($A8,Anlagen!$A$13:$CU$823,COLUMN(Anlagen!AV:AV),0) -> 0 | AU8: =VLOOKUP($A8,Anlagen!$A$13:$CU$823,COLUMN(Anlagen!AW:AW),0) -> 0 | AV8: =VLOOKUP($A8,Anlagen!$A$13:$CU$823,COLUMN(Anlagen!AX:AX),0) -> 0 | AW8: =VLOOKUP($A8,Anlagen!$A$13:$CU$823,COLUMN(Anlagen!AY:AY),0) -> 0 | AX8: =VLOOKUP($A8,Anlagen!$A$13:$CU$823,COLUMN(Anlagen!AZ:AZ),0) -> 0 | AY8: =VLOOKUP($A8,Anlagen!$A$13:$CU$823,COLUMN(Anlagen!BA:BA),0) -> 0 | AZ8: =VLOOKUP($A8,Anlagen!$A$13:$CU$823,COLUMN(Anlagen!BB:BB),0) -> 0 | BA8: =VLOOKUP($A8,Anlagen!$A$13:$CU$823,COLUMN(Anlagen!BC:BC),0) -> 0 | BB8: =VLOOKUP($A8,Anlagen!$A$13:$CU$823,COLUMN(Anlagen!BD:BD),0) -> 0 | BC8: =VLOOKUP($A8,Anlagen!$A$13:$CU$823,COLUMN(Anlagen!BE:BE),0) -> 0 | BD8: =VLOOKUP($A8,Anlagen!$A$13:$CU$823,COLUMN(Anlagen!BF:BF),0) -> 0 | BE8: =VLOOKUP($A8,Anlagen!$A$13:$CU$823,COLUMN(Anlagen!BG:BG),0) -> 0 | BF8: =VLOOKUP($A8,Anlagen!$A$13:$CU$823,COLUMN(Anlagen!BH:BH),0) -> 0 | BG8: =VLOOKUP($A8,Anlagen!$A$13:$CU$823,COLUMN(Anlagen!BI:BI),0) -> 0 | BH8: =VLOOKUP($A8,Anlagen!$A$13:$CU$823,COLUMN(Anlagen!BJ:BJ),0) -> 0 | BI8: =VLOOKUP($A8,Anlagen!$A$13:$CU$823,COLUMN(Anlagen!BK:BK),0) -> 0 | BJ8: =VLOOKUP($A8,Anlagen!$A$13:$CU$823,COLUMN(Anlagen!BL:BL),0) -> 0 | BK8: =VLOOKUP($A8,Anlagen!$A$13:$CU$823,COLUMN(Anlagen!BM:BM),0) -> 0 | BL8: =VLOOKUP($A8,Anlagen!$A$13:$CU$823,COLUMN(Anlagen!BN:BN),0) -> 0 | BM8: =VLOOKUP($A8,Anlagen!$A$13:$CU$823,COLUMN(Anlagen!BO:BO),0) -> 0 | BN8: =VLOOKUP($A8,Anlagen!$A$13:$CU$823,COLUMN(Anlagen!BP:BP),0) -> 0 | BO8: =VLOOKUP($A8,Anlagen!$A$13:$CU$823,COLUMN(Anlagen!BR:BR),0) -> 0 | BP8: =VLOOKUP($A8,Anlagen!$A$13:$CU$823,COLUMN(Anlagen!BS:BS),0) -> 0 | BQ8: =VLOOKUP($A8,Anlagen!$A$13:$CU$823,COLUMN(Anlagen!BT:BT),0) -> 0 | BR8: =VLOOKUP($A8,Anlagen!$A$13:$CU$823,COLUMN(Anlagen!BU:BU),0) -> 0 | BS8: =VLOOKUP($A8,Anlagen!$A$13:$CU$823,COLUMN(Anlagen!BY:BY),0) -> 0 | BT8: =VLOOKUP($A8,Anlagen!$A$13:$CU$823,COLUMN(Anlagen!BZ:BZ),0) -> 0 | BU8: =VLOOKUP($A8,Anlagen!$A$13:$CU$823,COLUMN(Anlagen!CA:CA),0) -> 0 | BV8: =VLOOKUP($A8,Anlagen!$A$13:$CU$823,COLUMN(Anlagen!CB:CB),0) -> Throl 50mm | BW8: =VLOOKUP($A8,Anlagen!$A$13:$CU$823,COLUMN(Anlagen!CC:CC),0) -> 0 | BX8: =VLOOKUP($A8,Anlagen!$A$13:$CU$823,COLUMN(Anlagen!CD:CD),0) -> 0 | BY8: =VLOOKUP($A8,Anlagen!$A$13:$CU$823,COLUMN(Anlagen!CE:CE),0) -> HV (250V) | BZ8: =VLOOKUP($A8,Anlagen!$A$13:$CU$823,COLUMN(Anlagen!CG:CG),0) -> 0 | CA8: =VLOOKUP($A8,Anlagen!$A$13:$CU$823,COLUMN(Anlagen!CH:CH),0) -> 0 | CB8: =VLOOKUP($A8,Anlagen!$A$13:$CU$823,COLUMN(Anlagen!CJ:CJ),0) -> 0 | CC8: =VLOOKUP($A8,Anlagen!$A$13:$CU$823,COLUMN(Anlagen!CK:CK),0) -> 0 | CD8: =VLOOKUP($A8,Anlagen!$A$13:$CU$823,COLUMN(Anlagen!CL:CL),0) -> 0 | CE8: =VLOOKUP($A8,Anlagen!$A$13:$CU$823,COLUMN(Anlagen!CM:CM),0) -> 0 | CF8: =VLOOKUP($A8,Anlagen!$A$13:$CU$823,COLUMN(Anlagen!CN:CN),0) -> 0 | CG8: =VLOOKUP($A8,Anlagen!$A$13:$CU$823,COLUMN(Anlagen!CO:CO),0) -> 0 | CH8: =VLOOKUP($A8,Anlagen!$A$13:$CU$823,COLUMN(Anlagen!CP:CP),0) -> 0 | CI8: =VLOOKUP($A8,Anlagen!$A$13:$CU$823,COLUMN(Anlagen!CQ:CQ),0) -> 0 | CJ8: =VLOOKUP($A8,Anlagen!$A$13:$CU$823,COLUMN(Anlagen!CR:CR),0) -> 0 | CK8: =VLOOKUP($A8,Anlagen!$A$13:$CU$823,COLUMN(Anlagen!CS:CS),0) -> 0 | CL8: =VLOOKUP($A8,Anlagen!$A$13:$CU$823,COLUMN(Anlagen!CT:CT),0) -> 0 | CM8: =VLOOKUP($A8,Anlagen!$A$13:$CU$823,COLUMN(Anlagen!CU:CU),0) -> 0
A9: ITT#017 | B9: =VLOOKUP($A9,Anlagen!$A$13:$CU$823,COLUMN(Anlagen!B:B),0) -> ITT2 | C9: =VLOOKUP($A9,Anlagen!$A$13:$CU$823,COLUMN(Anlagen!C:C),0) -> 0 | D9: =VLOOKUP($A9,Anlagen!$A$13:$CU$823,COLUMN(Anlagen!D:D),0) -> 0 | E9: =VLOOKUP($A9,Anlagen!$A$13:$CU$823,COLUMN(Anlagen!F:F),0) -> Michelin CA3 | F9: =VLOOKUP($A9,Anlagen!$A$13:$CU$823,COLUMN(Anlagen!G:G),0) -> Waterville, NS | G9: =VLOOKUP($A9,Anlagen!$A$13:$CU$823,COLUMN(Anlagen!H:H),0) -> Kanada | H9: =VLOOKUP($A9,Anlagen!$A$13:$CU$823,COLUMN(Anlagen!I:I),0) -> 0 | I9: =VLOOKUP($A9,Anlagen!$A$13:$CU$823,COLUMN(Anlagen!J:J),0) -> 0 | J9: =VLOOKUP($A9,Anlagen!$A$13:$CU$823,COLUMN(Anlagen!K:K),0) -> 2000 | K9: =VLOOKUP($A9,Anlagen!$A$13:$CU$823,COLUMN(Anlagen!L:L),0) -> 1 | L9: =VLOOKUP($A9,Anlagen!$A$13:$CU$823,COLUMN(Anlagen!M:M),0) -> 4 | M9: =VLOOKUP($A9,Anlagen!$A$13:$CU$823,COLUMN(Anlagen!N:N),0) -> 19.05A | N9: =VLOOKUP($A9,Anlagen!$A$13:$CU$823,COLUMN(Anlagen!O:O),0) -> G1 | O9: =VLOOKUP($A9,Anlagen!$A$13:$CU$823,COLUMN(Anlagen!P:P),0) -> 0 | P9: =VLOOKUP($A9,Anlagen!$A$13:$CU$823,COLUMN(Anlagen!Q:Q),0) -> 2010 | Q9: =VLOOKUP($A9,Anlagen!$A$13:$CU$823,COLUMN(Anlagen!R:R),0) -> 838 | R9: =VLOOKUP($A9,Anlagen!$A$13:$CU$823,COLUMN(Anlagen!S:S),0) -> 0 | S9: =VLOOKUP($A9,Anlagen!$A$13:$CU$823,COLUMN(Anlagen!T:T),0) -> 0 | T9: =VLOOKUP($A9,Anlagen!$A$13:$CU$823,COLUMN(Anlagen!U:U),0) -> 0 | U9: =VLOOKUP($A9,Anlagen!$A$13:$CU$823,COLUMN(Anlagen!V:V),0) -> 0 | V9: =VLOOKUP($A9,Anlagen!$A$13:$CU$823,COLUMN(Anlagen!W:W),0) -> 0 | W9: =VLOOKUP($A9,Anlagen!$A$13:$CU$823,COLUMN(Anlagen!X:X),0) -> 0 | X9: =VLOOKUP($A9,Anlagen!$A$13:$CU$823,COLUMN(Anlagen!Y:Y),0) -> 0 | Y9: =VLOOKUP($A9,Anlagen!$A$13:$CU$823,COLUMN(Anlagen!Z:Z),0) -> 0 | Z9: =VLOOKUP($A9,Anlagen!$A$13:$CU$823,COLUMN(Anlagen!AC:AC),0) -> Schneider Electric | AA9: =VLOOKUP($A9,Anlagen!$A$13:$CU$823,COLUMN(Anlagen!AD:AD),0) -> 0 | AB9: =VLOOKUP($A9,Anlagen!$A$13:$CU$823,COLUMN(Anlagen!AE:AE),0) -> Schneider Electric | AC9: =VLOOKUP($A9,Anlagen!$A$13:$CU$823,COLUMN(Anlagen!AF:AF),0) -> 0 | AD9: =VLOOKUP($A9,Anlagen!$A$13:$CU$823,COLUMN(Anlagen!AG:AG),0) -> Schneider Electric | AE9: =VLOOKUP($A9,Anlagen!$A$13:$CU$823,COLUMN(Anlagen!AH:AH),0) -> 0 | AF9: =VLOOKUP($A9,Anlagen!$A$13:$CU$823,COLUMN(Anlagen!AI:AI),0) -> Schneider Electric | AG9: =VLOOKUP($A9,Anlagen!$A$13:$CU$823,COLUMN(Anlagen!AJ:AJ),0) -> 0 | AH9: =VLOOKUP($A9,Anlagen!$A$13:$CU$823,COLUMN(Anlagen!AK:AK),0) -> 0 | AI9: =VLOOKUP($A9,Anlagen!$A$13:$CU$823,COLUMN(Anlagen!AL:AL),0) -> 0 | AJ9: =VLOOKUP($A9,Anlagen!$A$13:$CU$823,COLUMN(Anlagen!AM:AM),0) -> 0 | AK9: =VLOOKUP($A9,Anlagen!$A$13:$CU$823,COLUMN(Anlagen!AN:AN),0) -> 0 | AM9: =VLOOKUP($A9,Anlagen!$A$13:$CU$823,COLUMN(Anlagen!AO:AO),0) -> 0 | AN9: =VLOOKUP($A9,Anlagen!$A$13:$CU$823,COLUMN(Anlagen!AP:AP),0) -> 0 | AO9: =VLOOKUP($A9,Anlagen!$A$13:$CU$823,COLUMN(Anlagen!AQ:AQ),0) -> 0 | AP9: =VLOOKUP($A9,Anlagen!$A$13:$CU$823,COLUMN(Anlagen!AR:AR),0) -> 0 | AQ9: =VLOOKUP($A9,Anlagen!$A$13:$CU$823,COLUMN(Anlagen!AS:AS),0) -> S95U | AR9: =VLOOKUP($A9,Anlagen!$A$13:$CU$823,COLUMN(Anlagen!AT:AT),0) -> 0 | AS9: =VLOOKUP($A9,Anlagen!$A$13:$CU$823,COLUMN(Anlagen!AU:AU),0) -> 0 | AT9: =VLOOKUP($A9,Anlagen!$A$13:$CU$823,COLUMN(Anlagen!AV:AV),0) -> 0 | AU9: =VLOOKUP($A9,Anlagen!$A$13:$CU$823,COLUMN(Anlagen!AW:AW),0) -> 0 | AV9: =VLOOKUP($A9,Anlagen!$A$13:$CU$823,COLUMN(Anlagen!AX:AX),0) -> 0 | AW9: =VLOOKUP($A9,Anlagen!$A$13:$CU$823,COLUMN(Anlagen!AY:AY),0) -> 0 | AX9: =VLOOKUP($A9,Anlagen!$A$13:$CU$823,COLUMN(Anlagen!AZ:AZ),0) -> 0 | AY9: =VLOOKUP($A9,Anlagen!$A$13:$CU$823,COLUMN(Anlagen!BA:BA),0) -> 0 | AZ9: =VLOOKUP($A9,Anlagen!$A$13:$CU$823,COLUMN(Anlagen!BB:BB),0) -> 0 | BA9: =VLOOKUP($A9,Anlagen!$A$13:$CU$823,COLUMN(Anlagen!BC:BC),0) -> 0 | BB9: =VLOOKUP($A9,Anlagen!$A$13:$CU$823,COLUMN(Anlagen!BD:BD),0) -> 0 | BC9: =VLOOKUP($A9,Anlagen!$A$13:$CU$823,COLUMN(Anlagen!BE:BE),0) -> 0 | BD9: =VLOOKUP($A9,Anlagen!$A$13:$CU$823,COLUMN(Anlagen!BF:BF),0) -> 0 | BE9: =VLOOKUP($A9,Anlagen!$A$13:$CU$823,COLUMN(Anlagen!BG:BG),0) -> 0 | BF9: =VLOOKUP($A9,Anlagen!$A$13:$CU$823,COLUMN(Anlagen!BH:BH),0) -> 0 | BG9: =VLOOKUP($A9,Anlagen!$A$13:$CU$823,COLUMN(Anlagen!BI:BI),0) -> 0 | BH9: =VLOOKUP($A9,Anlagen!$A$13:$CU$823,COLUMN(Anlagen!BJ:BJ),0) -> 0 | BI9: =VLOOKUP($A9,Anlagen!$A$13:$CU$823,COLUMN(Anlagen!BK:BK),0) -> 0 | BJ9: =VLOOKUP($A9,Anlagen!$A$13:$CU$823,COLUMN(Anlagen!BL:BL),0) -> LPD 2B | BK9: =VLOOKUP($A9,Anlagen!$A$13:$CU$823,COLUMN(Anlagen!BM:BM),0) -> 0 | BL9: =VLOOKUP($A9,Anlagen!$A$13:$CU$823,COLUMN(Anlagen!BN:BN),0) -> 0 | BM9: =VLOOKUP($A9,Anlagen!$A$13:$CU$823,COLUMN(Anlagen!BO:BO),0) -> 0 | BN9: =VLOOKUP($A9,Anlagen!$A$13:$CU$823,COLUMN(Anlagen!BP:BP),0) -> 0 | BO9: =VLOOKUP($A9,Anlagen!$A$13:$CU$823,COLUMN(Anlagen!BR:BR),0) -> 0 | BP9: =VLOOKUP($A9,Anlagen!$A$13:$CU$823,COLUMN(Anlagen!BS:BS),0) -> 0 | BQ9: =VLOOKUP($A9,Anlagen!$A$13:$CU$823,COLUMN(Anlagen!BT:BT),0) -> 5A,5B,Videobox | BR9: =VLOOKUP($A9,Anlagen!$A$13:$CU$823,COLUMN(Anlagen!BU:BU),0) -> 5m,10m,2m | BS9: =VLOOKUP($A9,Anlagen!$A$13:$CU$823,COLUMN(Anlagen!BY:BY),0) -> Grün | BT9: =VLOOKUP($A9,Anlagen!$A$13:$CU$823,COLUMN(Anlagen!BZ:BZ),0) -> 4 | BU9: =VLOOKUP($A9,Anlagen!$A$13:$CU$823,COLUMN(Anlagen!CA:CA),0) -> Pentax 4.8mm 1:1.8 | BV9: =VLOOKUP($A9,Anlagen!$A$13:$CU$823,COLUMN(Anlagen!CB:CB),0) -> Throl 50mm | BW9: =VLOOKUP($A9,Anlagen!$A$13:$CU$823,COLUMN(Anlagen!CC:CC),0) -> Jai | BX9: =VLOOKUP($A9,Anlagen!$A$13:$CU$823,COLUMN(Anlagen!CD:CD),0) -> 0° | BY9: =VLOOKUP($A9,Anlagen!$A$13:$CU$823,COLUMN(Anlagen!CE:CE),0) -> HV (250V) | BZ9: =VLOOKUP($A9,Anlagen!$A$13:$CU$823,COLUMN(Anlagen!CG:CG),0) -> 0 | CA9: =VLOOKUP($A9,Anlagen!$A$13:$CU$823,COLUMN(Anlagen!CH:CH),0) -> 0 | CB9: =VLOOKUP($A9,Anlagen!$A$13:$CU$823,COLUMN(Anlagen!CJ:CJ),0) -> 0 | CC9: =VLOOKUP($A9,Anlagen!$A$13:$CU$823,COLUMN(Anlagen!CK:CK),0) -> 0 | CD9: =VLOOKUP($A9,Anlagen!$A$13:$CU$823,COLUMN(Anlagen!CL:CL),0) -> 0 | CE9: =VLOOKUP($A9,Anlagen!$A$13:$CU$823,COLUMN(Anlagen!CM:CM),0) -> 0 | CF9: =VLOOKUP($A9,Anlagen!$A$13:$CU$823,COLUMN(Anlagen!CN:CN),0) -> 0 | CG9: =VLOOKUP($A9,Anlagen!$A$13:$CU$823,COLUMN(Anlagen!CO:CO),0) -> 0 | CH9: =VLOOKUP($A9,Anlagen!$A$13:$CU$823,COLUMN(Anlagen!CP:CP),0) -> 0 | CI9: =VLOOKUP($A9,Anlagen!$A$13:$CU$823,COLUMN(Anlagen!CQ:CQ),0) -> 0 | CJ9: =VLOOKUP($A9,Anlagen!$A$13:$CU$823,COLUMN(Anlagen!CR:CR),0) -> 04.11.2020 CG | CK9: =VLOOKUP($A9,Anlagen!$A$13:$CU$823,COLUMN(Anlagen!CS:CS),0) -> 0 | CL9: =VLOOKUP($A9,Anlagen!$A$13:$CU$823,COLUMN(Anlagen!CT:CT),0) -> 0 | CM9: =VLOOKUP($A9,Anlagen!$A$13:$CU$823,COLUMN(Anlagen!CU:CU),0) -> Tauschmesskopf erhalten in 07/2011 zum testen der autom.Belichtungssteuerung; Videobox mit Überspannungsschutzstecker| Umgestellt auf LPD2 12/2022
A10: ITT#019 | B10: =VLOOKUP($A10,Anlagen!$A$13:$CU$823,COLUMN(Anlagen!B:B),0) -> ITT1-SD | C10: =VLOOKUP($A10,Anlagen!$A$13:$CU$823,COLUMN(Anlagen!C:C),0) -> 0 | D10: =VLOOKUP($A10,Anlagen!$A$13:$CU$823,COLUMN(Anlagen!D:D),0) -> 1250 | E10: =VLOOKUP($A10,Anlagen!$A$13:$CU$823,COLUMN(Anlagen!F:F),0) -> Smithers | F10: =VLOOKUP($A10,Anlagen!$A$13:$CU$823,COLUMN(Anlagen!G:G),0) -> Ravenna, OH | G10: =VLOOKUP($A10,Anlagen!$A$13:$CU$823,COLUMN(Anlagen!H:H),0) -> USA | H10: =VLOOKUP($A10,Anlagen!$A$13:$CU$823,COLUMN(Anlagen!I:I),0) -> 0 | I10: =VLOOKUP($A10,Anlagen!$A$13:$CU$823,COLUMN(Anlagen!J:J),0) -> 48 | J10: =VLOOKUP($A10,Anlagen!$A$13:$CU$823,COLUMN(Anlagen!K:K),0) -> 2001 | K10: =VLOOKUP($A10,Anlagen!$A$13:$CU$823,COLUMN(Anlagen!L:L),0) -> 1 | L10: =VLOOKUP($A10,Anlagen!$A$13:$CU$823,COLUMN(Anlagen!M:M),0) -> 4 | M10: =VLOOKUP($A10,Anlagen!$A$13:$CU$823,COLUMN(Anlagen!N:N),0) -> 17.04 | N10: =VLOOKUP($A10,Anlagen!$A$13:$CU$823,COLUMN(Anlagen!O:O),0) -> G1 | O10: =VLOOKUP($A10,Anlagen!$A$13:$CU$823,COLUMN(Anlagen!P:P),0) -> ITT1/1 Stand 5 | P10: =VLOOKUP($A10,Anlagen!$A$13:$CU$823,COLUMN(Anlagen!Q:Q),0) -> 1472 | Q10: =VLOOKUP($A10,Anlagen!$A$13:$CU$823,COLUMN(Anlagen!R:R),0) -> 0 | R10: =VLOOKUP($A10,Anlagen!$A$13:$CU$823,COLUMN(Anlagen!S:S),0) -> 0 | S10: =VLOOKUP($A10,Anlagen!$A$13:$CU$823,COLUMN(Anlagen!T:T),0) -> 0 | T10: =VLOOKUP($A10,Anlagen!$A$13:$CU$823,COLUMN(Anlagen!U:U),0) -> Ott 24V | U10: =VLOOKUP($A10,Anlagen!$A$13:$CU$823,COLUMN(Anlagen!V:V),0) -> 0 | V10: =VLOOKUP($A10,Anlagen!$A$13:$CU$823,COLUMN(Anlagen!W:W),0) -> 0 | W10: =VLOOKUP($A10,Anlagen!$A$13:$CU$823,COLUMN(Anlagen!X:X),0) -> Bosch | X10: =VLOOKUP($A10,Anlagen!$A$13:$CU$823,COLUMN(Anlagen!Y:Y),0) -> 0 | Y10: =VLOOKUP($A10,Anlagen!$A$13:$CU$823,COLUMN(Anlagen!Z:Z),0) -> 0 | Z10: =VLOOKUP($A10,Anlagen!$A$13:$CU$823,COLUMN(Anlagen!AC:AC),0) -> SEW | AA10: =VLOOKUP($A10,Anlagen!$A$13:$CU$823,COLUMN(Anlagen!AD:AD),0) -> 0 | AB10: =VLOOKUP($A10,Anlagen!$A$13:$CU$823,COLUMN(Anlagen!AE:AE),0) -> Bosch Riemenantrieb | AC10: =VLOOKUP($A10,Anlagen!$A$13:$CU$823,COLUMN(Anlagen!AF:AF),0) -> 0 | AD10: =VLOOKUP($A10,Anlagen!$A$13:$CU$823,COLUMN(Anlagen!AG:AG),0) -> Bosch Riemenantrieb | AE10: =VLOOKUP($A10,Anlagen!$A$13:$CU$823,COLUMN(Anlagen!AH:AH),0) -> 0 | AF10: =VLOOKUP($A10,Anlagen!$A$13:$CU$823,COLUMN(Anlagen!AI:AI),0) -> Bosch Riemenantrieb | AG10: =VLOOKUP($A10,Anlagen!$A$13:$CU$823,COLUMN(Anlagen!AJ:AJ),0) -> 0 | AH10: =VLOOKUP($A10,Anlagen!$A$13:$CU$823,COLUMN(Anlagen!AK:AK),0) -> 0 | AI10: =VLOOKUP($A10,Anlagen!$A$13:$CU$823,COLUMN(Anlagen!AL:AL),0) -> 0 | AJ10: =VLOOKUP($A10,Anlagen!$A$13:$CU$823,COLUMN(Anlagen!AM:AM),0) -> 0 | AK10: =VLOOKUP($A10,Anlagen!$A$13:$CU$823,COLUMN(Anlagen!AN:AN),0) -> 0 | AM10: =VLOOKUP($A10,Anlagen!$A$13:$CU$823,COLUMN(Anlagen!AO:AO),0) -> 0 | AN10: =VLOOKUP($A10,Anlagen!$A$13:$CU$823,COLUMN(Anlagen!AP:AP),0) -> 380-500V;3~ | AO10: =VLOOKUP($A10,Anlagen!$A$13:$CU$823,COLUMN(Anlagen!AQ:AQ),0) -> 115V | AP10: =VLOOKUP($A10,Anlagen!$A$13:$CU$823,COLUMN(Anlagen!AR:AR),0) -> S5 | AQ10: =VLOOKUP($A10,Anlagen!$A$13:$CU$823,COLUMN(Anlagen!AS:AS),0) -> S95U | AR10: =VLOOKUP($A10,Anlagen!$A$13:$CU$823,COLUMN(Anlagen!AT:AT),0) -> SEW Movitrac 07A | AS10: =VLOOKUP($A10,Anlagen!$A$13:$CU$823,COLUMN(Anlagen!AU:AU),0) -> Schütz | AT10: =VLOOKUP($A10,Anlagen!$A$13:$CU$823,COLUMN(Anlagen!AV:AV),0) -> Schütz | AU10: =VLOOKUP($A10,Anlagen!$A$13:$CU$823,COLUMN(Anlagen!AW:AW),0) -> Schütz | AV10: =VLOOKUP($A10,Anlagen!$A$13:$CU$823,COLUMN(Anlagen!AX:AX),0) -> 0 | AW10: =VLOOKUP($A10,Anlagen!$A$13:$CU$823,COLUMN(Anlagen!AY:AY),0) -> 0 | AX10: =VLOOKUP($A10,Anlagen!$A$13:$CU$823,COLUMN(Anlagen!AZ:AZ),0) -> 0 | AY10: =VLOOKUP($A10,Anlagen!$A$13:$CU$823,COLUMN(Anlagen!BA:BA),0) -> 0 | AZ10: =VLOOKUP($A10,Anlagen!$A$13:$CU$823,COLUMN(Anlagen!BB:BB),0) -> Lüfter 148mm | BA10: =VLOOKUP($A10,Anlagen!$A$13:$CU$823,COLUMN(Anlagen!BC:BC),0) -> 0 | BB10: =VLOOKUP($A10,Anlagen!$A$13:$CU$823,COLUMN(Anlagen!BD:BD),0) -> 0 | BC10: =VLOOKUP($A10,Anlagen!$A$13:$CU$823,COLUMN(Anlagen!BE:BE),0) -> Elmo | BD10: =VLOOKUP($A10,Anlagen!$A$13:$CU$823,COLUMN(Anlagen!BF:BF),0) -> 2BH-XX | BE10: =VLOOKUP($A10,Anlagen!$A$13:$CU$823,COLUMN(Anlagen!BG:BG),0) -> 1,7KW | BF10: =VLOOKUP($A10,Anlagen!$A$13:$CU$823,COLUMN(Anlagen!BH:BH),0) -> Nein | BG10: =VLOOKUP($A10,Anlagen!$A$13:$CU$823,COLUMN(Anlagen!BI:BI),0) -> Wachenh.-Kirchner 115V | BH10: =VLOOKUP($A10,Anlagen!$A$13:$CU$823,COLUMN(Anlagen!BJ:BJ),0) -> 0 | BI10: =VLOOKUP($A10,Anlagen!$A$13:$CU$823,COLUMN(Anlagen!BK:BK),0) -> 0 | BJ10: =VLOOKUP($A10,Anlagen!$A$13:$CU$823,COLUMN(Anlagen!BL:BL),0) -> LD3 | BK10: =VLOOKUP($A10,Anlagen!$A$13:$CU$823,COLUMN(Anlagen!BM:BM),0) -> 3011 | BL10: =VLOOKUP($A10,Anlagen!$A$13:$CU$823,COLUMN(Anlagen!BN:BN),0) -> 9102 | BM10: =VLOOKUP($A10,Anlagen!$A$13:$CU$823,COLUMN(Anlagen!BO:BO),0) -> 0 | BN10: =VLOOKUP($A10,Anlagen!$A$13:$CU$823,COLUMN(Anlagen!BP:BP),0) -> 0 | BO10: =VLOOKUP($A10,Anlagen!$A$13:$CU$823,COLUMN(Anlagen!BR:BR),0) -> LD3 | BP10: =VLOOKUP($A10,Anlagen!$A$13:$CU$823,COLUMN(Anlagen!BS:BS),0) -> 0 | BQ10: =VLOOKUP($A10,Anlagen!$A$13:$CU$823,COLUMN(Anlagen!BT:BT),0) -> 0 | BR10: =VLOOKUP($A10,Anlagen!$A$13:$CU$823,COLUMN(Anlagen!BU:BU),0) -> 0 | BS10: =VLOOKUP($A10,Anlagen!$A$13:$CU$823,COLUMN(Anlagen!BY:BY),0) -> Blau | BT10: =VLOOKUP($A10,Anlagen!$A$13:$CU$823,COLUMN(Anlagen!BZ:BZ),0) -> 4 | BU10: =VLOOKUP($A10,Anlagen!$A$13:$CU$823,COLUMN(Anlagen!CA:CA),0) -> 0 | BV10: =VLOOKUP($A10,Anlagen!$A$13:$CU$823,COLUMN(Anlagen!CB:CB),0) -> Throl 50mm | BW10: =VLOOKUP($A10,Anlagen!$A$13:$CU$823,COLUMN(Anlagen!CC:CC),0) -> 0 | BX10: =VLOOKUP($A10,Anlagen!$A$13:$CU$823,COLUMN(Anlagen!CD:CD),0) -> 0 | BY10: =VLOOKUP($A10,Anlagen!$A$13:$CU$823,COLUMN(Anlagen!CE:CE),0) -> HV (250V) | BZ10: =VLOOKUP($A10,Anlagen!$A$13:$CU$823,COLUMN(Anlagen!CG:CG),0) -> 0 | CA10: =VLOOKUP($A10,Anlagen!$A$13:$CU$823,COLUMN(Anlagen!CH:CH),0) -> 0 | CB10: =VLOOKUP($A10,Anlagen!$A$13:$CU$823,COLUMN(Anlagen!CJ:CJ),0) -> 0 | CC10: =VLOOKUP($A10,Anlagen!$A$13:$CU$823,COLUMN(Anlagen!CK:CK),0) -> 0 | CD10: =VLOOKUP($A10,Anlagen!$A$13:$CU$823,COLUMN(Anlagen!CL:CL),0) -> 0 | CE10: =VLOOKUP($A10,Anlagen!$A$13:$CU$823,COLUMN(Anlagen!CM:CM),0) -> 0 | CF10: =VLOOKUP($A10,Anlagen!$A$13:$CU$823,COLUMN(Anlagen!CN:CN),0) -> 0 | CG10: =VLOOKUP($A10,Anlagen!$A$13:$CU$823,COLUMN(Anlagen!CO:CO),0) -> 0 | CH10: =VLOOKUP($A10,Anlagen!$A$13:$CU$823,COLUMN(Anlagen!CP:CP),0) -> 0 | CI10: =VLOOKUP($A10,Anlagen!$A$13:$CU$823,COLUMN(Anlagen!CQ:CQ),0) -> 0 | CJ10: =VLOOKUP($A10,Anlagen!$A$13:$CU$823,COLUMN(Anlagen!CR:CR),0) -> 30.04.2024 RH | CK10: =VLOOKUP($A10,Anlagen!$A$13:$CU$823,COLUMN(Anlagen!CS:CS),0) -> 0 | CL10: =VLOOKUP($A10,Anlagen!$A$13:$CU$823,COLUMN(Anlagen!CT:CT),0) -> 0 | CM10: =VLOOKUP($A10,Anlagen!$A$13:$CU$823,COLUMN(Anlagen!CU:CU),0) -> Aus Daten der Maschinenmappe | Auf Ott-Motor umgebaut 10_2015 | Umbau auf LD3 und blaue Dioden von CMI 30.04.2024
A11: ITT#021 | B11: =VLOOKUP($A11,Anlagen!$A$13:$CU$823,COLUMN(Anlagen!B:B),0) -> ITT1-SD | C11: =VLOOKUP($A11,Anlagen!$A$13:$CU$823,COLUMN(Anlagen!C:C),0) -> 0 | D11: =VLOOKUP($A11,Anlagen!$A$13:$CU$823,COLUMN(Anlagen!D:D),0) -> 1250 | E11: =VLOOKUP($A11,Anlagen!$A$13:$CU$823,COLUMN(Anlagen!F:F),0) -> Desser Tire | F11: =VLOOKUP($A11,Anlagen!$A$13:$CU$823,COLUMN(Anlagen!G:G),0) -> 0 | G11: =VLOOKUP($A11,Anlagen!$A$13:$CU$823,COLUMN(Anlagen!H:H),0) -> USA | H11: =VLOOKUP($A11,Anlagen!$A$13:$CU$823,COLUMN(Anlagen!I:I),0) -> 0 | I11: =VLOOKUP($A11,Anlagen!$A$13:$CU$823,COLUMN(Anlagen!J:J),0) -> 0 | J11: =VLOOKUP($A11,Anlagen!$A$13:$CU$823,COLUMN(Anlagen!K:K),0) -> 2001 | K11: =VLOOKUP($A11,Anlagen!$A$13:$CU$823,COLUMN(Anlagen!L:L),0) -> 1 | L11: =VLOOKUP($A11,Anlagen!$A$13:$CU$823,COLUMN(Anlagen!M:M),0) -> 4 | M11: =VLOOKUP($A11,Anlagen!$A$13:$CU$823,COLUMN(Anlagen!N:N),0) -> 8.15C | N11: =VLOOKUP($A11,Anlagen!$A$13:$CU$823,COLUMN(Anlagen!O:O),0) -> G1 | O11: =VLOOKUP($A11,Anlagen!$A$13:$CU$823,COLUMN(Anlagen!P:P),0) -> ITT1/1 Stand7.3 | P11: =VLOOKUP($A11,Anlagen!$A$13:$CU$823,COLUMN(Anlagen!Q:Q),0) -> 922 | Q11: =VLOOKUP($A11,Anlagen!$A$13:$CU$823,COLUMN(Anlagen!R:R),0) -> 0 | R11: =VLOOKUP($A11,Anlagen!$A$13:$CU$823,COLUMN(Anlagen!S:S),0) -> 0 | S11: =VLOOKUP($A11,Anlagen!$A$13:$CU$823,COLUMN(Anlagen!T:T),0) -> 0 | T11: =VLOOKUP($A11,Anlagen!$A$13:$CU$823,COLUMN(Anlagen!U:U),0) -> Ott 24V | U11: =VLOOKUP($A11,Anlagen!$A$13:$CU$823,COLUMN(Anlagen!V:V),0) -> 0 | V11: =VLOOKUP($A11,Anlagen!$A$13:$CU$823,COLUMN(Anlagen!W:W),0) -> 0 | W11: =VLOOKUP($A11,Anlagen!$A$13:$CU$823,COLUMN(Anlagen!X:X),0) -> Bosch | X11: =VLOOKUP($A11,Anlagen!$A$13:$CU$823,COLUMN(Anlagen!Y:Y),0) -> 0 | Y11: =VLOOKUP($A11,Anlagen!$A$13:$CU$823,COLUMN(Anlagen!Z:Z),0) -> 0 | Z11: =VLOOKUP($A11,Anlagen!$A$13:$CU$823,COLUMN(Anlagen!AC:AC),0) -> SEW | AA11: =VLOOKUP($A11,Anlagen!$A$13:$CU$823,COLUMN(Anlagen!AD:AD),0) -> 0 | AB11: =VLOOKUP($A11,Anlagen!$A$13:$CU$823,COLUMN(Anlagen!AE:AE),0) -> Bosch Riemenantrieb | AC11: =VLOOKUP($A11,Anlagen!$A$13:$CU$823,COLUMN(Anlagen!AF:AF),0) -> 0 | AD11: =VLOOKUP($A11,Anlagen!$A$13:$CU$823,COLUMN(Anlagen!AG:AG),0) -> Bosch Riemenantrieb | AE11: =VLOOKUP($A11,Anlagen!$A$13:$CU$823,COLUMN(Anlagen!AH:AH),0) -> 0 | AF11: =VLOOKUP($A11,Anlagen!$A$13:$CU$823,COLUMN(Anlagen!AI:AI),0) -> Bosch Riemenantrieb | AG11: =VLOOKUP($A11,Anlagen!$A$13:$CU$823,COLUMN(Anlagen!AJ:AJ),0) -> 0 | AH11: =VLOOKUP($A11,Anlagen!$A$13:$CU$823,COLUMN(Anlagen!AK:AK),0) -> 0 | AI11: =VLOOKUP($A11,Anlagen!$A$13:$CU$823,COLUMN(Anlagen!AL:AL),0) -> 0 | AJ11: =VLOOKUP($A11,Anlagen!$A$13:$CU$823,COLUMN(Anlagen!AM:AM),0) -> 0 | AK11: =VLOOKUP($A11,Anlagen!$A$13:$CU$823,COLUMN(Anlagen!AN:AN),0) -> 0 | AM11: =VLOOKUP($A11,Anlagen!$A$13:$CU$823,COLUMN(Anlagen!AO:AO),0) -> 0 | AN11: =VLOOKUP($A11,Anlagen!$A$13:$CU$823,COLUMN(Anlagen!AP:AP),0) -> 380-500V;3~ | AO11: =VLOOKUP($A11,Anlagen!$A$13:$CU$823,COLUMN(Anlagen!AQ:AQ),0) -> 115V | AP11: =VLOOKUP($A11,Anlagen!$A$13:$CU$823,COLUMN(Anlagen!AR:AR),0) -> S5 | AQ11: =VLOOKUP($A11,Anlagen!$A$13:$CU$823,COLUMN(Anlagen!AS:AS),0) -> S95U | AR11: =VLOOKUP($A11,Anlagen!$A$13:$CU$823,COLUMN(Anlagen!AT:AT),0) -> SEW Movitrac 07 | AS11: =VLOOKUP($A11,Anlagen!$A$13:$CU$823,COLUMN(Anlagen!AU:AU),0) -> Schütz | AT11: =VLOOKUP($A11,Anlagen!$A$13:$CU$823,COLUMN(Anlagen!AV:AV),0) -> Schütz | AU11: =VLOOKUP($A11,Anlagen!$A$13:$CU$823,COLUMN(Anlagen!AW:AW),0) -> Schütz | AV11: =VLOOKUP($A11,Anlagen!$A$13:$CU$823,COLUMN(Anlagen!AX:AX),0) -> 0 | AW11: =VLOOKUP($A11,Anlagen!$A$13:$CU$823,COLUMN(Anlagen!AY:AY),0) -> 0 | AX11: =VLOOKUP($A11,Anlagen!$A$13:$CU$823,COLUMN(Anlagen!AZ:AZ),0) -> 0 | AY11: =VLOOKUP($A11,Anlagen!$A$13:$CU$823,COLUMN(Anlagen!BA:BA),0) -> 0 | AZ11: =VLOOKUP($A11,Anlagen!$A$13:$CU$823,COLUMN(Anlagen!BB:BB),0) -> 0 | BA11: =VLOOKUP($A11,Anlagen!$A$13:$CU$823,COLUMN(Anlagen!BC:BC),0) -> 0 | BB11: =VLOOKUP($A11,Anlagen!$A$13:$CU$823,COLUMN(Anlagen!BD:BD),0) -> 0 | BC11: =VLOOKUP($A11,Anlagen!$A$13:$CU$823,COLUMN(Anlagen!BE:BE),0) -> Elmo | BD11: =VLOOKUP($A11,Anlagen!$A$13:$CU$823,COLUMN(Anlagen!BF:BF),0) -> 2BH-XX | BE11: =VLOOKUP($A11,Anlagen!$A$13:$CU$823,COLUMN(Anlagen!BG:BG),0) -> 1,7KW | BF11: =VLOOKUP($A11,Anlagen!$A$13:$CU$823,COLUMN(Anlagen!BH:BH),0) -> 0 | BG11: =VLOOKUP($A11,Anlagen!$A$13:$CU$823,COLUMN(Anlagen!BI:BI),0) -> Wachenh.-Kirchner 115V | BH11: =VLOOKUP($A11,Anlagen!$A$13:$CU$823,COLUMN(Anlagen!BJ:BJ),0) -> 0 | BI11: =VLOOKUP($A11,Anlagen!$A$13:$CU$823,COLUMN(Anlagen!BK:BK),0) -> 0 | BJ11: =VLOOKUP($A11,Anlagen!$A$13:$CU$823,COLUMN(Anlagen!BL:BL),0) -> LD1Ers | BK11: =VLOOKUP($A11,Anlagen!$A$13:$CU$823,COLUMN(Anlagen!BM:BM),0) -> 1517 | BL11: =VLOOKUP($A11,Anlagen!$A$13:$CU$823,COLUMN(Anlagen!BN:BN),0) -> 9455 | BM11: =VLOOKUP($A11,Anlagen!$A$13:$CU$823,COLUMN(Anlagen!BO:BO),0) -> 0 | BN11: =VLOOKUP($A11,Anlagen!$A$13:$CU$823,COLUMN(Anlagen!BP:BP),0) -> 0 | BO11: =VLOOKUP($A11,Anlagen!$A$13:$CU$823,COLUMN(Anlagen!BR:BR),0) -> 0 | BP11: =VLOOKUP($A11,Anlagen!$A$13:$CU$823,COLUMN(Anlagen!BS:BS),0) -> 0 | BQ11: =VLOOKUP($A11,Anlagen!$A$13:$CU$823,COLUMN(Anlagen!BT:BT),0) -> 0 | BR11: =VLOOKUP($A11,Anlagen!$A$13:$CU$823,COLUMN(Anlagen!BU:BU),0) -> 0 | BS11: =VLOOKUP($A11,Anlagen!$A$13:$CU$823,COLUMN(Anlagen!BY:BY),0) -> 0 | BT11: =VLOOKUP($A11,Anlagen!$A$13:$CU$823,COLUMN(Anlagen!BZ:BZ),0) -> 0 | BU11: =VLOOKUP($A11,Anlagen!$A$13:$CU$823,COLUMN(Anlagen!CA:CA),0) -> 0 | BV11: =VLOOKUP($A11,Anlagen!$A$13:$CU$823,COLUMN(Anlagen!CB:CB),0) -> Throl 50mm | BW11: =VLOOKUP($A11,Anlagen!$A$13:$CU$823,COLUMN(Anlagen!CC:CC),0) -> 0 | BX11: =VLOOKUP($A11,Anlagen!$A$13:$CU$823,COLUMN(Anlagen!CD:CD),0) -> 0 | BY11: =VLOOKUP($A11,Anlagen!$A$13:$CU$823,COLUMN(Anlagen!CE:CE),0) -> HV (250V) | BZ11: =VLOOKUP($A11,Anlagen!$A$13:$CU$823,COLUMN(Anlagen!CG:CG),0) -> 0 | CA11: =VLOOKUP($A11,Anlagen!$A$13:$CU$823,COLUMN(Anlagen!CH:CH),0) -> 0 | CB11: =VLOOKUP($A11,Anlagen!$A$13:$CU$823,COLUMN(Anlagen!CJ:CJ),0) -> 0 | CC11: =VLOOKUP($A11,Anlagen!$A$13:$CU$823,COLUMN(Anlagen!CK:CK),0) -> 0 | CD11: =VLOOKUP($A11,Anlagen!$A$13:$CU$823,COLUMN(Anlagen!CL:CL),0) -> 0 | CE11: =VLOOKUP($A11,Anlagen!$A$13:$CU$823,COLUMN(Anlagen!CM:CM),0) -> 0 | CF11: =VLOOKUP($A11,Anlagen!$A$13:$CU$823,COLUMN(Anlagen!CN:CN),0) -> 0 | CG11: =VLOOKUP($A11,Anlagen!$A$13:$CU$823,COLUMN(Anlagen!CO:CO),0) -> 0 | CH11: =VLOOKUP($A11,Anlagen!$A$13:$CU$823,COLUMN(Anlagen!CP:CP),0) -> 0 | CI11: =VLOOKUP($A11,Anlagen!$A$13:$CU$823,COLUMN(Anlagen!CQ:CQ),0) -> 0 | CJ11: =VLOOKUP($A11,Anlagen!$A$13:$CU$823,COLUMN(Anlagen!CR:CR),0) -> 28.10.11 RH | CK11: =VLOOKUP($A11,Anlagen!$A$13:$CU$823,COLUMN(Anlagen!CS:CS),0) -> 0 | CL11: =VLOOKUP($A11,Anlagen!$A$13:$CU$823,COLUMN(Anlagen!CT:CT),0) -> 0 | CM11: =VLOOKUP($A11,Anlagen!$A$13:$CU$823,COLUMN(Anlagen!CU:CU),0) -> Erst 1 Tür, dann 2 Türen, jetzt wieder 1 Tür. Auf Ott intern umgebaut.
A12: ITT#023 | B12: =VLOOKUP($A12,Anlagen!$A$13:$CU$823,COLUMN(Anlagen!B:B),0) -> ITTCompact | C12: =VLOOKUP($A12,Anlagen!$A$13:$CU$823,COLUMN(Anlagen!C:C),0) -> 0 | D12: =VLOOKUP($A12,Anlagen!$A$13:$CU$823,COLUMN(Anlagen!D:D),0) -> 0 | E12: =VLOOKUP($A12,Anlagen!$A$13:$CU$823,COLUMN(Anlagen!F:F),0) -> Goodyear | F12: =VLOOKUP($A12,Anlagen!$A$13:$CU$823,COLUMN(Anlagen!G:G),0) -> Danville | G12: =VLOOKUP($A12,Anlagen!$A$13:$CU$823,COLUMN(Anlagen!H:H),0) -> USA | H12: =VLOOKUP($A12,Anlagen!$A$13:$CU$823,COLUMN(Anlagen!I:I),0) -> 0 | I12: =VLOOKUP($A12,Anlagen!$A$13:$CU$823,COLUMN(Anlagen!J:J),0) -> 0 | J12: =VLOOKUP($A12,Anlagen!$A$13:$CU$823,COLUMN(Anlagen!K:K),0) -> 2002 | K12: =VLOOKUP($A12,Anlagen!$A$13:$CU$823,COLUMN(Anlagen!L:L),0) -> 0 | L12: =VLOOKUP($A12,Anlagen!$A$13:$CU$823,COLUMN(Anlagen!M:M),0) -> 0 | M12: =VLOOKUP($A12,Anlagen!$A$13:$CU$823,COLUMN(Anlagen!N:N),0) -> 0 | N12: =VLOOKUP($A12,Anlagen!$A$13:$CU$823,COLUMN(Anlagen!O:O),0) -> G1 | O12: =VLOOKUP($A12,Anlagen!$A$13:$CU$823,COLUMN(Anlagen!P:P),0) -> 0 | P12: =VLOOKUP($A12,Anlagen!$A$13:$CU$823,COLUMN(Anlagen!Q:Q),0) -> 0 | Q12: =VLOOKUP($A12,Anlagen!$A$13:$CU$823,COLUMN(Anlagen!R:R),0) -> 0 | R12: =VLOOKUP($A12,Anlagen!$A$13:$CU$823,COLUMN(Anlagen!S:S),0) -> 0 | S12: =VLOOKUP($A12,Anlagen!$A$13:$CU$823,COLUMN(Anlagen!T:T),0) -> 0 | T12: =VLOOKUP($A12,Anlagen!$A$13:$CU$823,COLUMN(Anlagen!U:U),0) -> 0 | U12: =VLOOKUP($A12,Anlagen!$A$13:$CU$823,COLUMN(Anlagen!V:V),0) -> 0 | V12: =VLOOKUP($A12,Anlagen!$A$13:$CU$823,COLUMN(Anlagen!W:W),0) -> 0 | W12: =VLOOKUP($A12,Anlagen!$A$13:$CU$823,COLUMN(Anlagen!X:X),0) -> 0 | X12: =VLOOKUP($A12,Anlagen!$A$13:$CU$823,COLUMN(Anlagen!Y:Y),0) -> 0 | Y12: =VLOOKUP($A12,Anlagen!$A$13:$CU$823,COLUMN(Anlagen!Z:Z),0) -> 0 | Z12: =VLOOKUP($A12,Anlagen!$A$13:$CU$823,COLUMN(Anlagen!AC:AC),0) -> 0 | AA12: =VLOOKUP($A12,Anlagen!$A$13:$CU$823,COLUMN(Anlagen!AD:AD),0) -> 0 | AB12: =VLOOKUP($A12,Anlagen!$A$13:$CU$823,COLUMN(Anlagen!AE:AE),0) -> 0 | AC12: =VLOOKUP($A12,Anlagen!$A$13:$CU$823,COLUMN(Anlagen!AF:AF),0) -> 0 | AD12: =VLOOKUP($A12,Anlagen!$A$13:$CU$823,COLUMN(Anlagen!AG:AG),0) -> 0 | AE12: =VLOOKUP($A12,Anlagen!$A$13:$CU$823,COLUMN(Anlagen!AH:AH),0) -> 0 | AF12: =VLOOKUP($A12,Anlagen!$A$13:$CU$823,COLUMN(Anlagen!AI:AI),0) -> 0 | AG12: =VLOOKUP($A12,Anlagen!$A$13:$CU$823,COLUMN(Anlagen!AJ:AJ),0) -> 0 | AH12: =VLOOKUP($A12,Anlagen!$A$13:$CU$823,COLUMN(Anlagen!AK:AK),0) -> 0 | AI12: =VLOOKUP($A12,Anlagen!$A$13:$CU$823,COLUMN(Anlagen!AL:AL),0) -> 0 | AJ12: =VLOOKUP($A12,Anlagen!$A$13:$CU$823,COLUMN(Anlagen!AM:AM),0) -> 0 | AK12: =VLOOKUP($A12,Anlagen!$A$13:$CU$823,COLUMN(Anlagen!AN:AN),0) -> 0 | AM12: =VLOOKUP($A12,Anlagen!$A$13:$CU$823,COLUMN(Anlagen!AO:AO),0) -> 0 | AN12: =VLOOKUP($A12,Anlagen!$A$13:$CU$823,COLUMN(Anlagen!AP:AP),0) -> 0 | AO12: =VLOOKUP($A12,Anlagen!$A$13:$CU$823,COLUMN(Anlagen!AQ:AQ),0) -> 0 | AP12: =VLOOKUP($A12,Anlagen!$A$13:$CU$823,COLUMN(Anlagen!AR:AR),0) -> 0 | AQ12: =VLOOKUP($A12,Anlagen!$A$13:$CU$823,COLUMN(Anlagen!AS:AS),0) -> 0 | AR12: =VLOOKUP($A12,Anlagen!$A$13:$CU$823,COLUMN(Anlagen!AT:AT),0) -> 0 | AS12: =VLOOKUP($A12,Anlagen!$A$13:$CU$823,COLUMN(Anlagen!AU:AU),0) -> 0 | AT12: =VLOOKUP($A12,Anlagen!$A$13:$CU$823,COLUMN(Anlagen!AV:AV),0) -> 0 | AU12: =VLOOKUP($A12,Anlagen!$A$13:$CU$823,COLUMN(Anlagen!AW:AW),0) -> 0 | AV12: =VLOOKUP($A12,Anlagen!$A$13:$CU$823,COLUMN(Anlagen!AX:AX),0) -> 0 | AW12: =VLOOKUP($A12,Anlagen!$A$13:$CU$823,COLUMN(Anlagen!AY:AY),0) -> 0 | AX12: =VLOOKUP($A12,Anlagen!$A$13:$CU$823,COLUMN(Anlagen!AZ:AZ),0) -> 0 | AY12: =VLOOKUP($A12,Anlagen!$A$13:$CU$823,COLUMN(Anlagen!BA:BA),0) -> 0 | AZ12: =VLOOKUP($A12,Anlagen!$A$13:$CU$823,COLUMN(Anlagen!BB:BB),0) -> 0 | BA12: =VLOOKUP($A12,Anlagen!$A$13:$CU$823,COLUMN(Anlagen!BC:BC),0) -> 0 | BB12: =VLOOKUP($A12,Anlagen!$A$13:$CU$823,COLUMN(Anlagen!BD:BD),0) -> 0 | BC12: =VLOOKUP($A12,Anlagen!$A$13:$CU$823,COLUMN(Anlagen!BE:BE),0) -> 0 | BD12: =VLOOKUP($A12,Anlagen!$A$13:$CU$823,COLUMN(Anlagen!BF:BF),0) -> 0 | BE12: =VLOOKUP($A12,Anlagen!$A$13:$CU$823,COLUMN(Anlagen!BG:BG),0) -> 0 | BF12: =VLOOKUP($A12,Anlagen!$A$13:$CU$823,COLUMN(Anlagen!BH:BH),0) -> 0 | BG12: =VLOOKUP($A12,Anlagen!$A$13:$CU$823,COLUMN(Anlagen!BI:BI),0) -> 0 | BH12: =VLOOKUP($A12,Anlagen!$A$13:$CU$823,COLUMN(Anlagen!BJ:BJ),0) -> 0 | BI12: =VLOOKUP($A12,Anlagen!$A$13:$CU$823,COLUMN(Anlagen!BK:BK),0) -> 0 | BJ12: =VLOOKUP($A12,Anlagen!$A$13:$CU$823,COLUMN(Anlagen!BL:BL),0) -> 0 | BK12: =VLOOKUP($A12,Anlagen!$A$13:$CU$823,COLUMN(Anlagen!BM:BM),0) -> 0 | BL12: =VLOOKUP($A12,Anlagen!$A$13:$CU$823,COLUMN(Anlagen!BN:BN),0) -> 0 | BM12: =VLOOKUP($A12,Anlagen!$A$13:$CU$823,COLUMN(Anlagen!BO:BO),0) -> 0 | BN12: =VLOOKUP($A12,Anlagen!$A$13:$CU$823,COLUMN(Anlagen!BP:BP),0) -> 0 | BO12: =VLOOKUP($A12,Anlagen!$A$13:$CU$823,COLUMN(Anlagen!BR:BR),0) -> 0 | BP12: =VLOOKUP($A12,Anlagen!$A$13:$CU$823,COLUMN(Anlagen!BS:BS),0) -> 0 | BQ12: =VLOOKUP($A12,Anlagen!$A$13:$CU$823,COLUMN(Anlagen!BT:BT),0) -> 0 | BR12: =VLOOKUP($A12,Anlagen!$A$13:$CU$823,COLUMN(Anlagen!BU:BU),0) -> 0 | BS12: =VLOOKUP($A12,Anlagen!$A$13:$CU$823,COLUMN(Anlagen!BY:BY),0) -> 0 | BT12: =VLOOKUP($A12,Anlagen!$A$13:$CU$823,COLUMN(Anlagen!BZ:BZ),0) -> 0 | BU12: =VLOOKUP($A12,Anlagen!$A$13:$CU$823,COLUMN(Anlagen!CA:CA),0) -> 0 | BV12: =VLOOKUP($A12,Anlagen!$A$13:$CU$823,COLUMN(Anlagen!CB:CB),0) -> Throl 50mm | BW12: =VLOOKUP($A12,Anlagen!$A$13:$CU$823,COLUMN(Anlagen!CC:CC),0) -> 0 | BX12: =VLOOKUP($A12,Anlagen!$A$13:$CU$823,COLUMN(Anlagen!CD:CD),0) -> 0 | BY12: =VLOOKUP($A12,Anlagen!$A$13:$CU$823,COLUMN(Anlagen!CE:CE),0) -> HV (250V) | BZ12: =VLOOKUP($A12,Anlagen!$A$13:$CU$823,COLUMN(Anlagen!CG:CG),0) -> 0 | CA12: =VLOOKUP($A12,Anlagen!$A$13:$CU$823,COLUMN(Anlagen!CH:CH),0) -> 0 | CB12: =VLOOKUP($A12,Anlagen!$A$13:$CU$823,COLUMN(Anlagen!CJ:CJ),0) -> 0 | CC12: =VLOOKUP($A12,Anlagen!$A$13:$CU$823,COLUMN(Anlagen!CK:CK),0) -> 0 | CD12: =VLOOKUP($A12,Anlagen!$A$13:$CU$823,COLUMN(Anlagen!CL:CL),0) -> 0 | CE12: =VLOOKUP($A12,Anlagen!$A$13:$CU$823,COLUMN(Anlagen!CM:CM),0) -> 0 | CF12: =VLOOKUP($A12,Anlagen!$A$13:$CU$823,COLUMN(Anlagen!CN:CN),0) -> 0 | CG12: =VLOOKUP($A12,Anlagen!$A$13:$CU$823,COLUMN(Anlagen!CO:CO),0) -> 0 | CH12: =VLOOKUP($A12,Anlagen!$A$13:$CU$823,COLUMN(Anlagen!CP:CP),0) -> 0 | CI12: =VLOOKUP($A12,Anlagen!$A$13:$CU$823,COLUMN(Anlagen!CQ:CQ),0) -> 0 | CJ12: =VLOOKUP($A12,Anlagen!$A$13:$CU$823,COLUMN(Anlagen!CR:CR),0) -> 0 | CK12: =VLOOKUP($A12,Anlagen!$A$13:$CU$823,COLUMN(Anlagen!CS:CS),0) -> 0 | CL12: =VLOOKUP($A12,Anlagen!$A$13:$CU$823,COLUMN(Anlagen!CT:CT),0) -> 0 | CM12: =VLOOKUP($A12,Anlagen!$A$13:$CU$823,COLUMN(Anlagen!CU:CU),0) -> 0
A13: ITT#028 | B13: =VLOOKUP($A13,Anlagen!$A$13:$CU$823,COLUMN(Anlagen!B:B),0) -> ITT1-SD | C13: =VLOOKUP($A13,Anlagen!$A$13:$CU$823,COLUMN(Anlagen!C:C),0) -> 0 | D13: =VLOOKUP($A13,Anlagen!$A$13:$CU$823,COLUMN(Anlagen!D:D),0) -> 1250 | E13: =VLOOKUP($A13,Anlagen!$A$13:$CU$823,COLUMN(Anlagen!F:F),0) -> Yokohama Dev. Center ex Cooper Tire | F13: =VLOOKUP($A13,Anlagen!$A$13:$CU$823,COLUMN(Anlagen!G:G),0) -> Cornelius, NC | G13: =VLOOKUP($A13,Anlagen!$A$13:$CU$823,COLUMN(Anlagen!H:H),0) -> USA | H13: =VLOOKUP($A13,Anlagen!$A$13:$CU$823,COLUMN(Anlagen!I:I),0) -> 0 | I13: =VLOOKUP($A13,Anlagen!$A$13:$CU$823,COLUMN(Anlagen!J:J),0) -> 0 | J13: =VLOOKUP($A13,Anlagen!$A$13:$CU$823,COLUMN(Anlagen!K:K),0) -> 2001 | K13: =VLOOKUP($A13,Anlagen!$A$13:$CU$823,COLUMN(Anlagen!L:L),0) -> 1 | L13: =VLOOKUP($A13,Anlagen!$A$13:$CU$823,COLUMN(Anlagen!M:M),0) -> 4 | M13: =VLOOKUP($A13,Anlagen!$A$13:$CU$823,COLUMN(Anlagen!N:N),0) -> 23.15 | N13: =VLOOKUP($A13,Anlagen!$A$13:$CU$823,COLUMN(Anlagen!O:O),0) -> G4 | O13: =VLOOKUP($A13,Anlagen!$A$13:$CU$823,COLUMN(Anlagen!P:P),0) -> ITT_V_4_21_3_02_028 | P13: =VLOOKUP($A13,Anlagen!$A$13:$CU$823,COLUMN(Anlagen!Q:Q),0) -> 0 | Q13: =VLOOKUP($A13,Anlagen!$A$13:$CU$823,COLUMN(Anlagen!R:R),0) -> 0 | R13: =VLOOKUP($A13,Anlagen!$A$13:$CU$823,COLUMN(Anlagen!S:S),0) -> 0 | S13: =VLOOKUP($A13,Anlagen!$A$13:$CU$823,COLUMN(Anlagen!T:T),0) -> 0 | T13: =VLOOKUP($A13,Anlagen!$A$13:$CU$823,COLUMN(Anlagen!U:U),0) -> Ott 24V | U13: =VLOOKUP($A13,Anlagen!$A$13:$CU$823,COLUMN(Anlagen!V:V),0) -> 0 | V13: =VLOOKUP($A13,Anlagen!$A$13:$CU$823,COLUMN(Anlagen!W:W),0) -> 0 | W13: =VLOOKUP($A13,Anlagen!$A$13:$CU$823,COLUMN(Anlagen!X:X),0) -> Bosch | X13: =VLOOKUP($A13,Anlagen!$A$13:$CU$823,COLUMN(Anlagen!Y:Y),0) -> 0 | Y13: =VLOOKUP($A13,Anlagen!$A$13:$CU$823,COLUMN(Anlagen!Z:Z),0) -> 0 | Z13: =VLOOKUP($A13,Anlagen!$A$13:$CU$823,COLUMN(Anlagen!AC:AC),0) -> SEW | AA13: =VLOOKUP($A13,Anlagen!$A$13:$CU$823,COLUMN(Anlagen!AD:AD),0) -> 0 | AB13: =VLOOKUP($A13,Anlagen!$A$13:$CU$823,COLUMN(Anlagen!AE:AE),0) -> Bosch Riemenantrieb | AC13: =VLOOKUP($A13,Anlagen!$A$13:$CU$823,COLUMN(Anlagen!AF:AF),0) -> 0 | AD13: =VLOOKUP($A13,Anlagen!$A$13:$CU$823,COLUMN(Anlagen!AG:AG),0) -> Bosch Riemenantrieb | AE13: =VLOOKUP($A13,Anlagen!$A$13:$CU$823,COLUMN(Anlagen!AH:AH),0) -> 0 | AF13: =VLOOKUP($A13,Anlagen!$A$13:$CU$823,COLUMN(Anlagen!AI:AI),0) -> Bosch Riemenantrieb | AG13: =VLOOKUP($A13,Anlagen!$A$13:$CU$823,COLUMN(Anlagen!AJ:AJ),0) -> 0 | AH13: =VLOOKUP($A13,Anlagen!$A$13:$CU$823,COLUMN(Anlagen!AK:AK),0) -> 0 | AI13: =VLOOKUP($A13,Anlagen!$A$13:$CU$823,COLUMN(Anlagen!AL:AL),0) -> 0 | AJ13: =VLOOKUP($A13,Anlagen!$A$13:$CU$823,COLUMN(Anlagen!AM:AM),0) -> 0 | AK13: =VLOOKUP($A13,Anlagen!$A$13:$CU$823,COLUMN(Anlagen!AN:AN),0) -> 0 | AM13: =VLOOKUP($A13,Anlagen!$A$13:$CU$823,COLUMN(Anlagen!AO:AO),0) -> 0 | AN13: =VLOOKUP($A13,Anlagen!$A$13:$CU$823,COLUMN(Anlagen!AP:AP),0) -> 0 | AO13: =VLOOKUP($A13,Anlagen!$A$13:$CU$823,COLUMN(Anlagen!AQ:AQ),0) -> 0 | AP13: =VLOOKUP($A13,Anlagen!$A$13:$CU$823,COLUMN(Anlagen!AR:AR),0) -> Wago | AQ13: =VLOOKUP($A13,Anlagen!$A$13:$CU$823,COLUMN(Anlagen!AS:AS),0) -> S95U | AR13: =VLOOKUP($A13,Anlagen!$A$13:$CU$823,COLUMN(Anlagen!AT:AT),0) -> AB Powerflex 4M 0,37KW 1~ | AS13: =VLOOKUP($A13,Anlagen!$A$13:$CU$823,COLUMN(Anlagen!AU:AU),0) -> Phoenix ELR 2A | AT13: =VLOOKUP($A13,Anlagen!$A$13:$CU$823,COLUMN(Anlagen!AV:AV),0) -> Phoenix ELR 2A | AU13: =VLOOKUP($A13,Anlagen!$A$13:$CU$823,COLUMN(Anlagen!AW:AW),0) -> Phoenix ELR 2A | AV13: =VLOOKUP($A13,Anlagen!$A$13:$CU$823,COLUMN(Anlagen!AX:AX),0) -> 0 | AW13: =VLOOKUP($A13,Anlagen!$A$13:$CU$823,COLUMN(Anlagen!AY:AY),0) -> 0 | AX13: =VLOOKUP($A13,Anlagen!$A$13:$CU$823,COLUMN(Anlagen!AZ:AZ),0) -> 0 | AY13: =VLOOKUP($A13,Anlagen!$A$13:$CU$823,COLUMN(Anlagen!BA:BA),0) -> 0 | AZ13: =VLOOKUP($A13,Anlagen!$A$13:$CU$823,COLUMN(Anlagen!BB:BB),0) -> 0 | BA13: =VLOOKUP($A13,Anlagen!$A$13:$CU$823,COLUMN(Anlagen!BC:BC),0) -> 0 | BB13: =VLOOKUP($A13,Anlagen!$A$13:$CU$823,COLUMN(Anlagen!BD:BD),0) -> 0 | BC13: =VLOOKUP($A13,Anlagen!$A$13:$CU$823,COLUMN(Anlagen!BE:BE),0) -> 0 | BD13: =VLOOKUP($A13,Anlagen!$A$13:$CU$823,COLUMN(Anlagen!BF:BF),0) -> 0 | BE13: =VLOOKUP($A13,Anlagen!$A$13:$CU$823,COLUMN(Anlagen!BG:BG),0) -> 1,6KW | BF13: =VLOOKUP($A13,Anlagen!$A$13:$CU$823,COLUMN(Anlagen!BH:BH),0) -> Ja | BG13: =VLOOKUP($A13,Anlagen!$A$13:$CU$823,COLUMN(Anlagen!BI:BI),0) -> SDS 1 Zylinder 120mm | BH13: =VLOOKUP($A13,Anlagen!$A$13:$CU$823,COLUMN(Anlagen!BJ:BJ),0) -> 0 | BI13: =VLOOKUP($A13,Anlagen!$A$13:$CU$823,COLUMN(Anlagen!BK:BK),0) -> 0 | BJ13: =VLOOKUP($A13,Anlagen!$A$13:$CU$823,COLUMN(Anlagen!BL:BL),0) -> LD4 | BK13: =VLOOKUP($A13,Anlagen!$A$13:$CU$823,COLUMN(Anlagen!BM:BM),0) -> 0 | BL13: =VLOOKUP($A13,Anlagen!$A$13:$CU$823,COLUMN(Anlagen!BN:BN),0) -> 0 | BM13: =VLOOKUP($A13,Anlagen!$A$13:$CU$823,COLUMN(Anlagen!BO:BO),0) -> 0 | BN13: =VLOOKUP($A13,Anlagen!$A$13:$CU$823,COLUMN(Anlagen!BP:BP),0) -> 0 | BO13: =VLOOKUP($A13,Anlagen!$A$13:$CU$823,COLUMN(Anlagen!BR:BR),0) -> LD4 | BP13: =VLOOKUP($A13,Anlagen!$A$13:$CU$823,COLUMN(Anlagen!BS:BS),0) -> 0 | BQ13: =VLOOKUP($A13,Anlagen!$A$13:$CU$823,COLUMN(Anlagen!BT:BT),0) -> 8A, 8B | BR13: =VLOOKUP($A13,Anlagen!$A$13:$CU$823,COLUMN(Anlagen!BU:BU),0) -> 0 | BS13: =VLOOKUP($A13,Anlagen!$A$13:$CU$823,COLUMN(Anlagen!BY:BY),0) -> Blau | BT13: =VLOOKUP($A13,Anlagen!$A$13:$CU$823,COLUMN(Anlagen!BZ:BZ),0) -> 0 | BU13: =VLOOKUP($A13,Anlagen!$A$13:$CU$823,COLUMN(Anlagen!CA:CA),0) -> 0 | BV13: =VLOOKUP($A13,Anlagen!$A$13:$CU$823,COLUMN(Anlagen!CB:CB),0) -> 0 | BW13: =VLOOKUP($A13,Anlagen!$A$13:$CU$823,COLUMN(Anlagen!CC:CC),0) -> 0 | BX13: =VLOOKUP($A13,Anlagen!$A$13:$CU$823,COLUMN(Anlagen!CD:CD),0) -> 0 | BY13: =VLOOKUP($A13,Anlagen!$A$13:$CU$823,COLUMN(Anlagen!CE:CE),0) -> HV (250V) | BZ13: =VLOOKUP($A13,Anlagen!$A$13:$CU$823,COLUMN(Anlagen!CG:CG),0) -> 0 | CA13: =VLOOKUP($A13,Anlagen!$A$13:$CU$823,COLUMN(Anlagen!CH:CH),0) -> 0 | CB13: =VLOOKUP($A13,Anlagen!$A$13:$CU$823,COLUMN(Anlagen!CJ:CJ),0) -> Bilz | CC13: =VLOOKUP($A13,Anlagen!$A$13:$CU$823,COLUMN(Anlagen!CK:CK),0) -> 0 | CD13: =VLOOKUP($A13,Anlagen!$A$13:$CU$823,COLUMN(Anlagen!CL:CL),0) -> 0 | CE13: =VLOOKUP($A13,Anlagen!$A$13:$CU$823,COLUMN(Anlagen!CM:CM),0) -> 0 | CF13: =VLOOKUP($A13,Anlagen!$A$13:$CU$823,COLUMN(Anlagen!CN:CN),0) -> 0 | CG13: =VLOOKUP($A13,Anlagen!$A$13:$CU$823,COLUMN(Anlagen!CO:CO),0) -> 0 | CH13: =VLOOKUP($A13,Anlagen!$A$13:$CU$823,COLUMN(Anlagen!CP:CP),0) -> 0 | CI13: =VLOOKUP($A13,Anlagen!$A$13:$CU$823,COLUMN(Anlagen!CQ:CQ),0) -> 0 | CJ13: =VLOOKUP($A13,Anlagen!$A$13:$CU$823,COLUMN(Anlagen!CR:CR),0) -> 19.08.2024 RH | CK13: =VLOOKUP($A13,Anlagen!$A$13:$CU$823,COLUMN(Anlagen!CS:CS),0) -> 0 | CL13: =VLOOKUP($A13,Anlagen!$A$13:$CU$823,COLUMN(Anlagen!CT:CT),0) -> 0 | CM13: =VLOOKUP($A13,Anlagen!$A$13:$CU$823,COLUMN(Anlagen!CU:CU),0) -> Werte aus Ablage. G4-Umbau von RW in 2012| WIN 10 GigE-Update 08/2021 durch CMI |08_2024: Neuer Kunde. Vorher Cooper Findley
A14: ITT#029 | B14: =VLOOKUP($A14,Anlagen!$A$13:$CU$823,COLUMN(Anlagen!B:B),0) -> 0 | C14: =VLOOKUP($A14,Anlagen!$A$13:$CU$823,COLUMN(Anlagen!C:C),0) -> 0 | D14: =VLOOKUP($A14,Anlagen!$A$13:$CU$823,COLUMN(Anlagen!D:D),0) -> 0 | E14: =VLOOKUP($A14,Anlagen!$A$13:$CU$823,COLUMN(Anlagen!F:F),0) -> BFS Retread Division | F14: =VLOOKUP($A14,Anlagen!$A$13:$CU$823,COLUMN(Anlagen!G:G),0) -> Nashville | G14: =VLOOKUP($A14,Anlagen!$A$13:$CU$823,COLUMN(Anlagen!H:H),0) -> USA | H14: =VLOOKUP($A14,Anlagen!$A$13:$CU$823,COLUMN(Anlagen!I:I),0) -> BFS | I14: =VLOOKUP($A14,Anlagen!$A$13:$CU$823,COLUMN(Anlagen!J:J),0) -> 1 | J14: =VLOOKUP($A14,Anlagen!$A$13:$CU$823,COLUMN(Anlagen!K:K),0) -> 2002 | K14: =VLOOKUP($A14,Anlagen!$A$13:$CU$823,COLUMN(Anlagen!L:L),0) -> 0 | L14: =VLOOKUP($A14,Anlagen!$A$13:$CU$823,COLUMN(Anlagen!M:M),0) -> 0 | M14: =VLOOKUP($A14,Anlagen!$A$13:$CU$823,COLUMN(Anlagen!N:N),0) -> 0 | N14: =VLOOKUP($A14,Anlagen!$A$13:$CU$823,COLUMN(Anlagen!O:O),0) -> G1 | O14: =VLOOKUP($A14,Anlagen!$A$13:$CU$823,COLUMN(Anlagen!P:P),0) -> 0 | P14: =VLOOKUP($A14,Anlagen!$A$13:$CU$823,COLUMN(Anlagen!Q:Q),0) -> 0 | Q14: =VLOOKUP($A14,Anlagen!$A$13:$CU$823,COLUMN(Anlagen!R:R),0) -> 0 | R14: =VLOOKUP($A14,Anlagen!$A$13:$CU$823,COLUMN(Anlagen!S:S),0) -> 0 | S14: =VLOOKUP($A14,Anlagen!$A$13:$CU$823,COLUMN(Anlagen!T:T),0) -> 0 | T14: =VLOOKUP($A14,Anlagen!$A$13:$CU$823,COLUMN(Anlagen!U:U),0) -> 0 | U14: =VLOOKUP($A14,Anlagen!$A$13:$CU$823,COLUMN(Anlagen!V:V),0) -> 0 | V14: =VLOOKUP($A14,Anlagen!$A$13:$CU$823,COLUMN(Anlagen!W:W),0) -> 0 | W14: =VLOOKUP($A14,Anlagen!$A$13:$CU$823,COLUMN(Anlagen!X:X),0) -> 0 | X14: =VLOOKUP($A14,Anlagen!$A$13:$CU$823,COLUMN(Anlagen!Y:Y),0) -> 0 | Y14: =VLOOKUP($A14,Anlagen!$A$13:$CU$823,COLUMN(Anlagen!Z:Z),0) -> 0 | Z14: =VLOOKUP($A14,Anlagen!$A$13:$CU$823,COLUMN(Anlagen!AC:AC),0) -> 0 | AA14: =VLOOKUP($A14,Anlagen!$A$13:$CU$823,COLUMN(Anlagen!AD:AD),0) -> 0 | AB14: =VLOOKUP($A14,Anlagen!$A$13:$CU$823,COLUMN(Anlagen!AE:AE),0) -> 0 | AC14: =VLOOKUP($A14,Anlagen!$A$13:$CU$823,COLUMN(Anlagen!AF:AF),0) -> 0 | AD14: =VLOOKUP($A14,Anlagen!$A$13:$CU$823,COLUMN(Anlagen!AG:AG),0) -> 0 | AE14: =VLOOKUP($A14,Anlagen!$A$13:$CU$823,COLUMN(Anlagen!AH:AH),0) -> 0 | AF14: =VLOOKUP($A14,Anlagen!$A$13:$CU$823,COLUMN(Anlagen!AI:AI),0) -> 0 | AG14: =VLOOKUP($A14,Anlagen!$A$13:$CU$823,COLUMN(Anlagen!AJ:AJ),0) -> 0 | AH14: =VLOOKUP($A14,Anlagen!$A$13:$CU$823,COLUMN(Anlagen!AK:AK),0) -> 0 | AI14: =VLOOKUP($A14,Anlagen!$A$13:$CU$823,COLUMN(Anlagen!AL:AL),0) -> 0 | AJ14: =VLOOKUP($A14,Anlagen!$A$13:$CU$823,COLUMN(Anlagen!AM:AM),0) -> 0 | AK14: =VLOOKUP($A14,Anlagen!$A$13:$CU$823,COLUMN(Anlagen!AN:AN),0) -> 0 | AM14: =VLOOKUP($A14,Anlagen!$A$13:$CU$823,COLUMN(Anlagen!AO:AO),0) -> 0 | AN14: =VLOOKUP($A14,Anlagen!$A$13:$CU$823,COLUMN(Anlagen!AP:AP),0) -> 0 | AO14: =VLOOKUP($A14,Anlagen!$A$13:$CU$823,COLUMN(Anlagen!AQ:AQ),0) -> 0 | AP14: =VLOOKUP($A14,Anlagen!$A$13:$CU$823,COLUMN(Anlagen!AR:AR),0) -> 0 | AQ14: =VLOOKUP($A14,Anlagen!$A$13:$CU$823,COLUMN(Anlagen!AS:AS),0) -> 0 | AR14: =VLOOKUP($A14,Anlagen!$A$13:$CU$823,COLUMN(Anlagen!AT:AT),0) -> 0 | AS14: =VLOOKUP($A14,Anlagen!$A$13:$CU$823,COLUMN(Anlagen!AU:AU),0) -> 0 | AT14: =VLOOKUP($A14,Anlagen!$A$13:$CU$823,COLUMN(Anlagen!AV:AV),0) -> 0 | AU14: =VLOOKUP($A14,Anlagen!$A$13:$CU$823,COLUMN(Anlagen!AW:AW),0) -> 0 | AV14: =VLOOKUP($A14,Anlagen!$A$13:$CU$823,COLUMN(Anlagen!AX:AX),0) -> 0 | AW14: =VLOOKUP($A14,Anlagen!$A$13:$CU$823,COLUMN(Anlagen!AY:AY),0) -> 0 | AX14: =VLOOKUP($A14,Anlagen!$A$13:$CU$823,COLUMN(Anlagen!AZ:AZ),0) -> 0 | AY14: =VLOOKUP($A14,Anlagen!$A$13:$CU$823,COLUMN(Anlagen!BA:BA),0) -> 0 | AZ14: =VLOOKUP($A14,Anlagen!$A$13:$CU$823,COLUMN(Anlagen!BB:BB),0) -> 0 | BA14: =VLOOKUP($A14,Anlagen!$A$13:$CU$823,COLUMN(Anlagen!BC:BC),0) -> 0 | BB14: =VLOOKUP($A14,Anlagen!$A$13:$CU$823,COLUMN(Anlagen!BD:BD),0) -> 0 | BC14: =VLOOKUP($A14,Anlagen!$A$13:$CU$823,COLUMN(Anlagen!BE:BE),0) -> 0 | BD14: =VLOOKUP($A14,Anlagen!$A$13:$CU$823,COLUMN(Anlagen!BF:BF),0) -> 0 | BE14: =VLOOKUP($A14,Anlagen!$A$13:$CU$823,COLUMN(Anlagen!BG:BG),0) -> 0 | BF14: =VLOOKUP($A14,Anlagen!$A$13:$CU$823,COLUMN(Anlagen!BH:BH),0) -> 0 | BG14: =VLOOKUP($A14,Anlagen!$A$13:$CU$823,COLUMN(Anlagen!BI:BI),0) -> 0 | BH14: =VLOOKUP($A14,Anlagen!$A$13:$CU$823,COLUMN(Anlagen!BJ:BJ),0) -> 0 | BI14: =VLOOKUP($A14,Anlagen!$A$13:$CU$823,COLUMN(Anlagen!BK:BK),0) -> 0 | BJ14: =VLOOKUP($A14,Anlagen!$A$13:$CU$823,COLUMN(Anlagen!BL:BL),0) -> 0 | BK14: =VLOOKUP($A14,Anlagen!$A$13:$CU$823,COLUMN(Anlagen!BM:BM),0) -> 0 | BL14: =VLOOKUP($A14,Anlagen!$A$13:$CU$823,COLUMN(Anlagen!BN:BN),0) -> 0 | BM14: =VLOOKUP($A14,Anlagen!$A$13:$CU$823,COLUMN(Anlagen!BO:BO),0) -> 0 | BN14: =VLOOKUP($A14,Anlagen!$A$13:$CU$823,COLUMN(Anlagen!BP:BP),0) -> 0 | BO14: =VLOOKUP($A14,Anlagen!$A$13:$CU$823,COLUMN(Anlagen!BR:BR),0) -> 0 | BP14: =VLOOKUP($A14,Anlagen!$A$13:$CU$823,COLUMN(Anlagen!BS:BS),0) -> 0 | BQ14: =VLOOKUP($A14,Anlagen!$A$13:$CU$823,COLUMN(Anlagen!BT:BT),0) -> 0 | BR14: =VLOOKUP($A14,Anlagen!$A$13:$CU$823,COLUMN(Anlagen!BU:BU),0) -> 0 | BS14: =VLOOKUP($A14,Anlagen!$A$13:$CU$823,COLUMN(Anlagen!BY:BY),0) -> 0 | BT14: =VLOOKUP($A14,Anlagen!$A$13:$CU$823,COLUMN(Anlagen!BZ:BZ),0) -> 0 | BU14: =VLOOKUP($A14,Anlagen!$A$13:$CU$823,COLUMN(Anlagen!CA:CA),0) -> 0 | BV14: =VLOOKUP($A14,Anlagen!$A$13:$CU$823,COLUMN(Anlagen!CB:CB),0) -> Throl 50mm | BW14: =VLOOKUP($A14,Anlagen!$A$13:$CU$823,COLUMN(Anlagen!CC:CC),0) -> 0 | BX14: =VLOOKUP($A14,Anlagen!$A$13:$CU$823,COLUMN(Anlagen!CD:CD),0) -> 0 | BY14: =VLOOKUP($A14,Anlagen!$A$13:$CU$823,COLUMN(Anlagen!CE:CE),0) -> HV (250V) | BZ14: =VLOOKUP($A14,Anlagen!$A$13:$CU$823,COLUMN(Anlagen!CG:CG),0) -> 0 | CA14: =VLOOKUP($A14,Anlagen!$A$13:$CU$823,COLUMN(Anlagen!CH:CH),0) -> 0 | CB14: =VLOOKUP($A14,Anlagen!$A$13:$CU$823,COLUMN(Anlagen!CJ:CJ),0) -> 0 | CC14: =VLOOKUP($A14,Anlagen!$A$13:$CU$823,COLUMN(Anlagen!CK:CK),0) -> 0 | CD14: =VLOOKUP($A14,Anlagen!$A$13:$CU$823,COLUMN(Anlagen!CL:CL),0) -> 0 | CE14: =VLOOKUP($A14,Anlagen!$A$13:$CU$823,COLUMN(Anlagen!CM:CM),0) -> 0 | CF14: =VLOOKUP($A14,Anlagen!$A$13:$CU$823,COLUMN(Anlagen!CN:CN),0) -> 0 | CG14: =VLOOKUP($A14,Anlagen!$A$13:$CU$823,COLUMN(Anlagen!CO:CO),0) -> 0 | CH14: =VLOOKUP($A14,Anlagen!$A$13:$CU$823,COLUMN(Anlagen!CP:CP),0) -> 0 | CI14: =VLOOKUP($A14,Anlagen!$A$13:$CU$823,COLUMN(Anlagen!CQ:CQ),0) -> 0 | CJ14: =VLOOKUP($A14,Anlagen!$A$13:$CU$823,COLUMN(Anlagen!CR:CR),0) -> 0 | CK14: =VLOOKUP($A14,Anlagen!$A$13:$CU$823,COLUMN(Anlagen!CS:CS),0) -> 0 | CL14: =VLOOKUP($A14,Anlagen!$A$13:$CU$823,COLUMN(Anlagen!CT:CT),0) -> 0 | CM14: =VLOOKUP($A14,Anlagen!$A$13:$CU$823,COLUMN(Anlagen!CU:CU),0) -> 0
A15: ITT#031 | B15: =VLOOKUP($A15,Anlagen!$A$13:$CU$823,COLUMN(Anlagen!B:B),0) -> ITT2 | C15: =VLOOKUP($A15,Anlagen!$A$13:$CU$823,COLUMN(Anlagen!C:C),0) -> 0 | D15: =VLOOKUP($A15,Anlagen!$A$13:$CU$823,COLUMN(Anlagen!D:D),0) -> 1250 | E15: =VLOOKUP($A15,Anlagen!$A$13:$CU$823,COLUMN(Anlagen!F:F),0) -> Bridgestone - Tire Test Lab | F15: =VLOOKUP($A15,Anlagen!$A$13:$CU$823,COLUMN(Anlagen!G:G),0) -> Akron, OH | G15: =VLOOKUP($A15,Anlagen!$A$13:$CU$823,COLUMN(Anlagen!H:H),0) -> USA | H15: =VLOOKUP($A15,Anlagen!$A$13:$CU$823,COLUMN(Anlagen!I:I),0) -> BFS | I15: =VLOOKUP($A15,Anlagen!$A$13:$CU$823,COLUMN(Anlagen!J:J),0) -> 0 | J15: =VLOOKUP($A15,Anlagen!$A$13:$CU$823,COLUMN(Anlagen!K:K),0) -> 2002 | K15: =VLOOKUP($A15,Anlagen!$A$13:$CU$823,COLUMN(Anlagen!L:L),0) -> 1 | L15: =VLOOKUP($A15,Anlagen!$A$13:$CU$823,COLUMN(Anlagen!M:M),0) -> 4 | M15: =VLOOKUP($A15,Anlagen!$A$13:$CU$823,COLUMN(Anlagen!N:N),0) -> 12.09 | N15: =VLOOKUP($A15,Anlagen!$A$13:$CU$823,COLUMN(Anlagen!O:O),0) -> G1 | O15: =VLOOKUP($A15,Anlagen!$A$13:$CU$823,COLUMN(Anlagen!P:P),0) -> 0 | P15: =VLOOKUP($A15,Anlagen!$A$13:$CU$823,COLUMN(Anlagen!Q:Q),0) -> 1023 | Q15: =VLOOKUP($A15,Anlagen!$A$13:$CU$823,COLUMN(Anlagen!R:R),0) -> 33 | R15: =VLOOKUP($A15,Anlagen!$A$13:$CU$823,COLUMN(Anlagen!S:S),0) -> 0 | S15: =VLOOKUP($A15,Anlagen!$A$13:$CU$823,COLUMN(Anlagen!T:T),0) -> 0 | T15: =VLOOKUP($A15,Anlagen!$A$13:$CU$823,COLUMN(Anlagen!U:U),0) -> Ott 24V | U15: =VLOOKUP($A15,Anlagen!$A$13:$CU$823,COLUMN(Anlagen!V:V),0) -> 0 | V15: =VLOOKUP($A15,Anlagen!$A$13:$CU$823,COLUMN(Anlagen!W:W),0) -> 0 | W15: =VLOOKUP($A15,Anlagen!$A$13:$CU$823,COLUMN(Anlagen!X:X),0) -> 0 | X15: =VLOOKUP($A15,Anlagen!$A$13:$CU$823,COLUMN(Anlagen!Y:Y),0) -> 0 | Y15: =VLOOKUP($A15,Anlagen!$A$13:$CU$823,COLUMN(Anlagen!Z:Z),0) -> 0 | Z15: =VLOOKUP($A15,Anlagen!$A$13:$CU$823,COLUMN(Anlagen!AC:AC),0) -> Schneider Electric | AA15: =VLOOKUP($A15,Anlagen!$A$13:$CU$823,COLUMN(Anlagen!AD:AD),0) -> 0 | AB15: =VLOOKUP($A15,Anlagen!$A$13:$CU$823,COLUMN(Anlagen!AE:AE),0) -> Schneider Electric | AC15: =VLOOKUP($A15,Anlagen!$A$13:$CU$823,COLUMN(Anlagen!AF:AF),0) -> 0 | AD15: =VLOOKUP($A15,Anlagen!$A$13:$CU$823,COLUMN(Anlagen!AG:AG),0) -> Schneider Electric | AE15: =VLOOKUP($A15,Anlagen!$A$13:$CU$823,COLUMN(Anlagen!AH:AH),0) -> 0 | AF15: =VLOOKUP($A15,Anlagen!$A$13:$CU$823,COLUMN(Anlagen!AI:AI),0) -> Schneider Electric | AG15: =VLOOKUP($A15,Anlagen!$A$13:$CU$823,COLUMN(Anlagen!AJ:AJ),0) -> 0 | AH15: =VLOOKUP($A15,Anlagen!$A$13:$CU$823,COLUMN(Anlagen!AK:AK),0) -> 0 | AI15: =VLOOKUP($A15,Anlagen!$A$13:$CU$823,COLUMN(Anlagen!AL:AL),0) -> 0 | AJ15: =VLOOKUP($A15,Anlagen!$A$13:$CU$823,COLUMN(Anlagen!AM:AM),0) -> 0 | AK15: =VLOOKUP($A15,Anlagen!$A$13:$CU$823,COLUMN(Anlagen!AN:AN),0) -> 0 | AM15: =VLOOKUP($A15,Anlagen!$A$13:$CU$823,COLUMN(Anlagen!AO:AO),0) -> 0 | AN15: =VLOOKUP($A15,Anlagen!$A$13:$CU$823,COLUMN(Anlagen!AP:AP),0) -> 380-500V;3~ | AO15: =VLOOKUP($A15,Anlagen!$A$13:$CU$823,COLUMN(Anlagen!AQ:AQ),0) -> 115V | AP15: =VLOOKUP($A15,Anlagen!$A$13:$CU$823,COLUMN(Anlagen!AR:AR),0) -> S5 + S7 | AQ15: =VLOOKUP($A15,Anlagen!$A$13:$CU$823,COLUMN(Anlagen!AS:AS),0) -> S95U | AR15: =VLOOKUP($A15,Anlagen!$A$13:$CU$823,COLUMN(Anlagen!AT:AT),0) -> TLD011 | AS15: =VLOOKUP($A15,Anlagen!$A$13:$CU$823,COLUMN(Anlagen!AU:AU),0) -> TLD011 | AT15: =VLOOKUP($A15,Anlagen!$A$13:$CU$823,COLUMN(Anlagen!AV:AV),0) -> TLD011 | AU15: =VLOOKUP($A15,Anlagen!$A$13:$CU$823,COLUMN(Anlagen!AW:AW),0) -> TLD011 | AV15: =VLOOKUP($A15,Anlagen!$A$13:$CU$823,COLUMN(Anlagen!AX:AX),0) -> 0 | AW15: =VLOOKUP($A15,Anlagen!$A$13:$CU$823,COLUMN(Anlagen!AY:AY),0) -> 0 | AX15: =VLOOKUP($A15,Anlagen!$A$13:$CU$823,COLUMN(Anlagen!AZ:AZ),0) -> 0 | AY15: =VLOOKUP($A15,Anlagen!$A$13:$CU$823,COLUMN(Anlagen!BA:BA),0) -> 0 | AZ15: =VLOOKUP($A15,Anlagen!$A$13:$CU$823,COLUMN(Anlagen!BB:BB),0) -> 0 | BA15: =VLOOKUP($A15,Anlagen!$A$13:$CU$823,COLUMN(Anlagen!BC:BC),0) -> 0 | BB15: =VLOOKUP($A15,Anlagen!$A$13:$CU$823,COLUMN(Anlagen!BD:BD),0) -> 0 | BC15: =VLOOKUP($A15,Anlagen!$A$13:$CU$823,COLUMN(Anlagen!BE:BE),0) -> Elmo | BD15: =VLOOKUP($A15,Anlagen!$A$13:$CU$823,COLUMN(Anlagen!BF:BF),0) -> 2BH-XX | BE15: =VLOOKUP($A15,Anlagen!$A$13:$CU$823,COLUMN(Anlagen!BG:BG),0) -> 1,7KW | BF15: =VLOOKUP($A15,Anlagen!$A$13:$CU$823,COLUMN(Anlagen!BH:BH),0) -> 0 | BG15: =VLOOKUP($A15,Anlagen!$A$13:$CU$823,COLUMN(Anlagen!BI:BI),0) -> Wachenh.-Kirchner 115V | BH15: =VLOOKUP($A15,Anlagen!$A$13:$CU$823,COLUMN(Anlagen!BJ:BJ),0) -> 0 | BI15: =VLOOKUP($A15,Anlagen!$A$13:$CU$823,COLUMN(Anlagen!BK:BK),0) -> 0 | BJ15: =VLOOKUP($A15,Anlagen!$A$13:$CU$823,COLUMN(Anlagen!BL:BL),0) -> LD3 | BK15: =VLOOKUP($A15,Anlagen!$A$13:$CU$823,COLUMN(Anlagen!BM:BM),0) -> 3041 | BL15: =VLOOKUP($A15,Anlagen!$A$13:$CU$823,COLUMN(Anlagen!BN:BN),0) -> 9177 | BM15: =VLOOKUP($A15,Anlagen!$A$13:$CU$823,COLUMN(Anlagen!BO:BO),0) -> 0 | BN15: =VLOOKUP($A15,Anlagen!$A$13:$CU$823,COLUMN(Anlagen!BP:BP),0) -> 0 | BO15: =VLOOKUP($A15,Anlagen!$A$13:$CU$823,COLUMN(Anlagen!BR:BR),0) -> Profile | BP15: =VLOOKUP($A15,Anlagen!$A$13:$CU$823,COLUMN(Anlagen!BS:BS),0) -> 0 | BQ15: =VLOOKUP($A15,Anlagen!$A$13:$CU$823,COLUMN(Anlagen!BT:BT),0) -> 0 | BR15: =VLOOKUP($A15,Anlagen!$A$13:$CU$823,COLUMN(Anlagen!BU:BU),0) -> 0 | BS15: =VLOOKUP($A15,Anlagen!$A$13:$CU$823,COLUMN(Anlagen!BY:BY),0) -> Blau | BT15: =VLOOKUP($A15,Anlagen!$A$13:$CU$823,COLUMN(Anlagen!BZ:BZ),0) -> 4 | BU15: =VLOOKUP($A15,Anlagen!$A$13:$CU$823,COLUMN(Anlagen!CA:CA),0) -> 0 | BV15: =VLOOKUP($A15,Anlagen!$A$13:$CU$823,COLUMN(Anlagen!CB:CB),0) -> Throl 50mm | BW15: =VLOOKUP($A15,Anlagen!$A$13:$CU$823,COLUMN(Anlagen!CC:CC),0) -> 0 | BX15: =VLOOKUP($A15,Anlagen!$A$13:$CU$823,COLUMN(Anlagen!CD:CD),0) -> 0 | BY15: =VLOOKUP($A15,Anlagen!$A$13:$CU$823,COLUMN(Anlagen!CE:CE),0) -> HV (250V) | BZ15: =VLOOKUP($A15,Anlagen!$A$13:$CU$823,COLUMN(Anlagen!CG:CG),0) -> 0 | CA15: =VLOOKUP($A15,Anlagen!$A$13:$CU$823,COLUMN(Anlagen!CH:CH),0) -> 0 | CB15: =VLOOKUP($A15,Anlagen!$A$13:$CU$823,COLUMN(Anlagen!CJ:CJ),0) -> 0 | CC15: =VLOOKUP($A15,Anlagen!$A$13:$CU$823,COLUMN(Anlagen!CK:CK),0) -> 0 | CD15: =VLOOKUP($A15,Anlagen!$A$13:$CU$823,COLUMN(Anlagen!CL:CL),0) -> 0 | CE15: =VLOOKUP($A15,Anlagen!$A$13:$CU$823,COLUMN(Anlagen!CM:CM),0) -> 0 | CF15: =VLOOKUP($A15,Anlagen!$A$13:$CU$823,COLUMN(Anlagen!CN:CN),0) -> 0 | CG15: =VLOOKUP($A15,Anlagen!$A$13:$CU$823,COLUMN(Anlagen!CO:CO),0) -> 0 | CH15: =VLOOKUP($A15,Anlagen!$A$13:$CU$823,COLUMN(Anlagen!CP:CP),0) -> 0 | CI15: =VLOOKUP($A15,Anlagen!$A$13:$CU$823,COLUMN(Anlagen!CQ:CQ),0) -> 0 | CJ15: =VLOOKUP($A15,Anlagen!$A$13:$CU$823,COLUMN(Anlagen!CR:CR),0) -> 24.09.2014 RH | CK15: =VLOOKUP($A15,Anlagen!$A$13:$CU$823,COLUMN(Anlagen!CS:CS),0) -> 0 | CL15: =VLOOKUP($A15,Anlagen!$A$13:$CU$823,COLUMN(Anlagen!CT:CT),0) -> 0 | CM15: =VLOOKUP($A15,Anlagen!$A$13:$CU$823,COLUMN(Anlagen!CU:CU),0) -> Umbau auf Ott-Motor KW18.2011 durch RW
A16: ITT#032 | B16: =VLOOKUP($A16,Anlagen!$A$13:$CU$823,COLUMN(Anlagen!B:B),0) -> ITTCompact | C16: =VLOOKUP($A16,Anlagen!$A$13:$CU$823,COLUMN(Anlagen!C:C),0) -> 0 | D16: =VLOOKUP($A16,Anlagen!$A$13:$CU$823,COLUMN(Anlagen!D:D),0) -> 850 | E16: =VLOOKUP($A16,Anlagen!$A$13:$CU$823,COLUMN(Anlagen!F:F),0) -> Akron Rubber Development | F16: =VLOOKUP($A16,Anlagen!$A$13:$CU$823,COLUMN(Anlagen!G:G),0) -> Akron, OH | G16: =VLOOKUP($A16,Anlagen!$A$13:$CU$823,COLUMN(Anlagen!H:H),0) -> USA | H16: =VLOOKUP($A16,Anlagen!$A$13:$CU$823,COLUMN(Anlagen!I:I),0) -> 0 | I16: =VLOOKUP($A16,Anlagen!$A$13:$CU$823,COLUMN(Anlagen!J:J),0) -> 0 | J16: =VLOOKUP($A16,Anlagen!$A$13:$CU$823,COLUMN(Anlagen!K:K),0) -> 2002 | K16: =VLOOKUP($A16,Anlagen!$A$13:$CU$823,COLUMN(Anlagen!L:L),0) -> 0 | L16: =VLOOKUP($A16,Anlagen!$A$13:$CU$823,COLUMN(Anlagen!M:M),0) -> 0 | M16: =VLOOKUP($A16,Anlagen!$A$13:$CU$823,COLUMN(Anlagen!N:N),0) -> 0 | N16: =VLOOKUP($A16,Anlagen!$A$13:$CU$823,COLUMN(Anlagen!O:O),0) -> G1 | O16: =VLOOKUP($A16,Anlagen!$A$13:$CU$823,COLUMN(Anlagen!P:P),0) -> 0 | P16: =VLOOKUP($A16,Anlagen!$A$13:$CU$823,COLUMN(Anlagen!Q:Q),0) -> 0 | Q16: =VLOOKUP($A16,Anlagen!$A$13:$CU$823,COLUMN(Anlagen!R:R),0) -> 0 | R16: =VLOOKUP($A16,Anlagen!$A$13:$CU$823,COLUMN(Anlagen!S:S),0) -> 0 | S16: =VLOOKUP($A16,Anlagen!$A$13:$CU$823,COLUMN(Anlagen!T:T),0) -> 0 | T16: =VLOOKUP($A16,Anlagen!$A$13:$CU$823,COLUMN(Anlagen!U:U),0) -> 0 | U16: =VLOOKUP($A16,Anlagen!$A$13:$CU$823,COLUMN(Anlagen!V:V),0) -> 0 | V16: =VLOOKUP($A16,Anlagen!$A$13:$CU$823,COLUMN(Anlagen!W:W),0) -> 0 | W16: =VLOOKUP($A16,Anlagen!$A$13:$CU$823,COLUMN(Anlagen!X:X),0) -> 0 | X16: =VLOOKUP($A16,Anlagen!$A$13:$CU$823,COLUMN(Anlagen!Y:Y),0) -> 0 | Y16: =VLOOKUP($A16,Anlagen!$A$13:$CU$823,COLUMN(Anlagen!Z:Z),0) -> 0 | Z16: =VLOOKUP($A16,Anlagen!$A$13:$CU$823,COLUMN(Anlagen!AC:AC),0) -> 0 | AA16: =VLOOKUP($A16,Anlagen!$A$13:$CU$823,COLUMN(Anlagen!AD:AD),0) -> 0 | AB16: =VLOOKUP($A16,Anlagen!$A$13:$CU$823,COLUMN(Anlagen!AE:AE),0) -> 0 | AC16: =VLOOKUP($A16,Anlagen!$A$13:$CU$823,COLUMN(Anlagen!AF:AF),0) -> 0 | AD16: =VLOOKUP($A16,Anlagen!$A$13:$CU$823,COLUMN(Anlagen!AG:AG),0) -> 0 | AE16: =VLOOKUP($A16,Anlagen!$A$13:$CU$823,COLUMN(Anlagen!AH:AH),0) -> 0 | AF16: =VLOOKUP($A16,Anlagen!$A$13:$CU$823,COLUMN(Anlagen!AI:AI),0) -> 0 | AG16: =VLOOKUP($A16,Anlagen!$A$13:$CU$823,COLUMN(Anlagen!AJ:AJ),0) -> 0 | AH16: =VLOOKUP($A16,Anlagen!$A$13:$CU$823,COLUMN(Anlagen!AK:AK),0) -> 0 | AI16: =VLOOKUP($A16,Anlagen!$A$13:$CU$823,COLUMN(Anlagen!AL:AL),0) -> 0 | AJ16: =VLOOKUP($A16,Anlagen!$A$13:$CU$823,COLUMN(Anlagen!AM:AM),0) -> 0 | AK16: =VLOOKUP($A16,Anlagen!$A$13:$CU$823,COLUMN(Anlagen!AN:AN),0) -> 0 | AM16: =VLOOKUP($A16,Anlagen!$A$13:$CU$823,COLUMN(Anlagen!AO:AO),0) -> 0 | AN16: =VLOOKUP($A16,Anlagen!$A$13:$CU$823,COLUMN(Anlagen!AP:AP),0) -> 0 | AO16: =VLOOKUP($A16,Anlagen!$A$13:$CU$823,COLUMN(Anlagen!AQ:AQ),0) -> 0 | AP16: =VLOOKUP($A16,Anlagen!$A$13:$CU$823,COLUMN(Anlagen!AR:AR),0) -> 0 | AQ16: =VLOOKUP($A16,Anlagen!$A$13:$CU$823,COLUMN(Anlagen!AS:AS),0) -> 0 | AR16: =VLOOKUP($A16,Anlagen!$A$13:$CU$823,COLUMN(Anlagen!AT:AT),0) -> 0 | AS16: =VLOOKUP($A16,Anlagen!$A$13:$CU$823,COLUMN(Anlagen!AU:AU),0) -> 0 | AT16: =VLOOKUP($A16,Anlagen!$A$13:$CU$823,COLUMN(Anlagen!AV:AV),0) -> 0 | AU16: =VLOOKUP($A16,Anlagen!$A$13:$CU$823,COLUMN(Anlagen!AW:AW),0) -> 0 | AV16: =VLOOKUP($A16,Anlagen!$A$13:$CU$823,COLUMN(Anlagen!AX:AX),0) -> 0 | AW16: =VLOOKUP($A16,Anlagen!$A$13:$CU$823,COLUMN(Anlagen!AY:AY),0) -> 0 | AX16: =VLOOKUP($A16,Anlagen!$A$13:$CU$823,COLUMN(Anlagen!AZ:AZ),0) -> 0 | AY16: =VLOOKUP($A16,Anlagen!$A$13:$CU$823,COLUMN(Anlagen!BA:BA),0) -> 0 | AZ16: =VLOOKUP($A16,Anlagen!$A$13:$CU$823,COLUMN(Anlagen!BB:BB),0) -> 0 | BA16: =VLOOKUP($A16,Anlagen!$A$13:$CU$823,COLUMN(Anlagen!BC:BC),0) -> 0 | BB16: =VLOOKUP($A16,Anlagen!$A$13:$CU$823,COLUMN(Anlagen!BD:BD),0) -> 0 | BC16: =VLOOKUP($A16,Anlagen!$A$13:$CU$823,COLUMN(Anlagen!BE:BE),0) -> 0 | BD16: =VLOOKUP($A16,Anlagen!$A$13:$CU$823,COLUMN(Anlagen!BF:BF),0) -> 0 | BE16: =VLOOKUP($A16,Anlagen!$A$13:$CU$823,COLUMN(Anlagen!BG:BG),0) -> 0 | BF16: =VLOOKUP($A16,Anlagen!$A$13:$CU$823,COLUMN(Anlagen!BH:BH),0) -> 0 | BG16: =VLOOKUP($A16,Anlagen!$A$13:$CU$823,COLUMN(Anlagen!BI:BI),0) -> 0 | BH16: =VLOOKUP($A16,Anlagen!$A$13:$CU$823,COLUMN(Anlagen!BJ:BJ),0) -> 0 | BI16: =VLOOKUP($A16,Anlagen!$A$13:$CU$823,COLUMN(Anlagen!BK:BK),0) -> 0 | BJ16: =VLOOKUP($A16,Anlagen!$A$13:$CU$823,COLUMN(Anlagen!BL:BL),0) -> 0 | BK16: =VLOOKUP($A16,Anlagen!$A$13:$CU$823,COLUMN(Anlagen!BM:BM),0) -> 0 | BL16: =VLOOKUP($A16,Anlagen!$A$13:$CU$823,COLUMN(Anlagen!BN:BN),0) -> 0 | BM16: =VLOOKUP($A16,Anlagen!$A$13:$CU$823,COLUMN(Anlagen!BO:BO),0) -> 0 | BN16: =VLOOKUP($A16,Anlagen!$A$13:$CU$823,COLUMN(Anlagen!BP:BP),0) -> 0 | BO16: =VLOOKUP($A16,Anlagen!$A$13:$CU$823,COLUMN(Anlagen!BR:BR),0) -> 0 | BP16: =VLOOKUP($A16,Anlagen!$A$13:$CU$823,COLUMN(Anlagen!BS:BS),0) -> 0 | BQ16: =VLOOKUP($A16,Anlagen!$A$13:$CU$823,COLUMN(Anlagen!BT:BT),0) -> 0 | BR16: =VLOOKUP($A16,Anlagen!$A$13:$CU$823,COLUMN(Anlagen!BU:BU),0) -> 0 | BS16: =VLOOKUP($A16,Anlagen!$A$13:$CU$823,COLUMN(Anlagen!BY:BY),0) -> 0 | BT16: =VLOOKUP($A16,Anlagen!$A$13:$CU$823,COLUMN(Anlagen!BZ:BZ),0) -> 0 | BU16: =VLOOKUP($A16,Anlagen!$A$13:$CU$823,COLUMN(Anlagen!CA:CA),0) -> 0 | BV16: =VLOOKUP($A16,Anlagen!$A$13:$CU$823,COLUMN(Anlagen!CB:CB),0) -> Throl 50mm | BW16: =VLOOKUP($A16,Anlagen!$A$13:$CU$823,COLUMN(Anlagen!CC:CC),0) -> 0 | BX16: =VLOOKUP($A16,Anlagen!$A$13:$CU$823,COLUMN(Anlagen!CD:CD),0) -> 0 | BY16: =VLOOKUP($A16,Anlagen!$A$13:$CU$823,COLUMN(Anlagen!CE:CE),0) -> HV (250V) | BZ16: =VLOOKUP($A16,Anlagen!$A$13:$CU$823,COLUMN(Anlagen!CG:CG),0) -> 0 | CA16: =VLOOKUP($A16,Anlagen!$A$13:$CU$823,COLUMN(Anlagen!CH:CH),0) -> 0 | CB16: =VLOOKUP($A16,Anlagen!$A$13:$CU$823,COLUMN(Anlagen!CJ:CJ),0) -> 0 | CC16: =VLOOKUP($A16,Anlagen!$A$13:$CU$823,COLUMN(Anlagen!CK:CK),0) -> 0 | CD16: =VLOOKUP($A16,Anlagen!$A$13:$CU$823,COLUMN(Anlagen!CL:CL),0) -> 0 | CE16: =VLOOKUP($A16,Anlagen!$A$13:$CU$823,COLUMN(Anlagen!CM:CM),0) -> 0 | CF16: =VLOOKUP($A16,Anlagen!$A$13:$CU$823,COLUMN(Anlagen!CN:CN),0) -> 0 | CG16: =VLOOKUP($A16,Anlagen!$A$13:$CU$823,COLUMN(Anlagen!CO:CO),0) -> 0 | CH16: =VLOOKUP($A16,Anlagen!$A$13:$CU$823,COLUMN(Anlagen!CP:CP),0) -> 0 | CI16: =VLOOKUP($A16,Anlagen!$A$13:$CU$823,COLUMN(Anlagen!CQ:CQ),0) -> 0 | CJ16: =VLOOKUP($A16,Anlagen!$A$13:$CU$823,COLUMN(Anlagen!CR:CR),0) -> 0 | CK16: =VLOOKUP($A16,Anlagen!$A$13:$CU$823,COLUMN(Anlagen!CS:CS),0) -> 0 | CL16: =VLOOKUP($A16,Anlagen!$A$13:$CU$823,COLUMN(Anlagen!CT:CT),0) -> 0 | CM16: =VLOOKUP($A16,Anlagen!$A$13:$CU$823,COLUMN(Anlagen!CU:CU),0) -> 0
A17: ITT#034 | B17: =VLOOKUP($A17,Anlagen!$A$13:$CU$823,COLUMN(Anlagen!B:B),0) -> ITT2 | C17: =VLOOKUP($A17,Anlagen!$A$13:$CU$823,COLUMN(Anlagen!C:C),0) -> 0 | D17: =VLOOKUP($A17,Anlagen!$A$13:$CU$823,COLUMN(Anlagen!D:D),0) -> 0 | E17: =VLOOKUP($A17,Anlagen!$A$13:$CU$823,COLUMN(Anlagen!F:F),0) -> BFS Akron Race #1 | F17: =VLOOKUP($A17,Anlagen!$A$13:$CU$823,COLUMN(Anlagen!G:G),0) -> Akron | G17: =VLOOKUP($A17,Anlagen!$A$13:$CU$823,COLUMN(Anlagen!H:H),0) -> USA | H17: =VLOOKUP($A17,Anlagen!$A$13:$CU$823,COLUMN(Anlagen!I:I),0) -> BFS | I17: =VLOOKUP($A17,Anlagen!$A$13:$CU$823,COLUMN(Anlagen!J:J),0) -> 0 | J17: =VLOOKUP($A17,Anlagen!$A$13:$CU$823,COLUMN(Anlagen!K:K),0) -> 2002 | K17: =VLOOKUP($A17,Anlagen!$A$13:$CU$823,COLUMN(Anlagen!L:L),0) -> 0 | L17: =VLOOKUP($A17,Anlagen!$A$13:$CU$823,COLUMN(Anlagen!M:M),0) -> 0 | M17: =VLOOKUP($A17,Anlagen!$A$13:$CU$823,COLUMN(Anlagen!N:N),0) -> 0 | N17: =VLOOKUP($A17,Anlagen!$A$13:$CU$823,COLUMN(Anlagen!O:O),0) -> G1 | O17: =VLOOKUP($A17,Anlagen!$A$13:$CU$823,COLUMN(Anlagen!P:P),0) -> 0 | P17: =VLOOKUP($A17,Anlagen!$A$13:$CU$823,COLUMN(Anlagen!Q:Q),0) -> 0 | Q17: =VLOOKUP($A17,Anlagen!$A$13:$CU$823,COLUMN(Anlagen!R:R),0) -> 0 | R17: =VLOOKUP($A17,Anlagen!$A$13:$CU$823,COLUMN(Anlagen!S:S),0) -> 0 | S17: =VLOOKUP($A17,Anlagen!$A$13:$CU$823,COLUMN(Anlagen!T:T),0) -> 0 | T17: =VLOOKUP($A17,Anlagen!$A$13:$CU$823,COLUMN(Anlagen!U:U),0) -> 0 | U17: =VLOOKUP($A17,Anlagen!$A$13:$CU$823,COLUMN(Anlagen!V:V),0) -> 0 | V17: =VLOOKUP($A17,Anlagen!$A$13:$CU$823,COLUMN(Anlagen!W:W),0) -> 0 | W17: =VLOOKUP($A17,Anlagen!$A$13:$CU$823,COLUMN(Anlagen!X:X),0) -> 0 | X17: =VLOOKUP($A17,Anlagen!$A$13:$CU$823,COLUMN(Anlagen!Y:Y),0) -> 0 | Y17: =VLOOKUP($A17,Anlagen!$A$13:$CU$823,COLUMN(Anlagen!Z:Z),0) -> 0 | Z17: =VLOOKUP($A17,Anlagen!$A$13:$CU$823,COLUMN(Anlagen!AC:AC),0) -> 0 | AA17: =VLOOKUP($A17,Anlagen!$A$13:$CU$823,COLUMN(Anlagen!AD:AD),0) -> 0 | AB17: =VLOOKUP($A17,Anlagen!$A$13:$CU$823,COLUMN(Anlagen!AE:AE),0) -> 0 | AC17: =VLOOKUP($A17,Anlagen!$A$13:$CU$823,COLUMN(Anlagen!AF:AF),0) -> 0 | AD17: =VLOOKUP($A17,Anlagen!$A$13:$CU$823,COLUMN(Anlagen!AG:AG),0) -> 0 | AE17: =VLOOKUP($A17,Anlagen!$A$13:$CU$823,COLUMN(Anlagen!AH:AH),0) -> 0 | AF17: =VLOOKUP($A17,Anlagen!$A$13:$CU$823,COLUMN(Anlagen!AI:AI),0) -> 0 | AG17: =VLOOKUP($A17,Anlagen!$A$13:$CU$823,COLUMN(Anlagen!AJ:AJ),0) -> 0 | AH17: =VLOOKUP($A17,Anlagen!$A$13:$CU$823,COLUMN(Anlagen!AK:AK),0) -> 0 | AI17: =VLOOKUP($A17,Anlagen!$A$13:$CU$823,COLUMN(Anlagen!AL:AL),0) -> 0 | AJ17: =VLOOKUP($A17,Anlagen!$A$13:$CU$823,COLUMN(Anlagen!AM:AM),0) -> 0 | AK17: =VLOOKUP($A17,Anlagen!$A$13:$CU$823,COLUMN(Anlagen!AN:AN),0) -> 0 | AM17: =VLOOKUP($A17,Anlagen!$A$13:$CU$823,COLUMN(Anlagen!AO:AO),0) -> 0 | AN17: =VLOOKUP($A17,Anlagen!$A$13:$CU$823,COLUMN(Anlagen!AP:AP),0) -> 0 | AO17: =VLOOKUP($A17,Anlagen!$A$13:$CU$823,COLUMN(Anlagen!AQ:AQ),0) -> 0 | AP17: =VLOOKUP($A17,Anlagen!$A$13:$CU$823,COLUMN(Anlagen!AR:AR),0) -> 0 | AQ17: =VLOOKUP($A17,Anlagen!$A$13:$CU$823,COLUMN(Anlagen!AS:AS),0) -> 0 | AR17: =VLOOKUP($A17,Anlagen!$A$13:$CU$823,COLUMN(Anlagen!AT:AT),0) -> 0 | AS17: =VLOOKUP($A17,Anlagen!$A$13:$CU$823,COLUMN(Anlagen!AU:AU),0) -> 0 | AT17: =VLOOKUP($A17,Anlagen!$A$13:$CU$823,COLUMN(Anlagen!AV:AV),0) -> 0 | AU17: =VLOOKUP($A17,Anlagen!$A$13:$CU$823,COLUMN(Anlagen!AW:AW),0) -> 0 | AV17: =VLOOKUP($A17,Anlagen!$A$13:$CU$823,COLUMN(Anlagen!AX:AX),0) -> 0 | AW17: =VLOOKUP($A17,Anlagen!$A$13:$CU$823,COLUMN(Anlagen!AY:AY),0) -> 0 | AX17: =VLOOKUP($A17,Anlagen!$A$13:$CU$823,COLUMN(Anlagen!AZ:AZ),0) -> 0 | AY17: =VLOOKUP($A17,Anlagen!$A$13:$CU$823,COLUMN(Anlagen!BA:BA),0) -> 0 | AZ17: =VLOOKUP($A17,Anlagen!$A$13:$CU$823,COLUMN(Anlagen!BB:BB),0) -> 0 | BA17: =VLOOKUP($A17,Anlagen!$A$13:$CU$823,COLUMN(Anlagen!BC:BC),0) -> 0 | BB17: =VLOOKUP($A17,Anlagen!$A$13:$CU$823,COLUMN(Anlagen!BD:BD),0) -> 0 | BC17: =VLOOKUP($A17,Anlagen!$A$13:$CU$823,COLUMN(Anlagen!BE:BE),0) -> 0 | BD17: =VLOOKUP($A17,Anlagen!$A$13:$CU$823,COLUMN(Anlagen!BF:BF),0) -> 0 | BE17: =VLOOKUP($A17,Anlagen!$A$13:$CU$823,COLUMN(Anlagen!BG:BG),0) -> 0 | BF17: =VLOOKUP($A17,Anlagen!$A$13:$CU$823,COLUMN(Anlagen!BH:BH),0) -> 0 | BG17: =VLOOKUP($A17,Anlagen!$A$13:$CU$823,COLUMN(Anlagen!BI:BI),0) -> 0 | BH17: =VLOOKUP($A17,Anlagen!$A$13:$CU$823,COLUMN(Anlagen!BJ:BJ),0) -> 0 | BI17: =VLOOKUP($A17,Anlagen!$A$13:$CU$823,COLUMN(Anlagen!BK:BK),0) -> 0 | BJ17: =VLOOKUP($A17,Anlagen!$A$13:$CU$823,COLUMN(Anlagen!BL:BL),0) -> 0 | BK17: =VLOOKUP($A17,Anlagen!$A$13:$CU$823,COLUMN(Anlagen!BM:BM),0) -> 0 | BL17: =VLOOKUP($A17,Anlagen!$A$13:$CU$823,COLUMN(Anlagen!BN:BN),0) -> 0 | BM17: =VLOOKUP($A17,Anlagen!$A$13:$CU$823,COLUMN(Anlagen!BO:BO),0) -> 0 | BN17: =VLOOKUP($A17,Anlagen!$A$13:$CU$823,COLUMN(Anlagen!BP:BP),0) -> 0 | BO17: =VLOOKUP($A17,Anlagen!$A$13:$CU$823,COLUMN(Anlagen!BR:BR),0) -> 0 | BP17: =VLOOKUP($A17,Anlagen!$A$13:$CU$823,COLUMN(Anlagen!BS:BS),0) -> 0 | BQ17: =VLOOKUP($A17,Anlagen!$A$13:$CU$823,COLUMN(Anlagen!BT:BT),0) -> 0 | BR17: =VLOOKUP($A17,Anlagen!$A$13:$CU$823,COLUMN(Anlagen!BU:BU),0) -> 0 | BS17: =VLOOKUP($A17,Anlagen!$A$13:$CU$823,COLUMN(Anlagen!BY:BY),0) -> 0 | BT17: =VLOOKUP($A17,Anlagen!$A$13:$CU$823,COLUMN(Anlagen!BZ:BZ),0) -> 0 | BU17: =VLOOKUP($A17,Anlagen!$A$13:$CU$823,COLUMN(Anlagen!CA:CA),0) -> 0 | BV17: =VLOOKUP($A17,Anlagen!$A$13:$CU$823,COLUMN(Anlagen!CB:CB),0) -> Throl 50mm | BW17: =VLOOKUP($A17,Anlagen!$A$13:$CU$823,COLUMN(Anlagen!CC:CC),0) -> 0 | BX17: =VLOOKUP($A17,Anlagen!$A$13:$CU$823,COLUMN(Anlagen!CD:CD),0) -> 0 | BY17: =VLOOKUP($A17,Anlagen!$A$13:$CU$823,COLUMN(Anlagen!CE:CE),0) -> HV (250V) | BZ17: =VLOOKUP($A17,Anlagen!$A$13:$CU$823,COLUMN(Anlagen!CG:CG),0) -> 0 | CA17: =VLOOKUP($A17,Anlagen!$A$13:$CU$823,COLUMN(Anlagen!CH:CH),0) -> 0 | CB17: =VLOOKUP($A17,Anlagen!$A$13:$CU$823,COLUMN(Anlagen!CJ:CJ),0) -> 0 | CC17: =VLOOKUP($A17,Anlagen!$A$13:$CU$823,COLUMN(Anlagen!CK:CK),0) -> 0 | CD17: =VLOOKUP($A17,Anlagen!$A$13:$CU$823,COLUMN(Anlagen!CL:CL),0) -> 0 | CE17: =VLOOKUP($A17,Anlagen!$A$13:$CU$823,COLUMN(Anlagen!CM:CM),0) -> 0 | CF17: =VLOOKUP($A17,Anlagen!$A$13:$CU$823,COLUMN(Anlagen!CN:CN),0) -> 0 | CG17: =VLOOKUP($A17,Anlagen!$A$13:$CU$823,COLUMN(Anlagen!CO:CO),0) -> 0 | CH17: =VLOOKUP($A17,Anlagen!$A$13:$CU$823,COLUMN(Anlagen!CP:CP),0) -> 0 | CI17: =VLOOKUP($A17,Anlagen!$A$13:$CU$823,COLUMN(Anlagen!CQ:CQ),0) -> 0 | CJ17: =VLOOKUP($A17,Anlagen!$A$13:$CU$823,COLUMN(Anlagen!CR:CR),0) -> 0 | CK17: =VLOOKUP($A17,Anlagen!$A$13:$CU$823,COLUMN(Anlagen!CS:CS),0) -> 0 | CL17: =VLOOKUP($A17,Anlagen!$A$13:$CU$823,COLUMN(Anlagen!CT:CT),0) -> 0 | CM17: =VLOOKUP($A17,Anlagen!$A$13:$CU$823,COLUMN(Anlagen!CU:CU),0) -> 0
... A77: MRT ITT1#002 | B77: =VLOOKUP($A77,Anlagen!$A$13:$CU$823,COLUMN(Anlagen!B:B),0) -> ITT1-SD | C77: =VLOOKUP($A77,Anlagen!$A$13:$CU$823,COLUMN(Anlagen!C:C),0) -> 0 | D77: =VLOOKUP($A77,Anlagen!$A$13:$CU$823,COLUMN(Anlagen!D:D),0) -> 1250 | E77: =VLOOKUP($A77,Anlagen!$A$13:$CU$823,COLUMN(Anlagen!F:F),0) -> Michelin MARC | F77: =VLOOKUP($A77,Anlagen!$A$13:$CU$823,COLUMN(Anlagen!G:G),0) -> 0 | G77: =VLOOKUP($A77,Anlagen!$A$13:$CU$823,COLUMN(Anlagen!H:H),0) -> USA | H77: =VLOOKUP($A77,Anlagen!$A$13:$CU$823,COLUMN(Anlagen!I:I),0) -> 0 | I77: =VLOOKUP($A77,Anlagen!$A$13:$CU$823,COLUMN(Anlagen!J:J),0) -> 0 | J77: =VLOOKUP($A77,Anlagen!$A$13:$CU$823,COLUMN(Anlagen!K:K),0) -> 0 | K77: =VLOOKUP($A77,Anlagen!$A$13:$CU$823,COLUMN(Anlagen!L:L),0) -> 1 | L77: =VLOOKUP($A77,Anlagen!$A$13:$CU$823,COLUMN(Anlagen!M:M),0) -> 4 | M77: =VLOOKUP($A77,Anlagen!$A$13:$CU$823,COLUMN(Anlagen!N:N),0) -> 0 | N77: =VLOOKUP($A77,Anlagen!$A$13:$CU$823,COLUMN(Anlagen!O:O),0) -> G1 | O77: =VLOOKUP($A77,Anlagen!$A$13:$CU$823,COLUMN(Anlagen!P:P),0) -> 0 | P77: =VLOOKUP($A77,Anlagen!$A$13:$CU$823,COLUMN(Anlagen!Q:Q),0) -> ?? | Q77: =VLOOKUP($A77,Anlagen!$A$13:$CU$823,COLUMN(Anlagen!R:R),0) -> 0 | R77: =VLOOKUP($A77,Anlagen!$A$13:$CU$823,COLUMN(Anlagen!S:S),0) -> 0 | S77: =VLOOKUP($A77,Anlagen!$A$13:$CU$823,COLUMN(Anlagen!T:T),0) -> 0 | T77: =VLOOKUP($A77,Anlagen!$A$13:$CU$823,COLUMN(Anlagen!U:U),0) -> Engel | U77: =VLOOKUP($A77,Anlagen!$A$13:$CU$823,COLUMN(Anlagen!V:V),0) -> 0 | V77: =VLOOKUP($A77,Anlagen!$A$13:$CU$823,COLUMN(Anlagen!W:W),0) -> 0 | W77: =VLOOKUP($A77,Anlagen!$A$13:$CU$823,COLUMN(Anlagen!X:X),0) -> 0 | X77: =VLOOKUP($A77,Anlagen!$A$13:$CU$823,COLUMN(Anlagen!Y:Y),0) -> 0 | Y77: =VLOOKUP($A77,Anlagen!$A$13:$CU$823,COLUMN(Anlagen!Z:Z),0) -> 0 | Z77: =VLOOKUP($A77,Anlagen!$A$13:$CU$823,COLUMN(Anlagen!AC:AC),0) -> SEW | AA77: =VLOOKUP($A77,Anlagen!$A$13:$CU$823,COLUMN(Anlagen!AD:AD),0) -> 0 | AB77: =VLOOKUP($A77,Anlagen!$A$13:$CU$823,COLUMN(Anlagen!AE:AE),0) -> Bosch Riemenantrieb | AC77: =VLOOKUP($A77,Anlagen!$A$13:$CU$823,COLUMN(Anlagen!AF:AF),0) -> 0 | AD77: =VLOOKUP($A77,Anlagen!$A$13:$CU$823,COLUMN(Anlagen!AG:AG),0) -> Bosch Riemenantrieb | AE77: =VLOOKUP($A77,Anlagen!$A$13:$CU$823,COLUMN(Anlagen!AH:AH),0) -> 0 | AF77: =VLOOKUP($A77,Anlagen!$A$13:$CU$823,COLUMN(Anlagen!AI:AI),0) -> Bosch Riemenantrieb | AG77: =VLOOKUP($A77,Anlagen!$A$13:$CU$823,COLUMN(Anlagen!AJ:AJ),0) -> 0 | AH77: =VLOOKUP($A77,Anlagen!$A$13:$CU$823,COLUMN(Anlagen!AK:AK),0) -> 0 | AI77: =VLOOKUP($A77,Anlagen!$A$13:$CU$823,COLUMN(Anlagen!AL:AL),0) -> 0 | AJ77: =VLOOKUP($A77,Anlagen!$A$13:$CU$823,COLUMN(Anlagen!AM:AM),0) -> 0 | AK77: =VLOOKUP($A77,Anlagen!$A$13:$CU$823,COLUMN(Anlagen!AN:AN),0) -> 0 | AM77: =VLOOKUP($A77,Anlagen!$A$13:$CU$823,COLUMN(Anlagen!AO:AO),0) -> 0 | AN77: =VLOOKUP($A77,Anlagen!$A$13:$CU$823,COLUMN(Anlagen!AP:AP),0) -> 380-500V;3~ | AO77: =VLOOKUP($A77,Anlagen!$A$13:$CU$823,COLUMN(Anlagen!AQ:AQ),0) -> 115V | AP77: =VLOOKUP($A77,Anlagen!$A$13:$CU$823,COLUMN(Anlagen!AR:AR),0) -> S5 | AQ77: =VLOOKUP($A77,Anlagen!$A$13:$CU$823,COLUMN(Anlagen!AS:AS),0) -> S95U | AR77: =VLOOKUP($A77,Anlagen!$A$13:$CU$823,COLUMN(Anlagen!AT:AT),0) -> SEW Movitrac 07 | AS77: =VLOOKUP($A77,Anlagen!$A$13:$CU$823,COLUMN(Anlagen!AU:AU),0) -> Schütz | AT77: =VLOOKUP($A77,Anlagen!$A$13:$CU$823,COLUMN(Anlagen!AV:AV),0) -> Schütz | AU77: =VLOOKUP($A77,Anlagen!$A$13:$CU$823,COLUMN(Anlagen!AW:AW),0) -> Schütz | AV77: =VLOOKUP($A77,Anlagen!$A$13:$CU$823,COLUMN(Anlagen!AX:AX),0) -> 0 | AW77: =VLOOKUP($A77,Anlagen!$A$13:$CU$823,COLUMN(Anlagen!AY:AY),0) -> 0 | AX77: =VLOOKUP($A77,Anlagen!$A$13:$CU$823,COLUMN(Anlagen!AZ:AZ),0) -> 0 | AY77: =VLOOKUP($A77,Anlagen!$A$13:$CU$823,COLUMN(Anlagen!BA:BA),0) -> 0 | AZ77: =VLOOKUP($A77,Anlagen!$A$13:$CU$823,COLUMN(Anlagen!BB:BB),0) -> Lüfter 148mm | BA77: =VLOOKUP($A77,Anlagen!$A$13:$CU$823,COLUMN(Anlagen!BC:BC),0) -> 0 | BB77: =VLOOKUP($A77,Anlagen!$A$13:$CU$823,COLUMN(Anlagen!BD:BD),0) -> 0 | BC77: =VLOOKUP($A77,Anlagen!$A$13:$CU$823,COLUMN(Anlagen!BE:BE),0) -> Elmo | BD77: =VLOOKUP($A77,Anlagen!$A$13:$CU$823,COLUMN(Anlagen!BF:BF),0) -> 2BH-XX | BE77: =VLOOKUP($A77,Anlagen!$A$13:$CU$823,COLUMN(Anlagen!BG:BG),0) -> 1,7KW | BF77: =VLOOKUP($A77,Anlagen!$A$13:$CU$823,COLUMN(Anlagen!BH:BH),0) -> 0 | BG77: =VLOOKUP($A77,Anlagen!$A$13:$CU$823,COLUMN(Anlagen!BI:BI),0) -> Wachenh.-Kirchner 115V | BH77: =VLOOKUP($A77,Anlagen!$A$13:$CU$823,COLUMN(Anlagen!BJ:BJ),0) -> 0 | BI77: =VLOOKUP($A77,Anlagen!$A$13:$CU$823,COLUMN(Anlagen!BK:BK),0) -> 0 | BJ77: =VLOOKUP($A77,Anlagen!$A$13:$CU$823,COLUMN(Anlagen!BL:BL),0) -> 0 | BK77: =VLOOKUP($A77,Anlagen!$A$13:$CU$823,COLUMN(Anlagen!BM:BM),0) -> 0 | BL77: =VLOOKUP($A77,Anlagen!$A$13:$CU$823,COLUMN(Anlagen!BN:BN),0) -> 0 | BM77: =VLOOKUP($A77,Anlagen!$A$13:$CU$823,COLUMN(Anlagen!BO:BO),0) -> 0 | BN77: =VLOOKUP($A77,Anlagen!$A$13:$CU$823,COLUMN(Anlagen!BP:BP),0) -> 0 | BO77: =VLOOKUP($A77,Anlagen!$A$13:$CU$823,COLUMN(Anlagen!BR:BR),0) -> 0 | BP77: =VLOOKUP($A77,Anlagen!$A$13:$CU$823,COLUMN(Anlagen!BS:BS),0) -> 0 | BQ77: =VLOOKUP($A77,Anlagen!$A$13:$CU$823,COLUMN(Anlagen!BT:BT),0) -> 0 | BR77: =VLOOKUP($A77,Anlagen!$A$13:$CU$823,COLUMN(Anlagen!BU:BU),0) -> 0 | BS77: =VLOOKUP($A77,Anlagen!$A$13:$CU$823,COLUMN(Anlagen!BY:BY),0) -> 0 | BT77: =VLOOKUP($A77,Anlagen!$A$13:$CU$823,COLUMN(Anlagen!BZ:BZ),0) -> 0 | BU77: =VLOOKUP($A77,Anlagen!$A$13:$CU$823,COLUMN(Anlagen!CA:CA),0) -> 0 | BV77: =VLOOKUP($A77,Anlagen!$A$13:$CU$823,COLUMN(Anlagen!CB:CB),0) -> Throl 50mm | BW77: =VLOOKUP($A77,Anlagen!$A$13:$CU$823,COLUMN(Anlagen!CC:CC),0) -> 0 | BX77: =VLOOKUP($A77,Anlagen!$A$13:$CU$823,COLUMN(Anlagen!CD:CD),0) -> 0° | BY77: =VLOOKUP($A77,Anlagen!$A$13:$CU$823,COLUMN(Anlagen!CE:CE),0) -> HV (250V) | BZ77: =VLOOKUP($A77,Anlagen!$A$13:$CU$823,COLUMN(Anlagen!CG:CG),0) -> 0 | CA77: =VLOOKUP($A77,Anlagen!$A$13:$CU$823,COLUMN(Anlagen!CH:CH),0) -> 0 | CB77: =VLOOKUP($A77,Anlagen!$A$13:$CU$823,COLUMN(Anlagen!CJ:CJ),0) -> 0 | CC77: =VLOOKUP($A77,Anlagen!$A$13:$CU$823,COLUMN(Anlagen!CK:CK),0) -> 0 | CD77: =VLOOKUP($A77,Anlagen!$A$13:$CU$823,COLUMN(Anlagen!CL:CL),0) -> 0 | CE77: =VLOOKUP($A77,Anlagen!$A$13:$CU$823,COLUMN(Anlagen!CM:CM),0) -> 0 | CF77: =VLOOKUP($A77,Anlagen!$A$13:$CU$823,COLUMN(Anlagen!CN:CN),0) -> 0 | CG77: =VLOOKUP($A77,Anlagen!$A$13:$CU$823,COLUMN(Anlagen!CO:CO),0) -> 0 | CH77: =VLOOKUP($A77,Anlagen!$A$13:$CU$823,COLUMN(Anlagen!CP:CP),0) -> 0 | CI77: =VLOOKUP($A77,Anlagen!$A$13:$CU$823,COLUMN(Anlagen!CQ:CQ),0) -> 0 | CJ77: =VLOOKUP($A77,Anlagen!$A$13:$CU$823,COLUMN(Anlagen!CR:CR),0) -> 26.11.2013 RH | CK77: =VLOOKUP($A77,Anlagen!$A$13:$CU$823,COLUMN(Anlagen!CS:CS),0) -> 0 | CL77: =VLOOKUP($A77,Anlagen!$A$13:$CU$823,COLUMN(Anlagen!CT:CT),0) -> 0 | CM77: =VLOOKUP($A77,Anlagen!$A$13:$CU$823,COLUMN(Anlagen!CU:CU),0) -> Aus Ablage | Machine labeled as 004 on the name plate
