Workbook

Sheet Anlagen
Q1: Nein | AL1: O:Ott B:Bosch | BK1: Sick Scannerbrücke
A2: Prüfen! | B2: Verschrottet | C2: SN geändert | F2: SN nicht vergeben | AL2: Zahnrad Motor-Riemen-Zahnrad Welle | AS2: 230V/100V | AV2: Siemens | AX2: Siemens Sondertyp | BC2: auf 1-Zylinder umgebaut? | BH2: Symbol | BK2: LS...... | BQ2: LPD5 | CA2: alt: Avenier | CB2: alt: Throl 50mm | CC2: alt groß: Teli (2 Schalter und 2 Stecker) | CG2: Grün=INA | CH2: Nein | CK2: Faebi 150: | CL2: 1280, 1080, 1300
A3: In Bearbeitung | B3: Update raus | Q3: U:\Dokumentationen\Doku Intern\Dokumentation PC\PC-Archivierung.xls | Y3: Bosch + 2x Driveroll Band 3 | AD3: VRDM3913 Motorplatte mit Gewinde. Siehe Bilder 12_2024 | AL3: Auswahltabelle | AN3: S7-1515F-2 PN | AW3: vom Kunde | AX3: 300W Rittal | AZ3: Lüfter | BH3: Datalogic PD9630 | BK3: Kabel vorbereitet | CA3: neu: Pentax | CB3: ab SN261: CPN-S | CC3: alt klein: Teli (Mäuseklavier und 1 Stecker) | CG3: Schw=Rexroth | CK3: Faebi 200: | CL3: 1680 | CO3: ??
A4: Auswahlhilfstabellen unter Tabelle | D4: Zum Erstellen: Daten-->Gültigkeit-->Liste | N4: Software | U4: Mechanik | AP4: Elektrik | AS4: 1769-L35E V19 + 750-881 | BE4: Vakuumsystem | BL4: Meßtechnik | BT4: Overview Videocable | CC4: neu: Jai (3 Stecker) | CG4: Grün? Kunde (Bild) | CK4: Faebi 430: | CL4: OTR
P5: Spezial OTR | CB5: 2-teilig: Throl | CK5: BiAir 2-ED/HE | CL5: ca. 2008-2017
CB6: 1-teilig: CPN-S (Schneider) | CK6: BiAir 1,5-ED/HE | CL6: bis ca. 2008 und ab ca. 2017
F7: Kunde | J7: Auslieferungsdatum | U7: Motoren | AC7: Rotate | AE7: Lift | AG7: Shift | AI7: Tilt | AK7: Mechanik | AP7: Spannung | AT7: Leistungsstufen, Ansteuerung | AX7: Frequenzumrichter | AY7: Frequenzumrichter | BL7: Lasersteuergerät | BR7: Kabel | BT7: Videokabel | BV7: Meßkopf
AK8: Länge Kette | BQ8: Verteiler | BV8: Seriennummer | CG8: Hersteller | CJ8: Isolatoren | CK8: Isolatoren | CL8: Luftdruck | CM8: Luftdruck | CN8: Luftdruck | CO8: Letzter Austausch | CS8: Zählerstände
A9: Seriennr. | B9: Typ | C9: Ausführung | D9: Größe | E9: TOF | F9: Name | G9: Stadt | H9: Land | I9: Konzern | J9: KW | K9: Jahr | L9: Anzahl Meßköpfe | M9: Anzahl Achsen | N9: ITTMes/View | O9: PLC Softw.Gen. | P9: PLC Softw. Version | Q9: CU-Nummer | R9: Dongle Nr. | S9: Konturmessung | T9: Sonstige | U9: Internes Band | V9: TOF | W9: Echternach | X9: Belader | Y9: Förderbänder | Z9: 90° Module | AC9: Typ | AD9: Nr | AE9: Typ | AF9: Nr | AG9: Typ | AH9: Nr | AI9: Typ | AJ9: Nr | AK9: TOF spannen | AL9: Riemen 90° Modul | AN9: Sonstiges | AP9: Versorgung | AQ9: Intern | AR9: Steuerung | AS9: Controller | AT9: Rotate | AU9: Lift | AV9: Shift | AW9: Tilt | AX9: Förderbänder | AY9: TOF | AZ9: Trittmatte | BB9: Klimatisierung | BC9: USV | BE9: Pumpenhersteller | BF9: Typ | BG9: Leistung | BH9: Schnellbelüftungsventil | BI9: Ventileinheit | BK9: Barcodescanner | BL9: Typ | BM9: Seriennummer | BN9: SN 1. PD1 | BO9: SN 1. PD2 | BP9: SN 1. PD3 | BQ9: Box | BR9: Diodenkabel | BS9: Länge | BT9: Typen | BU9: Länge | BV9: MK #1 | BW9: MK #2 | BX9: MK #3 | BY9: Diodenkennung | BZ9: Dioden pro Kopf | CA9: Objektiv | CB9: Interne Optik | CC9: Kamera | CD9: Shearwinkel | CE9: Piezo | CF9: Kalibrierblock | CG9: Führungen | CH9: Drehlager | CI9: Portal Innenleben | CJ9: Hersteller | CK9: Typ | CL9: Systemdruck | CM9: TOF Klemmung | CN9: Isolatoren | CO9: Messkopf/Dioden | CP9: bei Betriebsstunden | CQ9: am | CR9: Stand | CS9: Zyklen | CT9: Betriebsstunden | CU9: Besonderheiten, Sonstiges
A13: ITT#001 | B13: ITT2 | D13: 1300 | E13: Nein | F13: Kalt Pneu | H13: Tschechien | J13: 12 | K13: 2011 | L13: 1 | M13: 4 | N13: 18.05 G1 | O13: G1 | P13: 4A-Count/Ilunten/Stand 7.0 | Q13: 1718 | R13: 656 | U13: Ott 24V | X13: Engel | AC13: Schneider Electric | AD13: VRDM3910 | AE13: Schneider Electric | AF13: VRDM397 | AG13: Schneider Electric | AH13: VRDM397 | AI13: Schneider Electric | AJ13: VRDM368 | AP13: 380-500V;3~ | AQ13: 230V | AR13: S5 | AS13: S95U | AT13: SD326R U25 S2 Puls-Richtung | AU13: SD326R U25 S2 Puls-Richtung | AV13: SD326R U25 S2 Puls-Richtung | AW13: SD326R U25 S2 Puls-Richtung | AZ13: Nein | BB13: Lüfter 148mm | BE13: Elmo | BF13: 2BH-XX | BG13: 1,7KW | BH13: Nein | BI13: Wachenh.-Kirchner 230V | BK13: Nein | BL13: LPD5 | BM13: 5035 | BQ13: LPD5 5V | BR13: LPD5 | BS13: 6m, 5m,10m | BT13: 5A,5B,5D | BU13: 5m,10m,2m | BY13: Blau | BZ13: 4 | CA13: Pentax 4.8mm 1:1.8 | CB13: Throl 50mm | CC13: Jai | CD13: 0° | CE13: HV (250V) | CG13: Rexroth | CR13: 24.03.2011 RH | CU13: Alte Anlage von Reiff
A14: ITT#002 | B14: ITT2 | E14: Nein | F14: Devoto | H14: Argentinien | L14: 1 | M14: 4 | O14: G1 | CB14: Throl 50mm | CE14: HV (250V)
A15: ITT#003 | F15: Continental | G15: Mt. Vernon, IL | H15: USA | I15: Continental | K15: 2003 | CB15: Throl 50mm | CE15: HV (250V) | CU15: Verschrottet
A16: ITT#004 | B16: ITT2 | E16: Nein | F16: Michelin US3 | G16: Spartanburg | H16: USA | L16: 1 | M16: 4 | N16: 8.22C9 | O16: G1 | Q16: 1607 + 1608 | R16: 643 + 644 | AP16: 380-500V;3~ | AQ16: 115V | AR16: S5 + S7 | AS16: S95U | BI16: Wachenh.-Kirchner 115V | BY16: Grün | BZ16: 4 | CB16: Throl 50mm | CE16: HV (250V) | CR16: 23.10.2015 RH
A17: ITT#005 | B17: ITT2 | D17: 1500 | F17: Conti Indien | H17: Indien | I17: Continental | J17: 3 | K17: 2000 | L17: 1 | M17: 4 | N17: 15.06 Conti | O17: G1 | P17: 4A-Count/Ilunten/Stand 7.0 | Q17: 1417 | R17: 528 | T17: Conti-Programme | U17: Ott 24V | X17: Engel | AC17: Schneider Electric | AE17: Schneider Electric | AG17: Schneider Electric | AI17: Schneider Electric | AP17: 380-500V;3~ | AQ17: 230V | AR17: S5 | AS17: S95U | AT17: TLD011 | AU17: TLD011 | AV17: TLD011 | AW17: TLD011 | AZ17: Nein | BB17: 300W 1~ alt | BC17: Sonstige / vom Kunde | BE17: Elmo | BF17: 2BH-XX | BG17: 1,7KW | BH17: Nein | BI17: Wachenh.-Kirchner 230V | BK17: vom Kunden | BL17: Profile | BM17: 7502 | BN17: 9250 | BQ17: Keine | BR17: Profile | BS17: 7,5m | BT17: 1 von Kunde verlängert,1A | BU17: Soll:5m,10m,2m | BY17: Grün | BZ17: 4 | CA17: Avenier 4.8 F1.4 | CB17: Throl 50mm | CC17: Teli | CD17: 45° | CE17: HV (250V) | CG17: Rexroth | CJ17: Keine | CR17: 07.11.2013 RH | CS17: 56704 | CT17: 28388 | CU17: Videokabel und Serielle Kabel vom Kunde verlängert. Verschrottet?
A18: ITT#006 | F18: Reiff PKW | CB18: Throl 50mm | CE18: HV (250V) | CU18: Verschrottet
A19: ITT#007 | B19: Runddeckel-DC-Achsen | D19: 1500 | E19: Nein | F19: Westar | G19: Bystřice nad Pernštejnem | H19: Tschechien | K19: 2014 | L19: 1 | M19: 4 | O19: G4 | Q19: 1414 | R19: 522 | U19: Ott 24V | X19: Driverolls EC310 | AC19: Ott | AD19: EM6641400-200 | AE19: Ott Riemenantrieb | AF19: DCK35-405033 OTR Lift | AG19: Ott Riemenantrieb | AH19: DCK31-404854 | AI19: Ott Tilt | AJ19: XDP043012 (Runddeckel) | AP19: 380-500V;3~ | AQ19: 230V | AR19: Wago | AS19: 750-881 | AU19: Phoenix ELR 6A | AV19: Phoenix ELR 2A | AW19: Phoenix ELR 2A | AZ19: Nein | BB19: 300W 1~ neu | BC19: APC BK650EI 230V | BE19: Elmo | BF19: 2BH-XX | BG19: 1,7KW | BH19: Nein | BI19: Wachenh.-Kirchner 230V | BL19: LPD7 | BM19: 7633 | BQ19: LPD5 5V | BR19: LPD5 | BS19: 6m | BT19: 5A,5D | BU19: 6m,2m | BY19: Blau | BZ19: 4 | CA19: Pentax 4.8mm 1:1.8 | CB19: CPN-S | CC19: Jai | CD19: 0° | CE19: HV (250V) | CG19: Rexroth | CJ19: Keine | CR19: 02.06.2014 RH | CU19: War vorher Conti LKW | Aud DCK35 Liftmotor umgestellt in 04/2017 |neues LPD7 10_2022
A20: ITT#008 | B20: ITT2 | D20: 1300 | F20: Michelin Stoke on Trent | G20: Stoke on Trent | H20: UK | I20: Michelin Remix | L20: 1 | M20: 3 | N20: 8.09 | O20: G1 | Q20: 729 | R20: 314 | U20: Engel | X20: Bosch | Z20: Ott 24V/Bosch 67W | AC20: Schneider Electric | AE20: Schneider Electric | AG20: Schneider Electric | AI20: Schneider Electric | AP20: 380-500V;3~ | AQ20: 230V | AR20: S5 + S7 | AS20: S95U | AT20: TLD011 | AU20: TLD011 | AV20: TLD011 | AW20: TLD011 | AZ20: Haake | BE20: Elmo | BF20: 2BH-XX | BG20: 1,7KW | BH20: Nein | BI20: Wachenh.-Kirchner 230V | BK20: Ja | BL20: Profile | BM20: ?? | BN20: ?? | BQ20: Keine | BR20: Profile | BS20: 7,5m | BZ20: 4 | CB20: Throl 50mm | CD20: 0° | CE20: HV (250V) | CU20: Verschrottet
A21: ITT#009 | B21: ITT2 | D21: 1300 | E21: Nein | F21: Pneuhage Karlsruhe | G21: Karlsruhe | H21: Deutschland | I21: Michelin Recamic | J21: 21 | K21: 2000 | L21: 1 | M21: 4 | N21: 8.18C | O21: G1 | P21: 4A-Count-ILUnten-Stand 7.0 vom 1.3.2005 | Q21: 1046 | R21: 10 | U21: Ott 24V | X21: Engel | Y21: Engel | Z21: Bosch/pneumatisch | AC21: Schneider Electric | AE21: Schneider Electric | AG21: Schneider Electric | AI21: Schneider Electric | AP21: 400V 3~ | AQ21: 230V | AR21: S5 + S7 | AS21: S95U | AT21: TLD011 | AU21: TLD011 | AV21: TLD011 | AW21: TLD011 | AZ21: Nein | BB21: Lüfter 204mm | BE21: Elmo | BF21: 2BH-XX | BG21: 1,7KW | BH21: Nein | BI21: Wachenh.-Kirchner 230V | BK21: Nein | BL21: Profile | BM21: 6002 | BQ21: Keine | BR21: Profile | BT21: 1,1A | BY21: Grün | BZ21: 4 | CA21: Avenier 4.8 F1.4 | CB21: Throl 50mm | CC21: Teli | CD21: 0° | CE21: HV (250V) | CJ21: Bilz | CK21: FAEBI 150 | CL21: 5Bar | CR21: 9.3.2011 RH | CS21: 429500 | CT21: 31842 | CU21: Tiefer Topf! , neues Igus Kabelschlepp-wieder ausgebaut und Kabelfeder eingebaut, auf Ott-Motor umgebaut. LPD2B Prototyp tum Testen seit 2022
A22: ITT#010 | B22: ITT2 | E22: Nein | F22: Pneumatici | G22: Roveretto | H22: Italien | O22: G1 | CB22: Throl 50mm | CE22: HV (250V)
A23: ITT#011 | B23: ITT2 | E23: Nein | F23: Standards Testing Labs STL | G23: Massillon, OH | H23: USA | K23: 2000 | O23: G1 | CB23: Throl 50mm | CE23: HV (250V)
A24: ITT#012 | B24: ITT2 | F24: SDS Demo/ Michelin Stoke | CB24: Throl 50mm | CE24: HV (250V) | CU24: Verschrottet
A25: ITT#013 | B25: ITT2 | D25: 1300 | E25: Nein | F25: RET | G25: Hemmingen | H25: Deutschland | J25: ?? | K25: 2000 | L25: 1 | M25: 3 | N25: 8.22C9 | O25: G1 | P25: 3A-Stand 5 | Q25: 1726 | R25: 719 | U25: Engel | X25: Engel | Y25: Bosch | Z25: ??/pneumatisch | AC25: Schneider Electric | AE25: Schneider Electric | AG25: Schneider Electric | AP25: 400V 3~ | AQ25: 230V | AR25: S5 + S7 | AS25: S95U | AT25: TLD011 | AU25: TLD011 | AV25: TLD011 | AZ25: Nein | BB25: Lüfter 204mm | BE25: Elmo | BF25: 2BH-XX | BG25: 1,7KW | BH25: Nein | BI25: Wachenh.-Kirchner 230V | BL25: LPD 2B | BM25: 2506 | BQ25: Keine | BR25: Profile | BY25: Grün | CA25: Avenir 4.8 F1.4 | CB25: Throl 50mm | CC25: Teli | CD25: 0° | CE25: HV (250V) | CR25: 23.09.2024 RH | CU25: Stauförderer | Neuer PC 1726 ausgeliefert 16.10.2018 | 09/2024 neues LPD 2B
A26: ITT#014 | B26: ITT2 | E26: Nein | F26: BF Goodrich / Michelin | G26: Tuscaloosa | H26: USA | O26: G1 | CB26: Throl 50mm | CE26: HV (250V)
A27: ITT#015 | B27: Ex Semperit | C27: Sonderform | E27: Nein | F27: Vulkoplast Antosch | H27: Österreich | O27: G1 | CB27: Throl 50mm | CE27: HV (250V)
A28: ITT#016 | B28: ITT1-SD | D28: 1250 | F28: Vipotest | G28: Puchov | H28: Slowakei | I28: Continental | J28: 40 | K28: 2000 | CU28: Verschrottet
A29: ITT#017 | B29: ITT2 | E29: Nein | F29: Michelin CA3 | G29: Waterville, NS | H29: Kanada | K29: 2000 | L29: 1 | M29: 4 | N29: 19.05A | O29: G1 | Q29: 2010 | R29: 838 | AC29: Schneider Electric | AE29: Schneider Electric | AG29: Schneider Electric | AI29: Schneider Electric | AS29: S95U | BL29: LPD 2B | BT29: 5A,5B,Videobox | BU29: 5m,10m,2m | BY29: Grün | BZ29: 4 | CA29: Pentax 4.8mm 1:1.8 | CB29: Throl 50mm | CC29: Jai | CD29: 0° | CE29: HV (250V) | CR29: 04.11.2020 CG | CU29: Tauschmesskopf erhalten in 07/2011 zum testen der autom.Belichtungssteuerung; Videobox mit Überspannungsschutzstecker| Umgestellt auf LPD2 12/2022
A30: ITT#018 | B30: ITT2 | D30: 1250 | E30: Nein | F30: Pneusmarca | H30: Italien | J30: 37 | K30: 2001 | L30: 1 | M30: 4 | O30: G4 | Q30: 1536 | R30: 639 | S30: Nein | U30: Ott 24V | X30: Bosch | Y30: Bosch | AC30: Schneider Electric | AD30: VRDM3913 | AE30: Schneider Electric | AF30: VRDM3910 | AG30: Schneider Electric | AH30: VRDM397 | AI30: Schneider Electric | AJ30: VRDM368 | AP30: 380-500V;3~ | AQ30: 230V | AR30: Wago | AS30: 758-874/000-112 | AT30: SD328A U25 CAN | AU30: SD328A U25 CAN | AV30: SD328A U25 CAN | AW30: SD328A U25 CAN | AZ30: Nein | BB30: Ohne Klima/Lüfter | BC30: APC BK650EI 230V | BE30: Elektror | BF30: 1SD710 50/2,20 | BG30: 2,2KW | BH30: Ja | BI30: SDS 1 Zylinder 85mm | BK30: LS4208I | BL30: LPD5 | BM30: 5173 | BQ30: LPD5 5V | BR30: LPD5 | BS30: 5m | BT30: 5A,5B,5D | BU30: 5m,10m,2m | BY30: Blau | BZ30: 4 | CA30: Pentax 4.8mm 1:1.8 | CB30: CPN-S | CC30: Jai | CD30: 0° | CE30: HV (250V) | CG30: INA | CJ30: Keine | CR30: 29.03.2016 RH | CU30: War vorher Respa, Passau
A31: ITT#019 | B31: ITT1-SD | D31: 1250 | E31: Nein | F31: Smithers | G31: Ravenna, OH | H31: USA | J31: 48 | K31: 2001 | L31: 1 | M31: 4 | N31: 17.04 | O31: G1 | P31: ITT1/1 Stand 5 | Q31: 1472 | U31: Ott 24V | X31: Bosch | AC31: SEW | AE31: Bosch Riemenantrieb | AG31: Bosch Riemenantrieb | AI31: Bosch Riemenantrieb | AP31: 380-500V;3~ | AQ31: 115V | AR31: S5 | AS31: S95U | AT31: SEW Movitrac 07A | AU31: Schütz | AV31: Schütz | AW31: Schütz | BB31: Lüfter 148mm | BE31: Elmo | BF31: 2BH-XX | BG31: 1,7KW | BH31: Nein | BI31: Wachenh.-Kirchner 115V | BL31: LD3 | BM31: 3011 | BN31: 9102 | BR31: LD3 | BY31: Blau | BZ31: 4 | CB31: Throl 50mm | CE31: HV (250V) | CR31: 30.04.2024 RH | CU31: Aus Daten der Maschinenmappe | Auf Ott-Motor umgebaut 10_2015 | Umbau auf LD3 und blaue Dioden von CMI 30.04.2024
A32: ITT#020 | B32: ITT1-DD | D32: 1250 | E32: Nein | F32: Wondrascheck | H32: Österreich | J32: 29 | K32: 2012 | L32: 1 | M32: 4 | N32: 14.06 G4 | O32: G4 | P32: V_2_14_3_01_020 | Q32: 1204 | U32: Ott 24V | X32: Bosch | AC32: SEW | AE32: Bosch Riemenantrieb | AG32: Bosch Riemenantrieb | AI32: Bosch Riemenantrieb | AP32: 380-500V;3~ | AQ32: 230V | AR32: Wago | AS32: 750-881 | AT32: AB Powerflex 4M 0,37KW | AU32: Phoenix ELR 2A | AV32: Phoenix ELR 2A | AW32: Phoenix ELR 2A | AZ32: Nein | BB32: Lüfter 148mm | BE32: Elmo | BF32: 2BH-XX | BG32: 1,7KW | BH32: Ja | BI32: Wachenh.-Kirchner 230V | BK32: LS4208I | BL32: LD4 | BM32: 4092 | BN32: 9111 | BQ32: Keine | BR32: LD4 | BS32: 7,5m | BY32: Blau | CA32: Pentax 4.8mm 1:1.8 | CB32: Throl 50mm | CC32: Jai | CD32: 0° | CE32: HV (250V) | CG32: Rexroth | CR32: 16.07.12 BB | CU32: Maschine wurde 2012 bei SDS umgebaut und als gebrauchte verkauft
A33: ITT#021 | B33: ITT1-SD | D33: 1250 | E33: Nein | F33: Desser Tire | H33: USA | K33: 2001 | L33: 1 | M33: 4 | N33: 8.15C | O33: G1 | P33: ITT1/1 Stand7.3 | Q33: 922 | U33: Ott 24V | X33: Bosch | AC33: SEW | AE33: Bosch Riemenantrieb | AG33: Bosch Riemenantrieb | AI33: Bosch Riemenantrieb | AP33: 380-500V;3~ | AQ33: 115V | AR33: S5 | AS33: S95U | AT33: SEW Movitrac 07 | AU33: Schütz | AV33: Schütz | AW33: Schütz | BE33: Elmo | BF33: 2BH-XX | BG33: 1,7KW | BI33: Wachenh.-Kirchner 115V | BL33: LD1Ers | BM33: 1517 | BN33: 9455 | CB33: Throl 50mm | CE33: HV (250V) | CR33: 28.10.11 RH | CU33: Erst 1 Tür, dann 2 Türen, jetzt wieder 1 Tür. Auf Ott intern umgebaut.
A34: ITT#022 | B34: ITT2 | D34: 1250 | E34: Nein | F34: Renova | G34: Lima | H34: Peru | J34: 33 | K34: 2001 | L34: 1 | M34: 4 | N34: 25.117 | O34: G4 | P34: V_4_31_3_01_022 | Q34: 2316 | R34: 957 | S34: Nein | U34: Ott 24V | X34: Driverolls EC5000 | AC34: Schneider Electric | AE34: Schneider Electric | AF34: VRDM3910 | AG34: Schneider Electric | AH34: VRDM397 | AI34: Schneider Electric | AJ34: VRDM368 | AP34: 380-500V;3~ | AQ34: 230V | AR34: Wago | AS34: 750-8213 | AT34: SD328A U25 CAN | AU34: SD328A U25 CAN | AV34: SD328A U25 CAN | AW34: SD328A U25 CAN | AZ34: Nein | BB34: 300W 1~ alt | BC34: APC BK650EI 230V | BE34: Elmo | BF34: 2BH-XX | BG34: 1,7KW | BH34: Nein | BI34: Wachenh.-Kirchner 230V | BK34: DS4608 | BL34: LPD7 | BM34: 5675 | BQ34: LPD7 5V | BR34: LPD5/7 | BS34: 5m,12m | BT34: 8A, 8B | BU34: 5m, 10m | BV34: 1191 | BY34: Blau | BZ34: 4 | CE34: HV (250V) | CG34: Rexroth | CJ34: Keine | CO34: Messkopf mit neuen Dioden | CP34: 746078 | CQ34: 4.12.2023 PM | CR34: 07.12.2023 RH | CS34: 64929 | CT34: 746078 | CU34: Umbau auf G4, GigE, stand alone, Schmiernippel nachgerüstet 12.2023
A35: ITT#023 | B35: ITTCompact | E35: Nein | F35: Goodyear | G35: Danville | H35: USA | K35: 2002 | O35: G1 | CB35: Throl 50mm | CE35: HV (250V)
A36: ITT#024 | B36: ITT1-DD | D36: 1250 | E36: Nein | F36: Tipler | H36: Brasilien | J36: 37 | K36: 2001 | L36: 1 | M36: 4 | O36: G1 | P36: ITT1/2 Stand 5.3 | Q36: 923 | AC36: SEW | AE36: Bosch Riemenantrieb | AG36: Bosch Riemenantrieb | AI36: Bosch Riemenantrieb | AP36: 380-500V;3~ | AQ36: 230V | AR36: S5 + S7 | AS36: S95U | AT36: SEW Movitrac 07 | AU36: Schütz | AV36: Schütz | AW36: Schütz | BB36: 300W 1~ alt | BE36: Elmo | BF36: 2BH-XX | BG36: 1,7KW | BI36: Wachenh.-Kirchner 230V | BK36: LS4208I | BL36: LPD2 | BM36: 2002 | CB36: Throl 50mm | CE36: HV (250V)
A37: ITT#025 | B37: ITT1-DD | D37: 1250 | E37: Nein | F37: Drebor Buzetti | G37: Cuiaba | H37: Brasilien | I37: Drebor | J37: 36 | K37: 2001 | L37: 1 | M37: 4 | N37: 9.05 | O37: G1 | Q37: ohne Nummer | R37: 21 | U37: Ott 24V | X37: Bosch | Y37: Bosch | AC37: SEW | AE37: Bosch Riemenantrieb | AG37: Bosch Riemenantrieb | AI37: Bosch Riemenantrieb | AP37: 380-500V;3~ | AQ37: 230V | AR37: S5 + S7 | AS37: S95U | AT37: SEW Movitrac 07 | AU37: Schütz | AV37: Schütz | AW37: Schütz | BC37: Sonstige / vom Kunde | BE37: Elmo | BF37: 2BH-XX | BG37: 1,7KW | BH37: Ja | BI37: Wachenh.-Kirchner 230V | BL37: LPD2 | BM37: 2004 | BQ37: Keine | BR37: LD1 | BY37: Grün | BZ37: 4 | CB37: Throl 50mm | CE37: HV (250V) | CR37: 15.01.2021 RH | CU37: Aus Daten Maschinenmappe. Rechner mit MIL8, LPD2 auf COM5, D-Laufwerk fehlt
A38: ITT#026 | B38: ITT1-DD | E38: Nein | F38: Michelin Brasilien | G38: Itataia | H38: Brasilien | K38: 2001 | L38: 1 | M38: 4 | N38: 23.19 | O38: G4 | P38: V_5_12_2_01_026 | Q38: 2134 | U38: Ott 24V | X38: Bosch | AC38: SEW | AE38: Bosch Riemenantrieb | AG38: Bosch Riemenantrieb | AI38: Bosch Riemenantrieb | AP38: 380-500V;3~ | AQ38: 230V | AR38: Allen Bradley | AS38: 5069-L320ER | AT38: AB Powerflex 4M 0,37KW 1~ | AU38: Phoenix ELR 6A | AV38: Phoenix ELR 6A | AW38: Phoenix ELR 2A | BB38: Lüfter 148mm | BE38: Elmo | BF38: 2BH-XX | BG38: 1,7KW | BI38: Wachenh.-Kirchner 230V | BL38: LPD7 | BM38: 7555 | BQ38: LPD7 5V | BR38: LPD5/7 | BS38: 5 | BT38: 8A, 8B | BU38: 5m, 10m | BY38: Blau | BZ38: 4 | CA38: Pentax 4.8mm 1:1.8 | CB38: CPN-S | CC38: GigE MANTA G-235B | CD38: 0° | CE38: HV (250V) | CI38: nicht Verstärkt, nicht Vergossen | CR38: 03.11.2022 CG | CS38: 174766 | CT38: 7262 | CU38: G4 update, Win 10, Gig-E 09.22
A39: ITT#027 | B39: ITT2 | D39: 1500 | E39: Nein | F39: SDS Demo ex Continental Aachen | H39: Deutschland | J39: 42 | K39: 2001 | CU39: Verschrottet
A40: ITT#028 | B40: ITT1-SD | D40: 1250 | E40: Nein | F40: Yokohama Dev. Center ex Cooper Tire | G40: Cornelius, NC | H40: USA | K40: 2001 | L40: 1 | M40: 4 | N40: 23.15 | O40: G4 | P40: ITT_V_4_21_3_02_028 | U40: Ott 24V | X40: Bosch | AC40: SEW | AE40: Bosch Riemenantrieb | AG40: Bosch Riemenantrieb | AI40: Bosch Riemenantrieb | AR40: Wago | AS40: S95U | AT40: AB Powerflex 4M 0,37KW 1~ | AU40: Phoenix ELR 2A | AV40: Phoenix ELR 2A | AW40: Phoenix ELR 2A | BG40: 1,6KW | BH40: Ja | BI40: SDS 1 Zylinder 120mm | BL40: LD4 | BQ40: Keine | BR40: LD4 | BT40: 8A, 8B | BV40: 1075 | BY40: Blau | CE40: HV (250V) | CJ40: Bilz | CR40: 19.08.2024 RH | CU40: Werte aus Ablage. G4-Umbau von RW in 2012| WIN 10 GigE-Update 08/2021 durch CMI |08_2024: Neuer Kunde. Vorher Cooper Findley
A41: ITT#029 | E41: Nein | F41: BFS Retread Division | G41: Nashville | H41: USA | I41: BFS | J41: 1 | K41: 2002 | O41: G1 | CB41: Throl 50mm | CE41: HV (250V)
A42: ITT#030 | B42: ITT1-DD | D42: 1250 | E42: Nein | F42: Tiresol | H42: Peru | J42: 52 | K42: 2001 | L42: 1 | M42: 4 | N42: 8.18C | O42: G1 | P42: ITT1/2 Stand 5.1 | Q42: 1303 | U42: Engel | X42: Bosch | Y42: Bosch | Z42: Bosch/pneumatische Wippe | AC42: SEW | AE42: Bosch Riemenantrieb | AG42: Bosch Riemenantrieb | AI42: Bosch Riemenantrieb | AP42: 230V Kein Trafo | AQ42: 230V | AR42: S5 + S7 | AS42: S95U | AT42: SEW Movitrac 07 | AU42: Schütz | AV42: Schütz | AW42: Schütz | AZ42: Nein | BB42: Lüfter 148mm | BC42: Nein | BE42: Elmo | BF42: 2BH-XX | BG42: 1,7KW | BH42: Nein | BI42: Wachenh.-Kirchner 230V | BK42: Nein | BL42: LD3 | BQ42: Keine | BR42: LD3 | BT42: 5A? (Bild) | BY42: Blau | BZ42: 4 | CA42: Pentax 4.8mm 1:1.8 | CB42: Throl 50mm | CC42: Teli | CD42: 0° | CE42: HV (250V) | CG42: Rexroth | CJ42: Keine | CR42: 21.4.2015 RH+TH | CU42: Auf blaue Dioden umgebaut
A43: ITT#031 | B43: ITT2 | D43: 1250 | E43: Nein | F43: Bridgestone - Tire Test Lab | G43: Akron, OH | H43: USA | I43: BFS | K43: 2002 | L43: 1 | M43: 4 | N43: 12.09 | O43: G1 | Q43: 1023 | R43: 33 | U43: Ott 24V | AC43: Schneider Electric | AE43: Schneider Electric | AG43: Schneider Electric | AI43: Schneider Electric | AP43: 380-500V;3~ | AQ43: 115V | AR43: S5 + S7 | AS43: S95U | AT43: TLD011 | AU43: TLD011 | AV43: TLD011 | AW43: TLD011 | BE43: Elmo | BF43: 2BH-XX | BG43: 1,7KW | BI43: Wachenh.-Kirchner 115V | BL43: LD3 | BM43: 3041 | BN43: 9177 | BQ43: Keine | BR43: Profile | BY43: Blau | BZ43: 4 | CB43: Throl 50mm | CE43: HV (250V) | CR43: 24.09.2014 RH | CU43: Umbau auf Ott-Motor KW18.2011 durch RW
...

Sheet Liste
A2: Eingabe SN: | B2: ITT#429 | C2: Anlagendaten aktuell
C5: Seriennummer | D5: A | E5: =VLOOKUP($B$2,Anlagen!$A$13:$CU$823,COLUMN(Anlagen!A:A),0) -> ITT#429
C6: Typ | D6: B | E6: =VLOOKUP($B$2,Anlagen!$A$13:$CU$823,COLUMN(Anlagen!B:B),0) -> ITT1-DD
C7: Ausführung | D7: C | E7: =VLOOKUP($B$2,Anlagen!$A$13:$CU$823,COLUMN(Anlagen!C:C),0) -> 0
C8: Größe | D8: D | E8: =VLOOKUP($B$2,Anlagen!$A$13:$CU$823,COLUMN(Anlagen!D:D),0) -> 1680
C9: TOF | E9: =VLOOKUP($B$2,Anlagen!$A$13:$CU$823,COLUMN(Anlagen!E:E),0) -> IL Band
B10: Kunde | C10: Name | D10: E | E10: =VLOOKUP($B$2,Anlagen!$A$13:$CU$823,COLUMN(Anlagen!F:F),0) -> Huangpu Tire
C11: Stadt | D11: F | E11: =VLOOKUP($B$2,Anlagen!$A$13:$CU$823,COLUMN(Anlagen!G:G),0) -> Hohhot, Innere Mongolei
C12: Land | D12: G | E12: =VLOOKUP($B$2,Anlagen!$A$13:$CU$823,COLUMN(Anlagen!H:H),0) -> China
C13: Konzern | D13: H | E13: =VLOOKUP($B$2,Anlagen!$A$13:$CU$823,COLUMN(Anlagen!I:I),0) -> 0
B14: Auslieferungsdatum | C14: KW | D14: I | E14: =VLOOKUP($B$2,Anlagen!$A$13:$CU$823,COLUMN(Anlagen!J:J),0) -> 0
C15: Jahr | D15: J | E15: =VLOOKUP($B$2,Anlagen!$A$13:$CU$823,COLUMN(Anlagen!K:K),0) -> 0
C16: Anzahl Meßköpfe | D16: K | E16: =VLOOKUP($B$2,Anlagen!$A$13:$CU$823,COLUMN(Anlagen!L:L),0) -> 2
C17: Anzahl Achsen | D17: L | E17: =VLOOKUP($B$2,Anlagen!$A$13:$CU$823,COLUMN(Anlagen!M:M),0) -> 0
A18: Software | C18: ITTMes/View | D18: M | E18: =VLOOKUP($B$2,Anlagen!$A$13:$CU$823,COLUMN(Anlagen!N:N),0) -> 0
C19: PLC Softw.Generation | D19: N | E19: =VLOOKUP($B$2,Anlagen!$A$13:$CU$823,COLUMN(Anlagen!O:O),0) -> 0
C20: PLC Softw. Version | D20: O | E20: =VLOOKUP($B$2,Anlagen!$A$13:$CU$823,COLUMN(Anlagen!P:P),0) -> 0
C21: CU-Nummer | D21: P | E21: =VLOOKUP($B$2,Anlagen!$A$13:$CU$823,COLUMN(Anlagen!Q:Q),0) -> 0
C22: Dongle Nr. | D22: Q | E22: =VLOOKUP($B$2,Anlagen!$A$13:$CU$823,COLUMN(Anlagen!R:R),0) -> 0
C23: Konturmessung | E23: =VLOOKUP($B$2,Anlagen!$A$13:$CU$823,COLUMN(Anlagen!S:S),0) -> 0
C24: Sonstige | D24: R | E24: =VLOOKUP($B$2,Anlagen!$A$13:$CU$823,COLUMN(Anlagen!T:T),0) -> 0
A25: Mechanik | B25: Motoren | C25: Internes Band | D25: S | E25: =VLOOKUP($B$2,Anlagen!$A$13:$CU$823,COLUMN(Anlagen!U:U),0) -> 0
C26: TOF | D26: T | E26: =VLOOKUP($B$2,Anlagen!$A$13:$CU$823,COLUMN(Anlagen!V:V),0) -> 0
C27: Echternach | D27: U | E27: =VLOOKUP($B$2,Anlagen!$A$13:$CU$823,COLUMN(Anlagen!W:W),0) -> 0
C28: Belader | D28: V | E28: =VLOOKUP($B$2,Anlagen!$A$13:$CU$823,COLUMN(Anlagen!X:X),0) -> 0
C29: Förderbänder | D29: W | E29: =VLOOKUP($B$2,Anlagen!$A$13:$CU$823,COLUMN(Anlagen!Y:Y),0) -> 0
C30: 90° Module | D30: X | E30: =VLOOKUP($B$2,Anlagen!$A$13:$CU$823,COLUMN(Anlagen!Z:Z),0) -> 0
B31: Rotate | C31: Typ | D31: AA | E31: =VLOOKUP($B$2,Anlagen!$A$13:$CU$823,COLUMN(Anlagen!AC:AC),0) -> 0
C32: Nr | D32: AB | E32: =VLOOKUP($B$2,Anlagen!$A$13:$CU$823,COLUMN(Anlagen!AD:AD),0) -> 0
B33: Lift | C33: Typ | D33: AC | E33: =VLOOKUP($B$2,Anlagen!$A$13:$CU$823,COLUMN(Anlagen!AE:AE),0) -> 0
C34: Nr | D34: AD | E34: =VLOOKUP($B$2,Anlagen!$A$13:$CU$823,COLUMN(Anlagen!AF:AF),0) -> 0
B35: Shift | C35: Typ | D35: AE | E35: =VLOOKUP($B$2,Anlagen!$A$13:$CU$823,COLUMN(Anlagen!AG:AG),0) -> 0
C36: Nr | D36: AF | E36: =VLOOKUP($B$2,Anlagen!$A$13:$CU$823,COLUMN(Anlagen!AH:AH),0) -> 0
B37: Tilt | C37: Typ | D37: AG | E37: =VLOOKUP($B$2,Anlagen!$A$13:$CU$823,COLUMN(Anlagen!AI:AI),0) -> 0
C38: Nr | D38: AH | E38: =VLOOKUP($B$2,Anlagen!$A$13:$CU$823,COLUMN(Anlagen!AJ:AJ),0) -> 0
A39: Mechanik | B39: Länge Kette | C39: TOF spannen | E39: =VLOOKUP($B$2,Anlagen!$A$13:$CU$823,COLUMN(Anlagen!AK:AK),0) -> 0
C40: Riemen 90° Modul | D40: AI | E40: =VLOOKUP($B$2,Anlagen!$A$13:$CU$823,COLUMN(Anlagen!AL:AL),0) -> 0
E41: =VLOOKUP($B$2,Anlagen!$A$13:$CU$823,COLUMN(Anlagen!AM:AM),0) -> 0
C42: Sonstiges | E42: =VLOOKUP($B$2,Anlagen!$A$13:$CU$823,COLUMN(Anlagen!AN:AN),0) -> 0
D43: AJ | E43: =VLOOKUP($B$2,Anlagen!$A$13:$CU$823,COLUMN(Anlagen!AO:AO),0) -> 0
...

Sheet Liste Englisch
A2: Eingabe SN: | B2: ITT#331 | C2: Actual machine data
A5: Machine data | C5: Serial No. | D5: A | E5: =VLOOKUP($B$2,Anlagen!$A$13:$CU$823,COLUMN(Anlagen!A:A),0) -> ITT#331
C6: Type | D6: B | E6: =VLOOKUP($B$2,Anlagen!$A$13:$CU$823,COLUMN(Anlagen!B:B),0) -> ITT2
C7: Version | D7: C | E7: =VLOOKUP($B$2,Anlagen!$A$13:$CU$823,COLUMN(Anlagen!C:C),0) -> 0
C8: Size | D8: D | E8: =VLOOKUP($B$2,Anlagen!$A$13:$CU$823,COLUMN(Anlagen!D:D),0) -> 1680
A9: Customer data | C9: Name | D9: E | E9: =VLOOKUP($B$2,Anlagen!$A$13:$CU$823,COLUMN(Anlagen!F:F),0) -> Michelin NKE
C10: City | D10: F | E10: =VLOOKUP($B$2,Anlagen!$A$13:$CU$823,COLUMN(Anlagen!G:G),0) -> 0
C11: Country | D11: G | E11: =VLOOKUP($B$2,Anlagen!$A$13:$CU$823,COLUMN(Anlagen!H:H),0) -> Thailand
C12: Group | D12: H | E12: =VLOOKUP($B$2,Anlagen!$A$13:$CU$823,COLUMN(Anlagen!I:I),0) -> Michelin Aircraft
B13: Delivery date | C13: Week | D13: I | E13: =VLOOKUP($B$2,Anlagen!$A$13:$CU$823,COLUMN(Anlagen!J:J),0) -> 24
C14: Year | D14: J | E14: =VLOOKUP($B$2,Anlagen!$A$13:$CU$823,COLUMN(Anlagen!K:K),0) -> 2019
A15: Measuring head | C15: Number of measuring heads | D15: K | E15: =VLOOKUP($B$2,Anlagen!$A$13:$CU$823,COLUMN(Anlagen!L:L),0) -> 3
C16: Number of axis | D16: L | E16: =VLOOKUP($B$2,Anlagen!$A$13:$CU$823,COLUMN(Anlagen!M:M),0) -> 10
A17: Software | C17: ITTMess/View version | D17: M | E17: =VLOOKUP($B$2,Anlagen!$A$13:$CU$823,COLUMN(Anlagen!N:N),0) -> 0
C18: PLC softw.generation | D18: N | E18: =VLOOKUP($B$2,Anlagen!$A$13:$CU$823,COLUMN(Anlagen!O:O),0) -> G4
C19: PLC softw. version | D19: O | E19: =VLOOKUP($B$2,Anlagen!$A$13:$CU$823,COLUMN(Anlagen!P:P),0) -> V_4_14_2_01_331 - TCD: V_1_03_3_01_331
C20: CU number | D20: P | E20: =VLOOKUP($B$2,Anlagen!$A$13:$CU$823,COLUMN(Anlagen!Q:Q),0) -> 2515
C21: Dongle Number | D21: Q | E21: =VLOOKUP($B$2,Anlagen!$A$13:$CU$823,COLUMN(Anlagen!R:R),0) -> 1053
A22: contour measurement | C22: contour measurement | D22: R | E22: =VLOOKUP($B$2,Anlagen!$A$13:$CU$823,COLUMN(Anlagen!S:S),0) -> Sick OD1000
C23: Others | D23: S | E23: =VLOOKUP($B$2,Anlagen!$A$13:$CU$823,COLUMN(Anlagen!T:T),0) -> 0
A24: Mechanic | B24: motors | C24: internal belt | D24: T | E24: =VLOOKUP($B$2,Anlagen!$A$13:$CU$823,COLUMN(Anlagen!U:U),0) -> Trommel DM0113 370W 1200mm Version ab 2019
C25: TOF | D25: U | E25: =VLOOKUP($B$2,Anlagen!$A$13:$CU$823,COLUMN(Anlagen!V:V),0) -> Trommel DM0113 370W 1200mm Version ab 2019
C26: Echternach | D26: V | E26: =VLOOKUP($B$2,Anlagen!$A$13:$CU$823,COLUMN(Anlagen!W:W),0) -> Trommel DM0113 370W 1200mm Version ab 2019
C27: loader | D27: W | E27: =VLOOKUP($B$2,Anlagen!$A$13:$CU$823,COLUMN(Anlagen!X:X),0) -> Driverolls EC310
C28: conveyor belts | D28: X | E28: =VLOOKUP($B$2,Anlagen!$A$13:$CU$823,COLUMN(Anlagen!Y:Y),0) -> 0
C29: 90° Modules | D29: Y | E29: =VLOOKUP($B$2,Anlagen!$A$13:$CU$823,COLUMN(Anlagen!Z:Z),0) -> 0
D30: Z | E30: =VLOOKUP($B$2,Anlagen!$A$13:$CU$823,COLUMN(Anlagen!AA:AA),0) -> 0
D31: AA | E31: =VLOOKUP($B$2,Anlagen!$A$13:$CU$823,COLUMN(Anlagen!AB:AB),0) -> 0
B32: Rotate | C32: Type | D32: AB | E32: =VLOOKUP($B$2,Anlagen!$A$13:$CU$823,COLUMN(Anlagen!AC:AC),0) -> Schneider Electric
C33: Number | D33: AC | E33: =VLOOKUP($B$2,Anlagen!$A$13:$CU$823,COLUMN(Anlagen!AD:AD),0) -> VRDM31117
B34: Lift | C34: Type | D34: AD | E34: =VLOOKUP($B$2,Anlagen!$A$13:$CU$823,COLUMN(Anlagen!AE:AE),0) -> Schneider Electric
C35: Number | D35: AE | E35: =VLOOKUP($B$2,Anlagen!$A$13:$CU$823,COLUMN(Anlagen!AF:AF),0) -> VRDM397
B36: Shift | C36: Type | D36: AF | E36: =VLOOKUP($B$2,Anlagen!$A$13:$CU$823,COLUMN(Anlagen!AG:AG),0) -> Schneider Electric
C37: Number | D37: AG | E37: =VLOOKUP($B$2,Anlagen!$A$13:$CU$823,COLUMN(Anlagen!AH:AH),0) -> VRDM368
B38: Tilt | C38: Type | D38: AH | E38: =VLOOKUP($B$2,Anlagen!$A$13:$CU$823,COLUMN(Anlagen!AI:AI),0) -> Ott Tilt
C39: Number | D39: AI | E39: =VLOOKUP($B$2,Anlagen!$A$13:$CU$823,COLUMN(Anlagen!AJ:AJ),0) -> XDP045012
A40: Mechanic | B40: Chain length | C40: TOF Clamping | D40: AJ | E40: =VLOOKUP($B$2,Anlagen!$A$13:$CU$823,COLUMN(Anlagen!AK:AK),0) -> 0
C41: Belts 90° Module | D41: AK | E41: =VLOOKUP($B$2,Anlagen!$A$13:$CU$823,COLUMN(Anlagen!AL:AL),0) -> 0
D42: AL | E42: =VLOOKUP($B$2,Anlagen!$A$13:$CU$823,COLUMN(Anlagen!AM:AM),0) -> 0
C43: Others | D43: AM | E43: =VLOOKUP($B$2,Anlagen!$A$13:$CU$823,COLUMN(Anlagen!AN:AN),0) -> 0
...

Sheet Auswahltabellen
A1: Auswahltabellen für Anlagen
A3: Anlagen!B8
A5: Maschinentypen | B5: Beschreibung | C5: Ausführung | D5: Beschreibung | E5: Größen
A7: ITT1/1Tür | B7: Bosch-Motoren | C7: A | D7: Runddeckel | E7: 1300
A8: ITT1/2Türen | B8: Bosch-Motoren | C8: B | D8: Pneum. Deckel | E8: 1500
C9: C
A10: ITT1-SD
A11: ITT1-DD
A12: ITT1-DD ITOF
A14: ITT2 | B14: Schrittmotoren, Seperater Schaltschrank | E14: 850
A15: ITT3 | B15: Schrittmotoren, Schaltschrank in Maschine eingebaut
A17: ITTCompact
E18: 1250
A19: OTR | B19: Marangoni Typ | E19: 1280
B20: Marangoni Typ
A21: S1000 | B21: MRT-Typ Steibi | E21: 1650
A22: S2000 | B22: MRT-Typ SDS Schrittmotoren | E22: 1680
B23: MRT-Typ SDS Bosch-Motoren
A24: CIA1 | E24: 2100
A25: CIA2 | E25: 2400
A26: CIA3
A27: CIA4
E28: 4500
A29: Fördertechnik

Sheet Motor-Riemen-Auswahl 90° Module
B2: Motor-Riemen-Übersicht 90°-Module | L2: RH 11.10.2017
E8: Motor Rollenantrieb | F8: Zahnrad Motor | G8: Riemen | H8: Zahnrad Welle | J8: Motor Bandantrieb | K8: Zahnrad Motor | L8: Riemen | M8: Zahnrad Welle
B10: 90°-Module bis 11/2011 | E10: Bosch 67W | F10: 36T5/40-2 | G10: T5/390 | H10: 36T5/18-2 | J10: Ott 24V | K10: 36T5/27-2 | L10: T5/390 | M10: 36T536-2
B11: Conti ITT#220 | E11: Bosch 67W | F11: 36T5/40-2 | G11: T5/390 | H11: 36T5/18-2 | J11: Ott 24V | K11: 36AT5/36-2 | L11: AT5/390 | M11: 36AT5/27-2
B12: 90°-Module ab 11/2011 | E12: Bosch 43W | F12: 36AT5/27-2 | G12: AT5/390 | H12: 36AT5/20-2 | J12: Ott 24V | K12: 36AT5/36-2 | L12: AT5/390 | M12: 36AT5/27-2
B14: 90°-Module bis 11/2011 aber AT Riemenantrieb | E14: Bosch 67W oder Ott 38W | F14: 36T5/40-2 | G14: T5/390 | H14: 36T5/18-2 | J14: Ott 24V | K14: 36AT5/27-2 | L14: AT5/390 | M14: 36AT5/36-2

Sheet NA-machines
A1: Machine data | E1: Customer data | K1: Measuring head | M1: Software | R1: contour measurement | T1: Mechanic | AH1: Mechanic | AN1: Electric | BC1: Vacuum system | BJ1: Measuring system
I2: Delivery date | T2: motors | Z2: Rotate | AB2: Lift | AD2: Shift | AF2: Tilt | AH2: Chain lenght | AN2: Voltage | AR2: Drives | AV2: Frequency converter | AW2: Frequency converter | BJ2: Laser diode driver | BO2: Cables | BQ2: Video cable | BS2: Measuring head | BZ2: Manufacturer | CA2: Isolators | CB2: Isolators | CC2: Air pressure | CD2: Air pressure | CE2: Air pressure | CF2: Last exchange | CK2: Counters
A3: Serial No. | B3: Type | C3: Version | D3: Size | E3: Name | F3: City | G3: Country | H3: Group | I3: Week | J3: Year | K3: Number of measuring heads | L3: Number of axis | M3: ITTMess/View version | N3: PLC softw.generation | O3: PLC softw. version | P3: Computer number | Q3: Dongle Number | R3: contour measurement | S3: Others | T3: internal belt | U3: TOF | V3: Echternach | W3: loader | X3: conveyor belts | Y3: 90° Modules | Z3: Type | AA3: Number | AB3: Type | AC3: Number | AD3: Type | AE3: Number | AF3: Type | AG3: Number | AH3: TOF Clamping | AI3: Belts 90° Module | AK3: Others | AN3: Input | AO3: internal | AP3: Controller | AQ3: Type | AR3: Rotate | AS3: Lift | AT3: Shift | AU3: Tilt | AV3: Conveyor | AW3: TOF | AX3: Safety carpet | AZ3: Climatisation | BA3: UPS | BC3: pump manufacturer | BD3: Type | BE3: Power | BF3: quick exhaust valve | BG3: vacuum valve type | BI3: Barcode reader | BJ3: Type | BK3: Serial Number | BL3: Serial Number of 1. PD1 | BM3: Serial Number of 2. PD1 | BN3: Serial Number of 3. PD1 | BO3: Diode cable | BP3: Length | BQ3: Types | BR3: Länge | BS3: Diode color label | BT3: Amount of diodes in head | BU3: Objective | BV3: Internal optics | BW3: Camera | BX3: Shear angle | BZ3: Precision rollers, guide lines | CA3: Manufacturer | CB3: Typ | CC3: Main pressure | CD3: TOF Clamping | CE3: Isolators | CF3: Head/Diodes | CG3: Date | CJ3: Date | CK3: Cycles | CL3: Hours | CM3: Specials, others
A5: ITT#003 | B5: =VLOOKUP($A5,Anlagen!$A$13:$CU$823,COLUMN(Anlagen!B:B),0) -> 0 | C5: =VLOOKUP($A5,Anlagen!$A$13:$CU$823,COLUMN(Anlagen!C:C),0) -> 0 | D5: =VLOOKUP($A5,Anlagen!$A$13:$CU$823,COLUMN(Anlagen!D:D),0) -> 0 | E5: =VLOOKUP($A5,Anlagen!$A$13:$CU$823,COLUMN(Anlagen!F:F),0) -> Continental | F5: =VLOOKUP($A5,Anlagen!$A$13:$CU$823,COLUMN(Anlagen!G:G),0) -> Mt. Vernon, IL | G5: =VLOOKUP($A5,Anlagen!$A$13:$CU$823,COLUMN(Anlagen!H:H),0) -> USA | H5: =VLOOKUP($A5,Anlagen!$A$13:$CU$823,COLUMN(Anlagen!I:I),0) -> Continental | I5: =VLOOKUP($A5,Anlagen!$A$13:$CU$823,COLUMN(Anlagen!J:J),0) -> 0 | J5: =VLOOKUP($A5,Anlagen!$A$13:$CU$823,COLUMN(Anlagen!K:K),0) -> 2003 | K5: =VLOOKUP($A5,Anlagen!$A$13:$CU$823,COLUMN(Anlagen!L:L),0) -> 0 | L5: =VLOOKUP($A5,Anlagen!$A$13:$CU$823,COLUMN(Anlagen!M:M),0) -> 0 | M5: =VLOOKUP($A5,Anlagen!$A$13:$CU$823,COLUMN(Anlagen!N:N),0) -> 0 | N5: =VLOOKUP($A5,Anlagen!$A$13:$CU$823,COLUMN(Anlagen!O:O),0) -> 0 | O5: =VLOOKUP($A5,Anlagen!$A$13:$CU$823,COLUMN(Anlagen!P:P),0) -> 0 | P5: =VLOOKUP($A5,Anlagen!$A$13:$CU$823,COLUMN(Anlagen!Q:Q),0) -> 0 | Q5: =VLOOKUP($A5,Anlagen!$A$13:$CU$823,COLUMN(Anlagen!R:R),0) -> 0 | R5: =VLOOKUP($A5,Anlagen!$A$13:$CU$823,COLUMN(Anlagen!S:S),0) -> 0 | S5: =VLOOKUP($A5,Anlagen!$A$13:$CU$823,COLUMN(Anlagen!T:T),0) -> 0 | T5: =VLOOKUP($A5,Anlagen!$A$13:$CU$823,COLUMN(Anlagen!U:U),0) -> 0 | U5: =VLOOKUP($A5,Anlagen!$A$13:$CU$823,COLUMN(Anlagen!V:V),0) -> 0 | V5: =VLOOKUP($A5,Anlagen!$A$13:$CU$823,COLUMN(Anlagen!W:W),0) -> 0 | W5: =VLOOKUP($A5,Anlagen!$A$13:$CU$823,COLUMN(Anlagen!X:X),0) -> 0 | X5: =VLOOKUP($A5,Anlagen!$A$13:$CU$823,COLUMN(Anlagen!Y:Y),0) -> 0 | Y5: =VLOOKUP($A5,Anlagen!$A$13:$CU$823,COLUMN(Anlagen!Z:Z),0) -> 0 | Z5: =VLOOKUP($A5,Anlagen!$A$13:$CU$823,COLUMN(Anlagen!AC:AC),0) -> 0 | AA5: =VLOOKUP($A5,Anlagen!$A$13:$CU$823,COLUMN(Anlagen!AD:AD),0) -> 0 | AB5: =VLOOKUP($A5,Anlagen!$A$13:$CU$823,COLUMN(Anlagen!AE:AE),0) -> 0 | AC5: =VLOOKUP($A5,Anlagen!$A$13:$CU$823,COLUMN(Anlagen!AF:AF),0) -> 0 | AD5: =VLOOKUP($A5,Anlagen!$A$13:$CU$823,COLUMN(Anlagen!AG:AG),0) -> 0 | AE5: =VLOOKUP($A5,Anlagen!$A$13:$CU$823,COLUMN(Anlagen!AH:AH),0) -> 0 | AF5: =VLOOKUP($A5,Anlagen!$A$13:$CU$823,COLUMN(Anlagen!AI:AI),0) -> 0 | AG5: =VLOOKUP($A5,Anlagen!$A$13:$CU$823,COLUMN(Anlagen!AJ:AJ),0) -> 0 | AH5: =VLOOKUP($A5,Anlagen!$A$13:$CU$823,COLUMN(Anlagen!AK:AK),0) -> 0 | AI5: =VLOOKUP($A5,Anlagen!$A$13:$CU$823,COLUMN(Anlagen!AL:AL),0) -> 0 | AJ5: =VLOOKUP($A5,Anlagen!$A$13:$CU$823,COLUMN(Anlagen!AM:AM),0) -> 0 | AK5: =VLOOKUP($A5,Anlagen!$A$13:$CU$823,COLUMN(Anlagen!AN:AN),0) -> 0 | AM5: =VLOOKUP($A5,Anlagen!$A$13:$CU$823,COLUMN(Anlagen!AO:AO),0) -> 0 | AN5: =VLOOKUP($A5,Anlagen!$A$13:$CU$823,COLUMN(Anlagen!AP:AP),0) -> 0 | AO5: =VLOOKUP($A5,Anlagen!$A$13:$CU$823,COLUMN(Anlagen!AQ:AQ),0) -> 0 | AP5: =VLOOKUP($A5,Anlagen!$A$13:$CU$823,COLUMN(Anlagen!AR:AR),0) -> 0 | AQ5: =VLOOKUP($A5,Anlagen!$A$13:$CU$823,COLUMN(Anlagen!AS:AS),0) -> 0 | AR5: =VLOOKUP($A5,Anlagen!$A$13:$CU$823,COLUMN(Anlagen!AT:AT),0) -> 0 | AS5: =VLOOKUP($A5,Anlagen!$A$13:$CU$823,COLUMN(Anlagen!AU:AU),0) -> 0 | AT5: =VLOOKUP($A5,Anlagen!$A$13:$CU$823,COLUMN(Anlagen!AV:AV),0) -> 0 | AU5: =VLOOKUP($A5,Anlagen!$A$13:$CU$823,COLUMN(Anlagen!AW:AW),0) -> 0 | AV5: =VLOOKUP($A5,Anlagen!$A$13:$CU$823,COLUMN(Anlagen!AX:AX),0) -> 0 | AW5: =VLOOKUP($A5,Anlagen!$A$13:$CU$823,COLUMN(Anlagen!AY:AY),0) -> 0 | AX5: =VLOOKUP($A5,Anlagen!$A$13:$CU$823,COLUMN(Anlagen!AZ:AZ),0) -> 0 | AY5: =VLOOKUP($A5,Anlagen!$A$13:$CU$823,COLUMN(Anlagen!BA:BA),0) -> 0 | AZ5: =VLOOKUP($A5,Anlagen!$A$13:$CU$823,COLUMN(Anlagen!BB:BB),0) -> 0 | BA5: =VLOOKUP($A5,Anlagen!$A$13:$CU$823,COLUMN(Anlagen!BC:BC),0) -> 0 | BB5: =VLOOKUP($A5,Anlagen!$A$13:$CU$823,COLUMN(Anlagen!BD:BD),0) -> 0 | BC5: =VLOOKUP($A5,Anlagen!$A$13:$CU$823,COLUMN(Anlagen!BE:BE),0) -> 0 | BD5: =VLOOKUP($A5,Anlagen!$A$13:$CU$823,COLUMN(Anlagen!BF:BF),0) -> 0 | BE5: =VLOOKUP($A5,Anlagen!$A$13:$CU$823,COLUMN(Anlagen!BG:BG),0) -> 0 | BF5: =VLOOKUP($A5,Anlagen!$A$13:$CU$823,COLUMN(Anlagen!BH:BH),0) -> 0 | BG5: =VLOOKUP($A5,Anlagen!$A$13:$CU$823,COLUMN(Anlagen!BI:BI),0) -> 0 | BH5: =VLOOKUP($A5,Anlagen!$A$13:$CU$823,COLUMN(Anlagen!BJ:BJ),0) -> 0 | BI5: =VLOOKUP($A5,Anlagen!$A$13:$CU$823,COLUMN(Anlagen!BK:BK),0) -> 0 | BJ5: =VLOOKUP($A5,Anlagen!$A$13:$CU$823,COLUMN(Anlagen!BL:BL),0) -> 0 | BK5: =VLOOKUP($A5,Anlagen!$A$13:$CU$823,COLUMN(Anlagen!BM:BM),0) -> 0 | BL5: =VLOOKUP($A5,Anlagen!$A$13:$CU$823,COLUMN(Anlagen!BN:BN),0) -> 0 | BM5: =VLOOKUP($A5,Anlagen!$A$13:$CU$823,COLUMN(Anlagen!BO:BO),0) -> 0 | BN5: =VLOOKUP($A5,Anlagen!$A$13:$CU$823,COLUMN(Anlagen!BP:BP),0) -> 0 | BO5: =VLOOKUP($A5,Anlagen!$A$13:$CU$823,COLUMN(Anlagen!BR:BR),0) -> 0 | BP5: =VLOOKUP($A5,Anlagen!$A$13:$CU$823,COLUMN(Anlagen!BS:BS),0) -> 0 | BQ5: =VLOOKUP($A5,Anlagen!$A$13:$CU$823,COLUMN(Anlagen!BT:BT),0) -> 0 | BR5: =VLOOKUP($A5,Anlagen!$A$13:$CU$823,COLUMN(Anlagen!BU:BU),0) -> 0 | BS5: =VLOOKUP($A5,Anlagen!$A$13:$CU$823,COLUMN(Anlagen!BY:BY),0) -> 0 | BT5: =VLOOKUP($A5,Anlagen!$A$13:$CU$823,COLUMN(Anlagen!BZ:BZ),0) -> 0 | BU5: =VLOOKUP($A5,Anlagen!$A$13:$CU$823,COLUMN(Anlagen!CA:CA),0) -> 0 | BV5: =VLOOKUP($A5,Anlagen!$A$13:$CU$823,COLUMN(Anlagen!CB:CB),0) -> Throl 50mm | BW5: =VLOOKUP($A5,Anlagen!$A$13:$CU$823,COLUMN(Anlagen!CC:CC),0) -> 0 | BX5: =VLOOKUP($A5,Anlagen!$A$13:$CU$823,COLUMN(Anlagen!CD:CD),0) -> 0 | BY5: =VLOOKUP($A5,Anlagen!$A$13:$CU$823,COLUMN(Anlagen!CE:CE),0) -> HV (250V) | BZ5: =VLOOKUP($A5,Anlagen!$A$13:$CU$823,COLUMN(Anlagen!CG:CG),0) -> 0 | CA5: =VLOOKUP($A5,Anlagen!$A$13:$CU$823,COLUMN(Anlagen!CH:CH),0) -> 0 | CB5: =VLOOKUP($A5,Anlagen!$A$13:$CU$823,COLUMN(Anlagen!CJ:CJ),0) -> 0 | CC5: =VLOOKUP($A5,Anlagen!$A$13:$CU$823,COLUMN(Anlagen!CK:CK),0) -> 0 | CD5: =VLOOKUP($A5,Anlagen!$A$13:$CU$823,COLUMN(Anlagen!CL:CL),0) -> 0 | CE5: =VLOOKUP($A5,Anlagen!$A$13:$CU$823,COLUMN(Anlagen!CM:CM),0) -> 0 | CF5: =VLOOKUP($A5,Anlagen!$A$13:$CU$823,COLUMN(Anlagen!CN:CN),0) -> 0 | CG5: =VLOOKUP($A5,Anlagen!$A$13:$CU$823,COLUMN(Anlagen!CO:CO),0) -> 0 | CH5: =VLOOKUP($A5,Anlagen!$A$13:$CU$823,COLUMN(Anlagen!CP:CP),0) -> 0 | CI5: =VLOOKUP($A5,Anlagen!$A$13:$CU$823,COLUMN(Anlagen!CQ:CQ),0) -> 0 | CJ5: =VLOOKUP($A5,Anlagen!$A$13:$CU$823,COLUMN(Anlagen!CR:CR),0) -> 0 | CK5: =VLOOKUP($A5,Anlagen!$A$13:$CU$823,COLUMN(Anlagen!CS:CS),0) -> 0 | CL5: =VLOOKUP($A5,Anlagen!$A$13:$CU$823,COLUMN(Anlagen!CT:CT),0) -> 0
A6: ITT#004 | B6: =VLOOKUP($A6,Anlagen!$A$13:$CU$823,COLUMN(Anlagen!B:B),0) -> ITT2 | C6: =VLOOKUP($A6,Anlagen!$A$13:$CU$823,COLUMN(Anlagen!C:C),0) -> 0 | D6: =VLOOKUP($A6,Anlagen!$A$13:$CU$823,COLUMN(Anlagen!D:D),0) -> 0 | E6: =VLOOKUP($A6,Anlagen!$A$13:$CU$823,COLUMN(Anlagen!F:F),0) -> Michelin US3 | F6: =VLOOKUP($A6,Anlagen!$A$13:$CU$823,COLUMN(Anlagen!G:G),0) -> Spartanburg | G6: =VLOOKUP($A6,Anlagen!$A$13:$CU$823,COLUMN(Anlagen!H:H),0) -> USA | H6: =VLOOKUP($A6,Anlagen!$A$13:$CU$823,COLUMN(Anlagen!I:I),0) -> 0 | I6: =VLOOKUP($A6,Anlagen!$A$13:$CU$823,COLUMN(Anlagen!J:J),0) -> 0 | J6: =VLOOKUP($A6,Anlagen!$A$13:$CU$823,COLUMN(Anlagen!K:K),0) -> 0 | K6: =VLOOKUP($A6,Anlagen!$A$13:$CU$823,COLUMN(Anlagen!L:L),0) -> 1 | L6: =VLOOKUP($A6,Anlagen!$A$13:$CU$823,COLUMN(Anlagen!M:M),0) -> 4 | M6: =VLOOKUP($A6,Anlagen!$A$13:$CU$823,COLUMN(Anlagen!N:N),0) -> 8.22C9 | N6: =VLOOKUP($A6,Anlagen!$A$13:$CU$823,COLUMN(Anlagen!O:O),0) -> G1 | O6: =VLOOKUP($A6,Anlagen!$A$13:$CU$823,COLUMN(Anlagen!P:P),0) -> 0 | P6: =VLOOKUP($A6,Anlagen!$A$13:$CU$823,COLUMN(Anlagen!Q:Q),0) -> 1607 + 1608 | Q6: =VLOOKUP($A6,Anlagen!$A$13:$CU$823,COLUMN(Anlagen!R:R),0) -> 643 + 644 | R6: =VLOOKUP($A6,Anlagen!$A$13:$CU$823,COLUMN(Anlagen!S:S),0) -> 0 | S6: =VLOOKUP($A6,Anlagen!$A$13:$CU$823,COLUMN(Anlagen!T:T),0) -> 0 | T6: =VLOOKUP($A6,Anlagen!$A$13:$CU$823,COLUMN(Anlagen!U:U),0) -> 0 | U6: =VLOOKUP($A6,Anlagen!$A$13:$CU$823,COLUMN(Anlagen!V:V),0) -> 0 | V6: =VLOOKUP($A6,Anlagen!$A$13:$CU$823,COLUMN(Anlagen!W:W),0) -> 0 | W6: =VLOOKUP($A6,Anlagen!$A$13:$CU$823,COLUMN(Anlagen!X:X),0) -> 0 | X6: =VLOOKUP($A6,Anlagen!$A$13:$CU$823,COLUMN(Anlagen!Y:Y),0) -> 0 | Y6: =VLOOKUP($A6,Anlagen!$A$13:$CU$823,COLUMN(Anlagen!Z:Z),0) -> 0 | Z6: =VLOOKUP($A6,Anlagen!$A$13:$CU$823,COLUMN(Anlagen!AC:AC),0) -> 0 | AA6: =VLOOKUP($A6,Anlagen!$A$13:$CU$823,COLUMN(Anlagen!AD:AD),0) -> 0 | AB6: =VLOOKUP($A6,Anlagen!$A$13:$CU$823,COLUMN(Anlagen!AE:AE),0) -> 0 | AC6: =VLOOKUP($A6,Anlagen!$A$13:$CU$823,COLUMN(Anlagen!AF:AF),0) -> 0 | AD6: =VLOOKUP($A6,Anlagen!$A$13:$CU$823,COLUMN(Anlagen!AG:AG),0) -> 0 | AE6: =VLOOKUP($A6,Anlagen!$A$13:$CU$823,COLUMN(Anlagen!AH:AH),0) -> 0 | AF6: =VLOOKUP($A6,Anlagen!$A$13:$CU$823,COLUMN(Anlagen!AI:AI),0) -> 0 | AG6: =VLOOKUP($A6,Anlagen!$A$13:$CU$823,COLUMN(Anlagen!AJ:AJ),0) -> 0 | AH6: =VLOOKUP($A6,Anlagen!$A$13:$CU$823,COLUMN(Anlagen!AK:AK),0) -> 0 | AI6: =VLOOKUP($A6,Anlagen!$A$13:$CU$823,COLUMN(Anlagen!AL:AL),0) -> 0 | AJ6: =VLOOKUP($A6,Anlagen!$A$13:$CU$823,COLUMN(Anlagen!AM:AM),0) -> 0 | AK6: =VLOOKUP($A6,Anlagen!$A$13:$CU$823,COLUMN(Anlagen!AN:AN),0) -> 0 | AM6: =VLOOKUP($A6,Anlagen!$A$13:$CU$823,COLUMN(Anlagen!AO:AO),0) -> 0 | AN6: =VLOOKUP($A6,Anlagen!$A$13:$CU$823,COLUMN(Anlagen!AP:AP),0) -> 380-500V;3~ | AO6: =VLOOKUP($A6,Anlagen!$A$13:$CU$823,COLUMN(Anlagen!AQ:AQ),0) -> 115V | AP6: =VLOOKUP($A6,Anlagen!$A$13:$CU$823,COLUMN(Anlagen!AR:AR),0) -> S5 + S7 | AQ6: =VLOOKUP($A6,Anlagen!$A$13:$CU$823,COLUMN(Anlagen!AS:AS),0) -> S95U | AR6: =VLOOKUP($A6,Anlagen!$A$13:$CU$823,COLUMN(Anlagen!AT:AT),0) -> 0 | AS6: =VLOOKUP($A6,Anlagen!$A$13:$CU$823,COLUMN(Anlagen!AU:AU),0) -> 0 | AT6: =VLOOKUP($A6,Anlagen!$A$13:$CU$823,COLUMN(Anlagen!AV:AV),0) -> 0 | AU6: =VLOOKUP($A6,Anlagen!$A$13:$CU$823,COLUMN(Anlagen!AW:AW),0) -> 0 | AV6: =VLOOKUP($A6,Anlagen!$A$13:$CU$823,COLUMN(Anlagen!AX:AX),0) -> 0 | AW6: =VLOOKUP($A6,Anlagen!$A$13:$CU$823,COLUMN(Anlagen!AY:AY),0) -> 0 | AX6: =VLOOKUP($A6,Anlagen!$A$13:$CU$823,COLUMN(Anlagen!AZ:AZ),0) -> 0 | AY6: =VLOOKUP($A6,Anlagen!$A$13:$CU$823,COLUMN(Anlagen!BA:BA),0) -> 0 | AZ6: =VLOOKUP($A6,Anlagen!$A$13:$CU$823,COLUMN(Anlagen!BB:BB),0) -> 0 | BA6: =VLOOKUP($A6,Anlagen!$A$13:$CU$823,COLUMN(Anlagen!BC:BC),0) -> 0 | BB6: =VLOOKUP($A6,Anlagen!$A$13:$CU$823,COLUMN(Anlagen!BD:BD),0) -> 0 | BC6: =VLOOKUP($A6,Anlagen!$A$13:$CU$823,COLUMN(Anlagen!BE:BE),0) -> 0 | BD6: =VLOOKUP($A6,Anlagen!$A$13:$CU$823,COLUMN(Anlagen!BF:BF),0) -> 0 | BE6: =VLOOKUP($A6,Anlagen!$A$13:$CU$823,COLUMN(Anlagen!BG:BG),0) -> 0 | BF6: =VLOOKUP($A6,Anlagen!$A$13:$CU$823,COLUMN(Anlagen!BH:BH),0) -> 0 | BG6: =VLOOKUP($A6,Anlagen!$A$13:$CU$823,COLUMN(Anlagen!BI:BI),0) -> Wachenh.-Kirchner 115V | BH6: =VLOOKUP($A6,Anlagen!$A$13:$CU$823,COLUMN(Anlagen!BJ:BJ),0) -> 0 | BI6: =VLOOKUP($A6,Anlagen!$A$13:$CU$823,COLUMN(Anlagen!BK:BK),0) -> 0 | BJ6: =VLOOKUP($A6,Anlagen!$A$13:$CU$823,COLUMN(Anlagen!BL:BL),0) -> 0 | BK6: =VLOOKUP($A6,Anlagen!$A$13:$CU$823,COLUMN(Anlagen!BM:BM),0) -> 0 | BL6: =VLOOKUP($A6,Anlagen!$A$13:$CU$823,COLUMN(Anlagen!BN:BN),0) -> 0 | BM6: =VLOOKUP($A6,Anlagen!$A$13:$CU$823,COLUMN(Anlagen!BO:BO),0) -> 0 | BN6: =VLOOKUP($A6,Anlagen!$A$13:$CU$823,COLUMN(Anlagen!BP:BP),0) -> 0 | BO6: =VLOOKUP($A6,Anlagen!$A$13:$CU$823,COLUMN(Anlagen!BR:BR),0) -> 0 | BP6: =VLOOKUP($A6,Anlagen!$A$13:$CU$823,COLUMN(Anlagen!BS:BS),0) -> 0 | BQ6: =VLOOKUP($A6,Anlagen!$A$13:$CU$823,COLUMN(Anlagen!BT:BT),0) -> 0 | BR6: =VLOOKUP($A6,Anlagen!$A$13:$CU$823,COLUMN(Anlagen!BU:BU),0) -> 0 | BS6: =VLOOKUP($A6,Anlagen!$A$13:$CU$823,COLUMN(Anlagen!BY:BY),0) -> Grün | BT6: =VLOOKUP($A6,Anlagen!$A$13:$CU$823,COLUMN(Anlagen!BZ:BZ),0) -> 4 | BU6: =VLOOKUP($A6,Anlagen!$A$13:$CU$823,COLUMN(Anlagen!CA:CA),0) -> 0 | BV6: =VLOOKUP($A6,Anlagen!$A$13:$CU$823,COLUMN(Anlagen!CB:CB),0) -> Throl 50mm | BW6: =VLOOKUP($A6,Anlagen!$A$13:$CU$823,COLUMN(Anlagen!CC:CC),0) -> 0 | BX6: =VLOOKUP($A6,Anlagen!$A$13:$CU$823,COLUMN(Anlagen!CD:CD),0) -> 0 | BY6: =VLOOKUP($A6,Anlagen!$A$13:$CU$823,COLUMN(Anlagen!CE:CE),0) -> HV (250V) | BZ6: =VLOOKUP($A6,Anlagen!$A$13:$CU$823,COLUMN(Anlagen!CG:CG),0) -> 0 | CA6: =VLOOKUP($A6,Anlagen!$A$13:$CU$823,COLUMN(Anlagen!CH:CH),0) -> 0 | CB6: =VLOOKUP($A6,Anlagen!$A$13:$CU$823,COLUMN(Anlagen!CJ:CJ),0) -> 0 | CC6: =VLOOKUP($A6,Anlagen!$A$13:$CU$823,COLUMN(Anlagen!CK:CK),0) -> 0 | CD6: =VLOOKUP($A6,Anlagen!$A$13:$CU$823,COLUMN(Anlagen!CL:CL),0) -> 0 | CE6: =VLOOKUP($A6,Anlagen!$A$13:$CU$823,COLUMN(Anlagen!CM:CM),0) -> 0 | CF6: =VLOOKUP($A6,Anlagen!$A$13:$CU$823,COLUMN(Anlagen!CN:CN),0) -> 0 | CG6: =VLOOKUP($A6,Anlagen!$A$13:$CU$823,COLUMN(Anlagen!CO:CO),0) -> 0 | CH6: =VLOOKUP($A6,Anlagen!$A$13:$CU$823,COLUMN(Anlagen!CP:CP),0) -> 0 | CI6: =VLOOKUP($A6,Anlagen!$A$13:$CU$823,COLUMN(Anlagen!CQ:CQ),0) -> 0 | CJ6: =VLOOKUP($A6,Anlagen!$A$13:$CU$823,COLUMN(Anlagen!CR:CR),0) -> 23.10.2015 RH | CK6: =VLOOKUP($A6,Anlagen!$A$13:$CU$823,COLUMN(Anlagen!CS:CS),0) -> 0 | CL6: =VLOOKUP($A6,Anlagen!$A$13:$CU$823,COLUMN(Anlagen!CT:CT),0) -> 0 | CM6: =VLOOKUP($A6,Anlagen!$A$13:$CU$823,COLUMN(Anlagen!CU:CU),0) -> 0
A7: ITT#011 | B7: =VLOOKUP($A7,Anlagen!$A$13:$CU$823,COLUMN(Anlagen!B:B),0) -> ITT2 | C7: =VLOOKUP($A7,Anlagen!$A$13:$CU$823,COLUMN(Anlagen!C:C),0) -> 0 | D7: =VLOOKUP($A7,Anlagen!$A$13:$CU$823,COLUMN(Anlagen!D:D),0) -> 0 | E7: =VLOOKUP($A7,Anlagen!$A$13:$CU$823,COLUMN(Anlagen!F:F),0) -> Standards Testing Labs STL | F7: =VLOOKUP($A7,Anlagen!$A$13:$CU$823,COLUMN(Anlagen!G:G),0) -> Massillon, OH | G7: =VLOOKUP($A7,Anlagen!$A$13:$CU$823,COLUMN(Anlagen!H:H),0) -> USA | H7: =VLOOKUP($A7,Anlagen!$A$13:$CU$823,COLUMN(Anlagen!I:I),0) -> 0 | I7: =VLOOKUP($A7,Anlagen!$A$13:$CU$823,COLUMN(Anlagen!J:J),0) -> 0 | J7: =VLOOKUP($A7,Anlagen!$A$13:$CU$823,COLUMN(Anlagen!K:K),0) -> 2000 | K7: =VLOOKUP($A7,Anlagen!$A$13:$CU$823,COLUMN(Anlagen!L:L),0) -> 0 | L7: =VLOOKUP($A7,Anlagen!$A$13:$CU$823,COLUMN(Anlagen!M:M),0) -> 0 | M7: =VLOOKUP($A7,Anlagen!$A$13:$CU$823,COLUMN(Anlagen!N:N),0) -> 0 | N7: =VLOOKUP($A7,Anlagen!$A$13:$CU$823,COLUMN(Anlagen!O:O),0) -> G1 | O7: =VLOOKUP($A7,Anlagen!$A$13:$CU$823,COLUMN(Anlagen!P:P),0) -> 0 | P7: =VLOOKUP($A7,Anlagen!$A$13:$CU$823,COLUMN(Anlagen!Q:Q),0) -> 0 | Q7: =VLOOKUP($A7,Anlagen!$A$13:$CU$823,COLUMN(Anlagen!R:R),0) -> 0 | R7: =VLOOKUP($A7,Anlagen!$A$13:$CU$823,COLUMN(Anlagen!S:S),0) -> 0 | S7: =VLOOKUP($A7,Anlagen!$A$13:$CU$823,COLUMN(Anlagen!T:T),0) -> 0 | T7: =VLOOKUP($A7,Anlagen!$A$13:$CU$823,COLUMN(Anlagen!U:U),0) -> 0 | U7: =VLOOKUP($A7,Anlagen!$A$13:$CU$823,COLUMN(Anlagen!V:V),0) -> 0 | V7: =VLOOKUP($A7,Anlagen!$A$13:$CU$823,COLUMN(Anlagen!W:W),0) -> 0 | W7: =VLOOKUP($A7,Anlagen!$A$13:$CU$823,COLUMN(Anlagen!X:X),0) -> 0 | X7: =VLOOKUP($A7,Anlagen!$A$13:$CU$823,COLUMN(Anlagen!Y:Y),0) -> 0 | Y7: =VLOOKUP($A7,Anlagen!$A$13:$CU$823,COLUMN(Anlagen!Z:Z),0) -> 0 | Z7: =VLOOKUP($A7,Anlagen!$A$13:$CU$823,COLUMN(Anlagen!AC:AC),0) -> 0 | AA7: =VLOOKUP($A7,Anlagen!$A$13:$CU$823,COLUMN(Anlagen!AD:AD),0) -> 0 | AB7: =VLOOKUP($A7,Anlagen!$A$13:$CU$823,COLUMN(Anlagen!AE:AE),0) -> 0 | AC7: =VLOOKUP($A7,Anlagen!$A$13:$CU$823,COLUMN(Anlagen!AF:AF),0) -> 0 | AD7: =VLOOKUP($A7,Anlagen!$A$13:$CU$823,COLUMN(Anlagen!AG:AG),0) -> 0 | AE7: =VLOOKUP($A7,Anlagen!$A$13:$CU$823,COLUMN(Anlagen!AH:AH),0) -> 0 | AF7: =VLOOKUP($A7,Anlagen!$A$13:$CU$823,COLUMN(Anlagen!AI:AI),0) -> 0 | AG7: =VLOOKUP($A7,Anlagen!$A$13:$CU$823,COLUMN(Anlagen!AJ:AJ),0) -> 0 | AH7: =VLOOKUP($A7,Anlagen!$A$13:$CU$823,COLUMN(Anlagen!AK:AK),0) -> 0 | AI7: =VLOOKUP($A7,Anlagen!$A$13:$CU$823,COLUMN(Anlagen!AL:AL),0) -> 0 | AJ7: =VLOOKUP($A7,Anlagen!$A$13:$CU$823,COLUMN(Anlagen!AM:AM),0) -> 0 | AK7: =VLOOKUP($A7,Anlagen!$A$13:$CU$823,COLUMN(Anlagen!AN:AN),0) -> 0 | AM7: =VLOOKUP($A7,Anlagen!$A$13:$CU$823,COLUMN(Anlagen!AO:AO),0) -> 0 | AN7: =VLOOKUP($A7,Anlagen!$A$13:$CU$823,COLUMN(Anlagen!AP:AP),0) -> 0 | AO7: =VLOOKUP($A7,Anlagen!$A$13:$CU$823,COLUMN(Anlagen!AQ:AQ),0) -> 0 | AP7: =VLOOKUP($A7,Anlagen!$A$13:$CU$823,COLUMN(Anlagen!AR:AR),0) -> 0 | AQ7: =VLOOKUP($A7,Anlagen!$A$13:$CU$823,COLUMN(Anlagen!AS:AS),0) -> 0 | AR7: =VLOOKUP($A7,Anlagen!$A$13:$CU$823,COLUMN(Anlagen!AT:AT),0) -> 0 | AS7: =VLOOKUP($A7,Anlagen!$A$13:$CU$823,COLUMN(Anlagen!AU:AU),0) -> 0 | AT7: =VLOOKUP($A7,Anlagen!$A$13:$CU$823,COLUMN(Anlagen!AV:AV),0) -> 0 | AU7: =VLOOKUP($A7,Anlagen!$A$13:$CU$823,COLUMN(Anlagen!AW:AW),0) -> 0 | AV7: =VLOOKUP($A7,Anlagen!$A$13:$CU$823,COLUMN(Anlagen!AX:AX),0) -> 0 | AW7: =VLOOKUP($A7,Anlagen!$A$13:$CU$823,COLUMN(Anlagen!AY:AY),0) -> 0 | AX7: =VLOOKUP($A7,Anlagen!$A$13:$CU$823,COLUMN(Anlagen!AZ:AZ),0) -> 0 | AY7: =VLOOKUP($A7,Anlagen!$A$13:$CU$823,COLUMN(Anlagen!BA:BA),0) -> 0 | AZ7: =VLOOKUP($A7,Anlagen!$A$13:$CU$823,COLUMN(Anlagen!BB:BB),0) -> 0 | BA7: =VLOOKUP($A7,Anlagen!$A$13:$CU$823,COLUMN(Anlagen!BC:BC),0) -> 0 | BB7: =VLOOKUP($A7,Anlagen!$A$13:$CU$823,COLUMN(Anlagen!BD:BD),0) -> 0 | BC7: =VLOOKUP($A7,Anlagen!$A$13:$CU$823,COLUMN(Anlagen!BE:BE),0) -> 0 | BD7: =VLOOKUP($A7,Anlagen!$A$13:$CU$823,COLUMN(Anlagen!BF:BF),0) -> 0 | BE7: =VLOOKUP($A7,Anlagen!$A$13:$CU$823,COLUMN(Anlagen!BG:BG),0) -> 0 | BF7: =VLOOKUP($A7,Anlagen!$A$13:$CU$823,COLUMN(Anlagen!BH:BH),0) -> 0 | BG7: =VLOOKUP($A7,Anlagen!$A$13:$CU$823,COLUMN(Anlagen!BI:BI),0) -> 0 | BH7: =VLOOKUP($A7,Anlagen!$A$13:$CU$823,COLUMN(Anlagen!BJ:BJ),0) -> 0 | BI7: =VLOOKUP($A7,Anlagen!$A$13:$CU$823,COLUMN(Anlagen!BK:BK),0) -> 0 | BJ7: =VLOOKUP($A7,Anlagen!$A$13:$CU$823,COLUMN(Anlagen!BL:BL),0) -> 0 | BK7: =VLOOKUP($A7,Anlagen!$A$13:$CU$823,COLUMN(Anlagen!BM:BM),0) -> 0 | BL7: =VLOOKUP($A7,Anlagen!$A$13:$CU$823,COLUMN(Anlagen!BN:BN),0) -> 0 | BM7: =VLOOKUP($A7,Anlagen!$A$13:$CU$823,COLUMN(Anlagen!BO:BO),0) -> 0 | BN7: =VLOOKUP($A7,Anlagen!$A$13:$CU$823,COLUMN(Anlagen!BP:BP),0) -> 0 | BO7: =VLOOKUP($A7,Anlagen!$A$13:$CU$823,COLUMN(Anlagen!BR:BR),0) -> 0 | BP7: =VLOOKUP($A7,Anlagen!$A$13:$CU$823,COLUMN(Anlagen!BS:BS),0) -> 0 | BQ7: =VLOOKUP($A7,Anlagen!$A$13:$CU$823,COLUMN(Anlagen!BT:BT),0) -> 0 | BR7: =VLOOKUP($A7,Anlagen!$A$13:$CU$823,COLUMN(Anlagen!BU:BU),0) -> 0 | BS7: =VLOOKUP($A7,Anlagen!$A$13:$CU$823,COLUMN(Anlagen!BY:BY),0) -> 0 | BT7: =VLOOKUP($A7,Anlagen!$A$13:$CU$823,COLUMN(Anlagen!BZ:BZ),0) -> 0 | BU7: =VLOOKUP($A7,Anlagen!$A$13:$CU$823,COLUMN(Anlagen!CA:CA),0) -> 0 | BV7: =VLOOKUP($A7,Anlagen!$A$13:$CU$823,COLUMN(Anlagen!CB:CB),0) -> Throl 50mm | BW7: =VLOOKUP($A7,Anlagen!$A$13:$CU$823,COLUMN(Anlagen!CC:CC),0) -> 0 | BX7: =VLOOKUP($A7,Anlagen!$A$13:$CU$823,COLUMN(Anlagen!CD:CD),0) -> 0 | BY7: =VLOOKUP($A7,Anlagen!$A$13:$CU$823,COLUMN(Anlagen!CE:CE),0) -> HV (250V) | BZ7: =VLOOKUP($A7,Anlagen!$A$13:$CU$823,COLUMN(Anlagen!CG:CG),0) -> 0 | CA7: =VLOOKUP($A7,Anlagen!$A$13:$CU$823,COLUMN(Anlagen!CH:CH),0) -> 0 | CB7: =VLOOKUP($A7,Anlagen!$A$13:$CU$823,COLUMN(Anlagen!CJ:CJ),0) -> 0 | CC7: =VLOOKUP($A7,Anlagen!$A$13:$CU$823,COLUMN(Anlagen!CK:CK),0) -> 0 | CD7: =VLOOKUP($A7,Anlagen!$A$13:$CU$823,COLUMN(Anlagen!CL:CL),0) -> 0 | CE7: =VLOOKUP($A7,Anlagen!$A$13:$CU$823,COLUMN(Anlagen!CM:CM),0) -> 0 | CF7: =VLOOKUP($A7,Anlagen!$A$13:$CU$823,COLUMN(Anlagen!CN:CN),0) -> 0 | CG7: =VLOOKUP($A7,Anlagen!$A$13:$CU$823,COLUMN(Anlagen!CO:CO),0) -> 0 | CH7: =VLOOKUP($A7,Anlagen!$A$13:$CU$823,COLUMN(Anlagen!CP:CP),0) -> 0 | CI7: =VLOOKUP($A7,Anlagen!$A$13:$CU$823,COLUMN(Anlagen!CQ:CQ),0) -> 0 | CJ7: =VLOOKUP($A7,Anlagen!$A$13:$CU$823,COLUMN(Anlagen!CR:CR),0) -> 0 | CK7: =VLOOKUP($A7,Anlagen!$A$13:$CU$823,COLUMN(Anlagen!CS:CS),0) -> 0 | CL7: =VLOOKUP($A7,Anlagen!$A$13:$CU$823,COLUMN(Anlagen!CT:CT),0) -> 0 | CM7: =VLOOKUP($A7,Anlagen!$A$13:$CU$823,COLUMN(Anlagen!CU:CU),0) -> 0
A8: ITT#014 | B8: =VLOOKUP($A8,Anlagen!$A$13:$CU$823,COLUMN(Anlagen!B:B),0) -> ITT2 | C8: =VLOOKUP($A8,Anlagen!$A$13:$CU$823,COLUMN(Anlagen!C:C),0) -> 0 | D8: =VLOOKUP($A8,Anlagen!$A$13:$CU$823,COLUMN(Anlagen!D:D),0) -> 0 | E8: =VLOOKUP($A8,Anlagen!$A$13:$CU$823,COLUMN(Anlagen!F:F),0) -> BF Goodrich / Michelin | F8: =VLOOKUP($A8,Anlagen!$A$13:$CU$823,COLUMN(Anlagen!G:G),0) -> Tuscaloosa | G8: =VLOOKUP($A8,Anlagen!$A$13:$CU$823,COLUMN(Anlagen!H:H),0) -> USA | H8: =VLOOKUP($A8,Anlagen!$A$13:$CU$823,COLUMN(Anlagen!I:I),0) -> 0 | I8: =VLOOKUP($A8,Anlagen!$A$13:$CU$823,COLUMN(Anlagen!J:J),0) -> 0 | J8: =VLOOKUP($A8,Anlagen!$A$13:$CU$823,COLUMN(Anlagen!K:K),0) -> 0 | K8: =VLOOKUP($A8,Anlagen!$A$13:$CU$823,COLUMN(Anlagen!L:L),0) -> 0 | L8: =VLOOKUP($A8,Anlagen!$A$13:$CU$823,COLUMN(Anlagen!M:M),0) -> 0 | M8: =VLOOKUP($A8,Anlagen!$A$13:$CU$823,COLUMN(Anlagen!N:N),0) -> 0 | N8: =VLOOKUP($A8,Anlagen!$A$13:$CU$823,COLUMN(Anlagen!O:O),0) -> G1 | O8: =VLOOKUP($A8,Anlagen!$A$13:$CU$823,COLUMN(Anlagen!P:P),0) -> 0 | P8: =VLOOKUP($A8,Anlagen!$A$13:$CU$823,COLUMN(Anlagen!Q:Q),0) -> 0 | Q8: =VLOOKUP($A8,Anlagen!$A$13:$CU$823,COLUMN(Anlagen!R:R),0) -> 0 | R8: =VLOOKUP($A8,Anlagen!$A$13:$CU$823,COLUMN(Anlagen!S:S),0) -> 0 | S8: =VLOOKUP($A8,Anlagen!$A$13:$CU$823,COLUMN(Anlagen!T:T),0) -> 0 | T8: =VLOOKUP($A8,Anlagen!$A$13:$CU$823,COLUMN(Anlagen!U:U),0) -> 0 | U8: =VLOOKUP($A8,Anlagen!$A$13:$CU$823,COLUMN(Anlagen!V:V),0) -> 0 | V8: =VLOOKUP($A8,Anlagen!$A$13:$CU$823,COLUMN(Anlagen!W:W),0) -> 0 | W8: =VLOOKUP($A8,Anlagen!$A$13:$CU$823,COLUMN(Anlagen!X:X),0) -> 0 | X8: =VLOOKUP($A8,Anlagen!$A$13:$CU$823,COLUMN(Anlagen!Y:Y),0) -> 0 | Y8: =VLOOKUP($A8,Anlagen!$A$13:$CU$823,COLUMN(Anlagen!Z:Z),0) -> 0 | Z8: =VLOOKUP($A8,Anlagen!$A$13:$CU$823,COLUMN(Anlagen!AC:AC),0) -> 0 | AA8: =VLOOKUP($A8,Anlagen!$A$13:$CU$823,COLUMN(Anlagen!AD:AD),0) -> 0 | AB8: =VLOOKUP($A8,Anlagen!$A$13:$CU$823,COLUMN(Anlagen!AE:AE),0) -> 0 | AC8: =VLOOKUP($A8,Anlagen!$A$13:$CU$823,COLUMN(Anlagen!AF:AF),0) -> 0 | AD8: =VLOOKUP($A8,Anlagen!$A$13:$CU$823,COLUMN(Anlagen!AG:AG),0) -> 0 | AE8: =VLOOKUP($A8,Anlagen!$A$13:$CU$823,COLUMN(Anlagen!AH:AH),0) -> 0 | AF8: =VLOOKUP($A8,Anlagen!$A$13:$CU$823,COLUMN(Anlagen!AI:AI),0) -> 0 | AG8: =VLOOKUP($A8,Anlagen!$A$13:$CU$823,COLUMN(Anlagen!AJ:AJ),0) -> 0 | AH8: =VLOOKUP($A8,Anlagen!$A$13:$CU$823,COLUMN(Anlagen!AK:AK),0) -> 0 | AI8: =VLOOKUP($A8,Anlagen!$A$13:$CU$823,COLUMN(Anlagen!AL:AL),0) -> 0 | AJ8: =VLOOKUP($A8,Anlagen!$A$13:$CU$823,COLUMN(Anlagen!AM:AM),0) -> 0 | AK8: =VLOOKUP($A8,Anlagen!$A$13:$CU$823,COLUMN(Anlagen!AN:AN),0) -> 0 | AM8: =VLOOKUP($A8,Anlagen!$A$13:$CU$823,COLUMN(Anlagen!AO:AO),0) -> 0 | AN8: =VLOOKUP($A8,Anlagen!$A$13:$CU$823,COLUMN(Anlagen!AP:AP),0) -> 0 | AO8: =VLOOKUP($A8,Anlagen!$A$13:$CU$823,COLUMN(Anlagen!AQ:AQ),0) -> 0 | AP8: =VLOOKUP($A8,Anlagen!$A$13:$CU$823,COLUMN(Anlagen!AR:AR),0) -> 0 | AQ8: =VLOOKUP($A8,Anlagen!$A$13:$CU$823,COLUMN(Anlagen!AS:AS),0) -> 0 | AR8: =VLOOKUP($A8,Anlagen!$A$13:$CU$823,COLUMN(Anlagen!AT:AT),0) -> 0 | AS8: =VLOOKUP($A8,Anlagen!$A$13:$CU$823,COLUMN(Anlagen!AU:AU),0) -> 0 | AT8: =VLOOKUP($A8,Anlagen!$A$13:$CU$823,COLUMN(Anlagen!AV:AV),0) -> 0 | AU8: =VLOOKUP($A8,Anlagen!$A$13:$CU$823,COLUMN(Anlagen!AW:AW),0) -> 0 | AV8: =VLOOKUP($A8,Anlagen!$A$13:$CU$823,COLUMN(Anlagen!AX:AX),0) -> 0 | AW8: =VLOOKUP($A8,Anlagen!$A$13:$CU$823,COLUMN(Anlagen!AY:AY),0) -> 0 | AX8: =VLOOKUP($A8,Anlagen!$A$13:$CU$823,COLUMN(Anlagen!AZ:AZ),0) -> 0 | AY8: =VLOOKUP($A8,Anlagen!$A$13:$CU$823,COLUMN(Anlagen!BA:BA),0) -> 0 | AZ8: =VLOOKUP($A8,Anlagen!$A$13:$CU$823,COLUMN(Anlagen!BB:BB),0) -> 0 | BA8: =VLOOKUP($A8,Anlagen!$A$13:$CU$823,COLUMN(Anlagen!BC:BC),0) -> 0 | BB8: =VLOOKUP($A8,Anlagen!$A$13:$CU$823,COLUMN(Anlagen!BD:BD),0) -> 0 | BC8: =VLOOKUP($A8,Anlagen!$A$13:$CU$823,COLUMN(Anlagen!BE:BE),0) -> 0 | BD8: =VLOOKUP($A8,Anlagen!$A$13:$CU$823,COLUMN(Anlagen!BF:BF),0) -> 0 | BE8: =VLOOKUP($A8,Anlagen!$A$13:$CU$823,COLUMN(Anlagen!BG:BG),0) -> 0 | BF8: =VLOOKUP($A8,Anlagen!$A$13:$CU$823,COLUMN(Anlagen!BH:BH),0) -> 0 | BG8: =VLOOKUP($A8,Anlagen!$A$13:$CU$823,COLUMN(Anlagen!BI:BI),0) -> 0 | BH8: =VLOOKUP($A8,Anlagen!$A$13:$CU$823,COLUMN(Anlagen!BJ:BJ),0) -> 0 | BI8: =VLOOKUP($A8,Anlagen!$A$13:$CU$823,COLUMN(Anlagen!BK:BK),0) -> 0 | BJ8: =VLOOKUP($A8,Anlagen!$A$13:$CU$823,COLUMN(Anlagen!BL:BL),0) -> 0 | BK8: =VLOOKUP($A8,Anlagen!$A$13:$CU$823,COLUMN(Anlagen!BM:BM),0) -> 0 | BL8: =VLOOKUP($A8,Anlagen!$A$13:$CU$823,COLUMN(Anlagen!BN:BN),0) -> 0 | BM8: =VLOOKUP($A8,Anlagen!$A$13:$CU$823,COLUMN(Anlagen!BO:BO),0) -> 0 | BN8: =VLOOKUP($A8,Anlagen!$A$13:$CU$823,COLUMN(Anlagen!BP:BP),0) -> 0 | BO8: =VLOOKUP($A8,Anlagen!$A$13:$CU$823,COLUMN(Anlagen!BR:BR),0) -> 0 | BP8: =VLOOKUP($A8,Anlagen!$A$13:$CU$823,COLUMN(Anlagen!BS:BS),0) -> 0 | BQ8: =VLOOKUP($A8,Anlagen!$A$13:$CU$823,COLUMN(Anlagen!BT:BT),0) -> 0 | BR8: =VLOOKUP($A8,Anlagen!$A$13:$CU$823,COLUMN(Anlagen!BU:BU),0) -> 0 | BS8: =VLOOKUP($A8,Anlagen!$A$13:$CU$823,COLUMN(Anlagen!BY:BY),0) -> 0 | BT8: =VLOOKUP($A8,Anlagen!$A$13:$CU$823,COLUMN(Anlagen!BZ:BZ),0) -> 0 | BU8: =VLOOKUP($A8,Anlagen!$A$13:$CU$823,COLUMN(Anlagen!CA:CA),0) -> 0 | BV8: =VLOOKUP($A8,Anlagen!$A$13:$CU$823,COLUMN(Anlagen!CB:CB),0) -> Throl 50mm | BW8: =VLOOKUP($A8,Anlagen!$A$13:$CU$823,COLUMN(Anlagen!CC:CC),0) -> 0 | BX8: =VLOOKUP($A8,Anlagen!$A$13:$CU$823,COLUMN(Anlagen!CD:CD),0) -> 0 | BY8: =VLOOKUP($A8,Anlagen!$A$13:$CU$823,COLUMN(Anlagen!CE:CE),0) -> HV (250V) | BZ8: =VLOOKUP($A8,Anlagen!$A$13:$CU$823,COLUMN(Anlagen!CG:CG),0) -> 0 | CA8: =VLOOKUP($A8,Anlagen!$A$13:$CU$823,COLUMN(Anlagen!CH:CH),0) -> 0 | CB8: =VLOOKUP($A8,Anlagen!$A$13:$CU$823,COLUMN(Anlagen!CJ:CJ),0) -> 0 | CC8: =VLOOKUP($A8,Anlagen!$A$13:$CU$823,COLUMN(Anlagen!CK:CK),0) -> 0 | CD8: =VLOOKUP($A8,Anlagen!$A$13:$CU$823,COLUMN(Anlagen!CL:CL),0) -> 0 | CE8: =VLOOKUP($A8,Anlagen!$A$13:$CU$823,COLUMN(Anlagen!CM:CM),0) -> 0 | CF8: =VLOOKUP($A8,Anlagen!$A$13:$CU$823,COLUMN(Anlagen!CN:CN),0) -> 0 | CG8: =VLOOKUP($A8,Anlagen!$A$13:$CU$823,COLUMN(Anlagen!CO:CO),0) -> 0 | CH8: =VLOOKUP($A8,Anlagen!$A$13:$CU$823,COLUMN(Anlagen!CP:CP),0) -> 0 | CI8: =VLOOKUP($A8,Anlagen!$A$13:$CU$823,COLUMN(Anlagen!CQ:CQ),0) -> 0 | CJ8: =VLOOKUP($A8,Anlagen!$A$13:$CU$823,COLUMN(Anlagen!CR:CR),0) -> 0 | CK8: =VLOOKUP($A8,Anlagen!$A$13:$CU$823,COLUMN(Anlagen!CS:CS),0) -> 0 | CL8: =VLOOKUP($A8,Anlagen!$A$13:$CU$823,COLUMN(Anlagen!CT:CT),0) -> 0 | CM8: =VLOOKUP($A8,Anlagen!$A$13:$CU$823,COLUMN(Anlagen!CU:CU),0) -> 0
